Workbook

Sheet Stundensatzrechner
B2: Eingaben für die Berechnung des Stundensatzes
G10: =(Gewerbesteuer!C28) -> 4.8
C15: Stundensatzrechner für Dienstleister
C17: Grundlage für die Berechung des Stundensatzes
D18: =Einkommensteuer!$I$7&", "&Gewerbesteuer!$B$6 -> Ledig, Freiberufler
D19: =IF(Gewerbesteuer!A1=3,"",Gewerbesteuer!$B$28&", "&Gewerbesteuer!$C$28*100&"% Hebesatz")
E21: Monat | G21: Jahr
C22: 1. | D22: Gewinnermittlung
D23: Notwendiges Nettoeinkommen | G23: =E23*Einkommensteuer!C8 -> 0
D24: Einkommensteuer inkl. Solidaritätszuschlag | E24: =(G24/Einkommensteuer!C8) -> 0 | G24: =IF(Einkommensteuer!F3=1,Einkommensteuer!E4,Einkommensteuer!E6) -> 0
D25: =IF(Gewerbesteuer!A1=3,"","Gewerbesteuer (ohne Hinzurechnungen und Kürzungen)") | E25: =IF(Gewerbesteuer!A1=3,"",(G25/Einkommensteuer!C8)) | G25: =IF(Gewerbesteuer!A1=3,"",IF(Gewerbesteuer!$A$1=1,Gewerbesteuer!G19,IF(Gewerbesteuer!$A$1=2,Gewerbesteuer!G19,IF(Gewerbesteuer!$A$1=3,0,0))))
D27: Gewinn | G27: =IF(G25="",G23+G24,G23+G24+G25) -> 0
C29: 2. | D29: Betriebliche Ausgaben
D30: Personal | E30: 0 | G30: =E30*Einkommensteuer!$C$8 -> 0
D31: Raumkosten | E31: 0 | G31: =E31*Einkommensteuer!$C$8 -> 0
D32: Werbung | E32: 0 | G32: =E32*Einkommensteuer!$C$8 -> 0
D33: Fahrzeugkosten | E33: 0 | G33: =E33*Einkommensteuer!$C$8 -> 0
D34: Reisekosten | E34: 0 | G34: =E34*Einkommensteuer!$C$8 -> 0
D35: Telekommunikation, Internet | E35: 0 | G35: =E35*Einkommensteuer!$C$8 -> 0
D36: Bürobedarf | E36: 0 | G36: =E36*Einkommensteuer!$C$8 -> 0
D37: betriebsnotwendige Versicherungen | E37: 0 | G37: =E37*Einkommensteuer!$C$8 -> 0
D38: Abschreibungen | E38: 0 | G38: =E38*Einkommensteuer!$C$8 -> 0
D39: Steuerberater, inkl. Jahresabschluss | E39: 0 | G39: =E39*Einkommensteuer!$C$8 -> 0
D40: Sonstiges | E40: 0 | G40: =E40*Einkommensteuer!$C$8 -> 0
D42: Summe | E42: =SUM(E30:E41) -> 0 | G42: =SUM(G30:G41) -> 0
C44: 3. | D44: Umsatz (Gewinn plus betriebl. Ausgaben) | G44: =G27+G42 -> 0
C47: 4. | D47: Arbeitsstunden
D48: Tage/Jahr | G48: 365
D49: abzüglich Wochenenden | G49: 104
D50: Feiertage | G50: 10
D51: Urlaubstage | G51: 20
D53: Arbeitstage | G53: =G48-G49-G50-G51 -> 231
D54: abzüglich Krankheitstage | G54: 5
D56: zur Verfügung stehende Arbeitstage | G56: =G53-G54 -> 226
C58: 5. | D58: Arbeitsstunden
D59: Arbeitsstunden pro Tag | G59: 8
D60: Arbeitsstunden pro Jahr | G60: =G56*G59 -> 1808
D61: Auslastung in Prozent | G61: 60
D63: Produktive Arbeitsstunden | G63: =G60*G61/100 -> 1084.8
C66: 6. | D66: Stundensatzermittlung
...

Sheet Gewerbesteuer
A1: 3 | B1: Rechtsformen: Kapitalgesellschaften, Personengesellschaften, Freiberufler
A3: 1 | B3: Kapitalgesellschaft
A4: 2 | B4: Personengesellschaft
A5: 3 | B5: Freiberufler
B6: =LOOKUP(A1,A3:A5,B3:B5) -> Freiberufler
A8: 1 | B8: Brüggen | C8: 4.17 | F8: Gewerbesteuer
A9: 2 | B9: Dormagen | C9: 4.5
A10: 3 | B10: Grefrath | C10: 4.55 | G10: Kapitalgesellschaft
A11: 4 | B11: Grevenbroich | C11: 4.5 | G11: Personengesellschaft
A12: 5 | B12: Jüchen | C12: 4.5 | F12: Gewerbeertrag | G12: =(Stundensatzrechner!G23) -> 0
A13: 6 | B13: Kaarst | C13: 4.44 | F13: Gerundeter Gewerbeertrag | G13: =ROUND(G12,-2) -> 0
A14: 7 | B14: Kempen | C14: 4.4 | F14: Abzüglich Freibetrag | G14: =IF(A1=1,0,IF(A1=2,24500,IF(A1=3,0,0))) -> 0
A15: 8 | B15: Korschenbroich | C15: 4.5 | F15: Korrigierter Gewerbertrag | G15: =IF(G13-G14<0,0,G13-G14) -> 0
A16: 9 | B16: Krefeld | C16: 4.8 | F16: Steuermesszahl | G16: 0.035
A17: 10 | B17: Meerbusch | C17: 4.5 | F17: Steuermessbetrag | G17: =(G15*G16) -> 0
A18: 11 | B18: Mönchengladbach | C18: 4.9 | F18: Hebesatz der Gemeinde/Stadt | G18: =(C28) -> 4.8
A19: 12 | B19: Nettetal | C19: 4.1 | F19: Gewerbesteuerschuld | G19: =(G17*G18) -> 0
A20: 13 | B20: Neuss | C20: 4.55
A21: 14 | B21: Niederkrüchten | C21: 4.2
A22: 15 | B22: Rommerskirchen | C22: 4.5
A23: 16 | B23: Schwalmtal | C23: 4.2
A24: 17 | B24: Tönisvorst | C24: 4.75
A25: 18 | B25: Viersen | C25: 4.5
A26: 19 | B26: Willich | C26: 4.39
A28: 9 | B28: =LOOKUP(A28,A8:A26,B8:B26) -> Krefeld | C28: =LOOKUP(A28,A8:A26,C8:C26) -> 4.8

Sheet Einkommensteuer
B3: ESt. | C3: Soli | D3: Gesamt | F3: 1 | G3: Verheiratet/Ledig
B4: =IF(Stundensatzrechner!$G$23<C9,0,IF(Stundensatzrechner!$G$23<D9,E13,IF(Stundensatzrechner!$G$23<C11,E16,IF(Stundensatzrechner!$G$23<D11,E19,IF(Stundensatzrechner!$G$23>D11,E23,0))))) -> 0 | C4: =IF(B4>F9,(B4*E9),0) -> 0 | D4: =SUM(B4:C4) -> 0 | E4: =ROUND(D4,-0.1) -> 0 | F4: Ledig | H4: 1 | I4: Ledig
H5: 2 | I5: Verheiratet
B6: =IF(Stundensatzrechner!$G$23<C9*2,0,IF(Stundensatzrechner!$G$23<D9*2,G31,IF(Stundensatzrechner!$G$23<C11*2,G34,IF(Stundensatzrechner!$G$23<D11*2,G37,IF(Stundensatzrechner!$G$23>D11*2,G41,0))))) -> 0 | C6: =IF(B6>G9,(B6*E9),0) -> 0 | D6: =SUM(B6:C6) -> 0 | E6: =ROUND(D6,-0.1) -> 0 | F6: Verheiratet
B7: Umsatzsteuersatz | C7: 19 | I7: =LOOKUP(F3,H4:H5,I4:I5) -> Ledig
B8: Anzahl Monate | C8: 12 | E8: Soli | F8: Soli Ledig | G8: Soli Verh.
B9: bis 9.000 Euro ESt=0 € | C9: 9000 | D9: 13996 | E9: 0.055 | F9: 972 | G9: 1944
C11: 54949 | D11: 260532
E12: ledig | F12: Steuersatz
B13: von 8.005 Euro bis 13.469 Euro | C13: (912,17*Y + 1.400)*Y | E13: =(F49*E14+G49)*E14 -> -451.782 | F13: =E13*100/Stundensatzrechner!G23 -> #DIV/0!
C14: Y=(zvE - 8.004)/10.000 | E14: =((Stundensatzrechner!G23-C9)/G50) -> -0.9
B16: von 13.470 Euro bis 52.881 Euro | C16: (228,74*Y + 2.397)*Y + 1.038 | E16: =((F52*E17+G52)*E17+H52) -> -1975.1429 | F16: =E16*100/Stundensatzrechner!G23 -> #DIV/0!
C17: Y=(zvE - 13.469)/10.000 | E17: =((Stundensatzrechner!G23-D9)/G53) -> -1.3996
B19: von 52.882 Euro bis 250.730 Euro | C19: 0,42*zvE - 8.196 | E19: =(G55*Stundensatzrechner!G23-F55) -> -8621.75 | F19: =E19*100/Stundensatzrechner!G23 -> #DIV/0!
B23: ab 250.731 Euro | C23: 0,45*zvE - 15.718 | E23: =(G57*Stundensatzrechner!G23-F57) -> -16437.7 | F23: =E23*100/Stundensatzrechner!G23 -> #DIV/0!
B27: Verheiratet
B29: =Stundensatzrechner!G23/2 -> 0 | C29: Nettoeinkommen F5/2
B31: von 8.005 Euro bis 13.469 Euro | C31: (912,17*Y + 1.400)*Y | E31: =(F49*E32+G49)*E32 -> -451.782 | F31: =E31*100/B29 -> #DIV/0! | G31: =Stundensatzrechner!$G$23*F31/100 -> #DIV/0! | H31: =ROUND(G31,-0.1) -> #DIV/0!
C32: Y=(zvE - 8.004)/10.000 | E32: =((B29-C9)/G50) -> -0.9
B34: von 13.470 Euro bis 52.881 Euro | C34: (228,74*Y + 2.397)*Y + 1.038 | E34: =((F52*E35+G52)*E35+H52) -> -1975.1429 | F34: =E34*100/B29 -> #DIV/0! | G34: =Stundensatzrechner!$G$23*F34/100 -> #DIV/0! | H34: =ROUND(G34,-0.1) -> #DIV/0!
C35: Y=(zvE - 13.469)/10.000 | E35: =((B29-D9)/G53) -> -1.3996
B37: von 52.882 Euro bis 250.730 Euro | C37: 0,42*zvE - 8.172 | E37: =(G55*B29-F55) -> -8621.75 | F37: =E37*100/B29 -> #DIV/0! | G37: =Stundensatzrechner!$G$23*F37/100 -> #DIV/0! | H37: =ROUND(G37,-0.1) -> #DIV/0!
B41: ab 250.731 Euro | C41: 0,45*zvE - 15.694 | E41: =(G57*B29-F57) -> -16437.7 | F41: =E41*100/B29 -> #DIV/0! | G41: =Stundensatzrechner!$G$23*F41/100 -> #DIV/0! | H41: =ROUND(G41,-0.1) -> #DIV/0!
B45: Steuerformeln
B47: bis 8.354 Euro | C47: 0
B49: von 8.355 Euro bis 13.469 Euro | C49: (933,70*Y + 1.400)*Y | F49: 997.8 | G49: 1400 | I49: =C9 -> 9000 | J49: =D9 -> 13996
C50: Y=(zvE - 8.354)/10.000 | G50: 10000
B52: von 13.470 Euro bis 52.881 Euro | C52: (228,74*Y + 2.397)*Y + 1.014 | F52: 220.13 | G52: 2397 | H52: 948.49 | I52: =D9+1 -> 13997 | J52: =C11 -> 54949
C53: Y=(zvE - 13.469)/10.000 | G53: 10000
B55: von 52.882 Euro bis 250.730 Euro | C55: 0,42*zvE - 8.196 | F55: 8621.75 | G55: 0.42 | I55: =C11+1 -> 54950 | J55: =D11 -> 260532
B57: ab 250.731 Euro | C57: 0,45*zvE - 15.718 | F57: 16437.7 | G57: 0.45 | I57: =D11+1 -> 260533
