Workbook

Sheet Kriterien und Konfiguration
B2: Mitarbeiterbeurteilung; Kriterien
B7: Bewertung | C7: zu bewertende Kriterien
B8: Ausbaufähig | C8: Loyalität
B9: Vorhanden | C9: Teamfähigkeit
B10: Ausgeprägt | C10: Verhalten ggü. Vorgesetzten
B11: Stark ausgeprägt | C11: Initiative
B12: Erwartungen übertroffen | C12: Lernbereitschaft
C13: Qualitätsbewusstsein
C14: Anwendungen
C15: Instrumente
C16: EDV
C17: Kennzahlen
C18: Selbstorganisation (z.B. Termine, Ordnung)
C19: Zeitmanageent
C20: Leidenschaft
C21: Offenheit
C22: Selbstvertrauen
C23: Unternehmerisches Handeln
C24: Problemlösungen
C25: Kreativität
D27: =HYPERLINK("https://www.papershift.com/","Powered by © Papershift.com") -> Powered by © Papershift.com

Sheet Übersicht
B2: Übersicht
C7: Name Mitarbeiter | D7: Mitarbeiter-ID | E7: Position/Stellentitel | F7: Abteilung | G7: Beurteilungsnote (1=Mangelhaft, 5= Hervorragend) | H7: Kommentare | I7: Datum letzte Evaluation | K7: Erklärung:
C8: ='Max Mustermann'!D9 -> Max Mustermann | D8: ='Max Mustermann'!D10 -> #3475482 | E8: ='Max Mustermann'!D11 -> Lead Marketing | F8: ='Max Mustermann'!D12 -> Marketing | G8: =AVERAGE('Max Mustermann'!F16:F33) -> 3.2222222 | I8: ='Max Mustermann'!H7 -> 44764 | K8: Daten und eingaben werden direkt aus Worksheet übernommen. Diese können auf dem jeweiligen Mitarbeiterbogen geändert werden. Um neue Mitarbeiter Hinzuzufügen, kopieren Sie den bereits bestehenden Mitarbeiterbogen und tragen Sie die Daten wie bei dem Beispiel "Max Mustermann" ein.
G52: =HYPERLINK("https://www.papershift.com/","Powered by © Papershift.com") -> Powered by © Papershift.com

Sheet Max Mustermann
B2: Mitarbeiterbeurteilung
C7: Mitarbeiter: | E7: Gutachter: | G7: Datum: | H7: 44764
C9: Name Mitarbeiter: | D9: Max Mustermann | E9: Name Gutachter: | F9: Maxime Musterfrau
C10: Mitarbeiter-ID: | D10: #3475482 | E10: Mitarbeiter-ID: | F10: #657838634
C11: Position/Stellentitel: | D11: Lead Marketing | E11: Position/Stellentitel: | F11: Mitarbeiterin Personal
C12: Abteilung: | D12: Marketing | E12: Abteilung: | F12: Personalwesen
C15: {='Kriterien und Konfiguration'!C7:C25} -> zu bewertende Kriterien | D15: Details | E15: Bewertung | F15: Screening | G15: Kommentar
C16: Loyalität | E16: Erwartungen übertroffen | F16: =IF(E16='Kriterien und Konfiguration'!B8,1,IF(E16='Kriterien und Konfiguration'!B9,2,IF(E16='Kriterien und Konfiguration'!B10,3,IF(E16='Kriterien und Konfiguration'!B11,4,IF(E16='Kriterien und Konfiguration'!B12,5))))) -> 5
C17: Teamfähigkeit | E17: Ausgeprägt | F17: =IF(E17='Kriterien und Konfiguration'!B8,1,IF(E17='Kriterien und Konfiguration'!B9,2,IF(E17='Kriterien und Konfiguration'!B10,3,IF(E17='Kriterien und Konfiguration'!B11,4,IF(E17='Kriterien und Konfiguration'!B12,5))))) -> 3
C18: Verhalten ggü. Vorgesetzten | E18: Vorhanden | F18: =IF(E18='Kriterien und Konfiguration'!B8,1,IF(E18='Kriterien und Konfiguration'!B9,2,IF(E18='Kriterien und Konfiguration'!B10,3,IF(E18='Kriterien und Konfiguration'!B11,4,IF(E18='Kriterien und Konfiguration'!B12,5))))) -> 2
C19: Initiative | E19: Stark ausgeprägt | F19: =IF(E19='Kriterien und Konfiguration'!B8,1,IF(E19='Kriterien und Konfiguration'!B9,2,IF(E19='Kriterien und Konfiguration'!B10,3,IF(E19='Kriterien und Konfiguration'!B11,4,IF(E19='Kriterien und Konfiguration'!B12,5))))) -> 4
C20: Lernbereitschaft | E20: Stark ausgeprägt | F20: =IF(E20='Kriterien und Konfiguration'!B8,1,IF(E20='Kriterien und Konfiguration'!B9,2,IF(E20='Kriterien und Konfiguration'!B10,3,IF(E20='Kriterien und Konfiguration'!B11,4,IF(E20='Kriterien und Konfiguration'!B12,5))))) -> 4
C21: Qualitätsbewusstsein | E21: Ausbaufähig | F21: =IF(E21='Kriterien und Konfiguration'!B8,1,IF(E21='Kriterien und Konfiguration'!B9,2,IF(E21='Kriterien und Konfiguration'!B10,3,IF(E21='Kriterien und Konfiguration'!B11,4,IF(E21='Kriterien und Konfiguration'!B12,5))))) -> 1
C22: Anwendungen | E22: Ausgeprägt | F22: =IF(E22='Kriterien und Konfiguration'!B8,1,IF(E22='Kriterien und Konfiguration'!B9,2,IF(E22='Kriterien und Konfiguration'!B10,3,IF(E22='Kriterien und Konfiguration'!B11,4,IF(E22='Kriterien und Konfiguration'!B12,5))))) -> 3
C23: Instrumente | E23: Ausbaufähig | F23: =IF(E23='Kriterien und Konfiguration'!B8,1,IF(E23='Kriterien und Konfiguration'!B9,2,IF(E23='Kriterien und Konfiguration'!B10,3,IF(E23='Kriterien und Konfiguration'!B11,4,IF(E23='Kriterien und Konfiguration'!B12,5))))) -> 1
C24: EDV | E24: Erwartungen übertroffen | F24: =IF(E24='Kriterien und Konfiguration'!B8,1,IF(E24='Kriterien und Konfiguration'!B9,2,IF(E24='Kriterien und Konfiguration'!B10,3,IF(E24='Kriterien und Konfiguration'!B11,4,IF(E24='Kriterien und Konfiguration'!B12,5))))) -> 5
C25: Kennzahlen | E25: Ausgeprägt | F25: =IF(E25='Kriterien und Konfiguration'!B8,1,IF(E25='Kriterien und Konfiguration'!B9,2,IF(E25='Kriterien und Konfiguration'!B10,3,IF(E25='Kriterien und Konfiguration'!B11,4,IF(E25='Kriterien und Konfiguration'!B12,5))))) -> 3
C26: Selbstorganisation (z.B. Termine, Ordnung) | E26: Erwartungen übertroffen | F26: =IF(E26='Kriterien und Konfiguration'!B8,1,IF(E26='Kriterien und Konfiguration'!B9,2,IF(E26='Kriterien und Konfiguration'!B10,3,IF(E26='Kriterien und Konfiguration'!B11,4,IF(E26='Kriterien und Konfiguration'!B12,5))))) -> 5
C27: Zeitmanageent | E27: Vorhanden | F27: =IF(E27='Kriterien und Konfiguration'!B8,1,IF(E27='Kriterien und Konfiguration'!B9,2,IF(E27='Kriterien und Konfiguration'!B10,3,IF(E27='Kriterien und Konfiguration'!B11,4,IF(E27='Kriterien und Konfiguration'!B12,5))))) -> 2
C28: Leidenschaft | E28: Ausgeprägt | F28: =IF(E28='Kriterien und Konfiguration'!B8,1,IF(E28='Kriterien und Konfiguration'!B9,2,IF(E28='Kriterien und Konfiguration'!B10,3,IF(E28='Kriterien und Konfiguration'!B11,4,IF(E28='Kriterien und Konfiguration'!B12,5))))) -> 3
C29: Offenheit | E29: Stark ausgeprägt | F29: =IF(E29='Kriterien und Konfiguration'!B8,1,IF(E29='Kriterien und Konfiguration'!B9,2,IF(E29='Kriterien und Konfiguration'!B10,3,IF(E29='Kriterien und Konfiguration'!B11,4,IF(E29='Kriterien und Konfiguration'!B12,5))))) -> 4
C30: Selbstvertrauen | E30: Erwartungen übertroffen | F30: =IF(E30='Kriterien und Konfiguration'!B8,1,IF(E30='Kriterien und Konfiguration'!B9,2,IF(E30='Kriterien und Konfiguration'!B10,3,IF(E30='Kriterien und Konfiguration'!B11,4,IF(E30='Kriterien und Konfiguration'!B12,5))))) -> 5
C31: Unternehmerisches Handeln | E31: Stark ausgeprägt | F31: =IF(E31='Kriterien und Konfiguration'!B8,1,IF(E31='Kriterien und Konfiguration'!B9,2,IF(E31='Kriterien und Konfiguration'!B10,3,IF(E31='Kriterien und Konfiguration'!B11,4,IF(E31='Kriterien und Konfiguration'!B12,5))))) -> 4
C32: Problemlösungen | E32: Ausgeprägt | F32: =IF(E32='Kriterien und Konfiguration'!B8,1,IF(E32='Kriterien und Konfiguration'!B9,2,IF(E32='Kriterien und Konfiguration'!B10,3,IF(E32='Kriterien und Konfiguration'!B11,4,IF(E32='Kriterien und Konfiguration'!B12,5))))) -> 3
C33: Kreativität | E33: Ausbaufähig | F33: =IF(E33='Kriterien und Konfiguration'!B8,1,IF(E33='Kriterien und Konfiguration'!B9,2,IF(E33='Kriterien und Konfiguration'!B10,3,IF(E33='Kriterien und Konfiguration'!B11,4,IF(E33='Kriterien und Konfiguration'!B12,5))))) -> 1
F36: Durchschnittliche Bewertung: | G36: =ROUNDUP(AVERAGE(F16:F33),0) -> 4
G37: =IF(G36=1,"Besorgniserregende Leistung",IF(G36=2,"Mangelhafte Leistung",IF(G36=3,"Befriedigende Leistung",IF(G36=4,"Gute Leistung",IF(G36=5,"Hervorragende Leistung"))))) -> Gute Leistung
G40: =HYPERLINK("https://www.papershift.com/","Powered by © Papershift.com") -> Powered by © Papershift.com
