Workbook
Name Closingpercentage: OFFSET(Insights!$J$17,0,0,74-COUNTIF(Insights!$B$17:$B$89,""),1)
Name Expected: OFFSET(Insights!$D$17,0,0,73-COUNTIF(Insights!$D$17:$D$89,""),1)
Name Stages: 'Settings & Instructions'!$A$17:$A$21
Name Stages2: OFFSET('Settings & Instructions'!$A$17,0,0,COUNTA('Settings & Instructions'!$A$17:$A$89),1)
Name Targets: OFFSET(Insights!$B$17,0,0,73-COUNTIF(Insights!$B$17:$B$89,""),1)
Name Teammembers: OFFSET(Insights!$A$17,0,0,73-COUNTIF(Insights!$A$17:$A$89,""),1)
Name Won: OFFSET(Insights!$C$17,0,0,73-COUNTIF(Insights!$C$17:$C$89,""),1)

Sheet Checklist
B2: Use this checklist to help you get started.
B4: Step 1: Define your stages
B5: In the 'Settings & Instructions' sheet:
B6: Add each step (stage) of your sales process under the 'Stage name' column.
B7: Assign a closing probability to each stage in the 'Probability' column.
B9: Step 2: Set targets
B10: In the 'Settings & Instructions' sheet:
B11: Add/remove team members in the 'Sales rep' column.
B12: Set your targets per team member.
B13: For more detailed targets and insights, try Salesflare for free at https://app.salesflare.com
B15: Step 3: Fill your funnel
B16: In the 'Sales Funnel' sheet:
... B37: Use code CRM25OFF for 25% off for the first 6 months.

Sheet Sales Funnel
E1: Sales Funnel Template by Salesflare 🚀
A2: 2025
A3: Company Name | B3: Contact Name | C3: Contact Email | D3: Stage | E3: Value | F3: Probability | G3: Expected Revenue | H3: Creation date | I3: Expected Close Date | J3: Team member | K3: Progress to Won | L3: Last interacted on | M3: Next Step
A4: GRAND TOTAL | B4: - | C4: - | E4: =SUM(E5:E99) -> 2308000 | F4: - | G4: =SUM(G5:G99) -> 1114400 | H4: - | I4: - | J4: - | K4: - | L4: - | M4: -
A5: Company A | B5: Luke Skywalker | C5: luke@companya.com | D5: Won | E5: 163000 | F5: =IFERROR(OFFSET('Settings & Instructions'!B$17,MATCH('Sales Funnel'!D5,'Settings & Instructions'!A$17:A$76,0)-1,0),"") -> 1 | G5: =IFERROR(E5*F5,"") -> 163000 | H5: 45679 | I5: 45986 | J5: Susan | K5: =F5 -> 1 | L5: 7/17/2025 | M5: Get in touch
A6: Company B | B6: Oprah Winfrey | D6: Won | E6: 13000 | F6: =IFERROR(OFFSET('Settings & Instructions'!B$17,MATCH('Sales Funnel'!D6,'Settings & Instructions'!A$17:A$76,0)-1,0),"") -> 1 | G6: =IFERROR(E6*F6,"") -> 13000 | H6: 45689 | I6: 45826 | J6: Thomas | K6: =F6 -> 1 | L6: 45850 | M6: Get in touch
A7: Company C | B7: Michael Jordan | D7: Won | E7: 127000 | F7: =IFERROR(OFFSET('Settings & Instructions'!B$17,MATCH('Sales Funnel'!D7,'Settings & Instructions'!A$17:A$76,0)-1,0),"") -> 1 | G7: =IFERROR(E7*F7,"") -> 127000 | H7: 45839 | I7: 45972 | J7: Laura | K7: =F7 -> 1 | L7: 6/13/2025 | M7: Get in touch
A8: Company D | B8: Rachel Green | D8: Lead | E8: 67000 | F8: =IFERROR(OFFSET('Settings & Instructions'!B$17,MATCH('Sales Funnel'!D8,'Settings & Instructions'!A$17:A$76,0)-1,0),"") -> 0.05 | G8: =IFERROR(E8*F8,"") -> 3350 | H8: 45809 | I8: 45933 | J8: Michael | K8: =F8 -> 0.05 | L8: 2/22/2025 | M8: Get in touch
A9: Company F | B9: Beyoncé Knowles | D9: Won | E9: 113000 | F9: =IFERROR(OFFSET('Settings & Instructions'!B$17,MATCH('Sales Funnel'!D9,'Settings & Instructions'!A$17:A$76,0)-1,0),"") -> 1 | G9: =IFERROR(E9*F9,"") -> 113000 | I9: 45925 | J9: Michael | K9: =F9 -> 1 | L9: 45843 | M9: Follow-up
A10: Company G | B10: Harry Potter | D10: Proposal made | E10: 79000 | F10: =IFERROR(OFFSET('Settings & Instructions'!B$17,MATCH('Sales Funnel'!D10,'Settings & Instructions'!A$17:A$76,0)-1,0),"") -> 0.5 | G10: =IFERROR(E10*F10,"") -> 39500 | I10: 45887 | J10: Samantha | K10: =F10 -> 0.5 | L10: 6/23/2025 | M10: Follow-up
A11: Company H | B11: Katniss Everdeen | D11: Proposal made | E11: 97000 | F11: =IFERROR(OFFSET('Settings & Instructions'!B$17,MATCH('Sales Funnel'!D11,'Settings & Instructions'!A$17:A$76,0)-1,0),"") -> 0.5 | G11: =IFERROR(E11*F11,"") -> 48500 | I11: 45941 | J11: Susan | K11: =F11 -> 0.5 | M11: Follow-up
A12: Company I | B12: Jordan Belfort | D12: Contacted | E12: 233000 | F12: =IFERROR(OFFSET('Settings & Instructions'!B$17,MATCH('Sales Funnel'!D12,'Settings & Instructions'!A$17:A$76,0)-1,0),"") -> 0.1 | G12: =IFERROR(E12*F12,"") -> 23300 | I12: 45906 | J12: Donna | K12: =F12 -> 0.1 | M12: Follow-up
A13: Company J | B13: Jon Snow | D13: Qualified | E13: 311000 | F13: =IFERROR(OFFSET('Settings & Instructions'!B$17,MATCH('Sales Funnel'!D13,'Settings & Instructions'!A$17:A$76,0)-1,0),"") -> 0.25 | G13: =IFERROR(E13*F13,"") -> 77750 | I13: 45925 | J13: Thomas | K13: =F13 -> 0.25 | M13: Discuss proposal
A14: Company K | B14: Ivanka Trump | D14: Qualified | E14: 433000 | F14: =IFERROR(OFFSET('Settings & Instructions'!B$17,MATCH('Sales Funnel'!D14,'Settings & Instructions'!A$17:A$76,0)-1,0),"") -> 0.25 | G14: =IFERROR(E14*F14,"") -> 108250 | I14: 45856 | J14: Donna | K14: =F14 -> 0.25 | M14: Discuss proposal
A15: Company L | B15: Sherlock Holmes | D15: Won | E15: 73000 | F15: =IFERROR(OFFSET('Settings & Instructions'!B$17,MATCH('Sales Funnel'!D15,'Settings & Instructions'!A$17:A$76,0)-1,0),"") -> 1 | G15: =IFERROR(E15*F15,"") -> 73000 | I15: 46002 | J15: Michael | K15: =F15 -> 1 | M15: Discuss proposal
A16: Company M | B16: Michelle Obama | D16: Qualified | E16: 59000 | F16: =IFERROR(OFFSET('Settings & Instructions'!B$17,MATCH('Sales Funnel'!D16,'Settings & Instructions'!A$17:A$76,0)-1,0),"") -> 0.25 | G16: =IFERROR(E16*F16,"") -> 14750 | I16: 45997 | J16: Laura | K16: =F16 -> 0.25 | M16: Discuss proposal
A17: Company N | B17: Leonardo Di Caprio | D17: Won | E17: 71000 | F17: =IFERROR(OFFSET('Settings & Instructions'!B$17,MATCH('Sales Funnel'!D17,'Settings & Instructions'!A$17:A$76,0)-1,0),"") -> 1 | G17: =IFERROR(E17*F17,"") -> 71000 | I17: 45986 | J17: Michael | K17: =F17 -> 1 | M17: Send contract for signing
A18: Company O | B18: Daenarys Targaryen | D18: Lost | E18: 89000 | F18: =IFERROR(OFFSET('Settings & Instructions'!B$17,MATCH('Sales Funnel'!D18,'Settings & Instructions'!A$17:A$76,0)-1,0),"") -> 0 | G18: =IFERROR(E18*F18,"") -> 0 | I18: 45734 | J18: Donna | K18: =F18 -> 0 | M18: Send contract for signing
A19: Company P | B19: Harvey Specter | D19: Proposal made | E19: 109000 | F19: =IFERROR(OFFSET('Settings & Instructions'!B$17,MATCH('Sales Funnel'!D19,'Settings & Instructions'!A$17:A$76,0)-1,0),"") -> 0.5 | G19: =IFERROR(E19*F19,"") -> 54500 | I19: 45880 | J19: Laura | K19: =F19 -> 0.5 | M19: Send contract for signing
A20: Company Q | B20: Marylin Monroe | D20: Proposal made | E20: 47000 | F20: =IFERROR(OFFSET('Settings & Instructions'!B$17,MATCH('Sales Funnel'!D20,'Settings & Instructions'!A$17:A$76,0)-1,0),"") -> 0.5 | G20: =IFERROR(E20*F20,"") -> 23500 | I20: 45906 | J20: Thomas | K20: =F20 -> 0.5 | M20: Send contract for signing
A21: Company R | B21: Ron Weasley | D21: Won | E21: 111000 | F21: =IFERROR(OFFSET('Settings & Instructions'!B$17,MATCH('Sales Funnel'!D21,'Settings & Instructions'!A$17:A$76,0)-1,0),"") -> 1 | G21: =IFERROR(E21*F21,"") -> 111000 | I21: 46004 | J21: Donna | K21: =F21 -> 1 | M21: Send onboarding material
A22: Company S | B22: Reese Witherspoon | D22: Won | E22: 50000 | F22: =IFERROR(OFFSET('Settings & Instructions'!B$17,MATCH('Sales Funnel'!D22,'Settings & Instructions'!A$17:A$76,0)-1,0),"") -> 1 | G22: =IFERROR(E22*F22,"") -> 50000 | I22: 45973 | J22: Laura | K22: =F22 -> 1
A23: Company T | B23: Will Ferrell | D23: Lost | E23: 50000 | F23: =IFERROR(OFFSET('Settings & Instructions'!B$17,MATCH('Sales Funnel'!D23,'Settings & Instructions'!A$17:A$76,0)-1,0),"") -> 0 | G23: =IFERROR(E23*F23,"") -> 0 | I23: 45994 | J23: Laura | K23: =F23 -> 0
A24: Company U | B24: Brad Pitt | D24: Lost | E24: 13000 | F24: =IFERROR(OFFSET('Settings & Instructions'!B$17,MATCH('Sales Funnel'!D24,'Settings & Instructions'!A$17:A$76,0)-1,0),"") -> 0 | G24: =IFERROR(E24*F24,"") -> 0 | I24: 45741 | J24: Donna | K24: =F24 -> 0 | M24: Retarget later
F25: =IFERROR(OFFSET('Settings & Instructions'!B$17,MATCH('Sales Funnel'!D25,'Settings & Instructions'!A$17:A$76,0)-1,0),"") | G25: =IFERROR(E25*F25,"") | K25: =F25
F26: =IFERROR(OFFSET('Settings & Instructions'!B$17,MATCH('Sales Funnel'!D26,'Settings & Instructions'!A$17:A$76,0)-1,0),"") | G26: =IFERROR(E26*F26,"") | K26: =F26
F27: =IFERROR(OFFSET('Settings & Instructions'!B$17,MATCH('Sales Funnel'!D27,'Settings & Instructions'!A$17:A$76,0)-1,0),"") | G27: =IFERROR(E27*F27,"") | K27: =F27
F28: =IFERROR(OFFSET('Settings & Instructions'!B$17,MATCH('Sales Funnel'!D28,'Settings & Instructions'!A$17:A$76,0)-1,0),"") | K28: =F28
F29: =IFERROR(OFFSET('Settings & Instructions'!B$17,MATCH('Sales Funnel'!D29,'Settings & Instructions'!A$17:A$76,0)-1,0),"") | G29: =IFERROR(E29*F29,"") | K29: =F29
F30: =IFERROR(OFFSET('Settings & Instructions'!B$17,MATCH('Sales Funnel'!D30,'Settings & Instructions'!A$17:A$76,0)-1,0),"") | G30: =IFERROR(E30*F30,"") | K30: =F30
F31: =IFERROR(OFFSET('Settings & Instructions'!B$17,MATCH('Sales Funnel'!D31,'Settings & Instructions'!A$17:A$76,0)-1,0),"") | G31: =IFERROR(E31*F31,"") | K31: =F31
F32: =IFERROR(OFFSET('Settings & Instructions'!B$17,MATCH('Sales Funnel'!D32,'Settings & Instructions'!A$17:A$76,0)-1,0),"") | G32: =IFERROR(E32*F32,"") | K32: =F32
F33: =IFERROR(OFFSET('Settings & Instructions'!B$17,MATCH('Sales Funnel'!D33,'Settings & Instructions'!A$17:A$76,0)-1,0),"") | G33: =IFERROR(E33*F33,"") | K33: =F33
F34: =IFERROR(OFFSET('Settings & Instructions'!B$17,MATCH('Sales Funnel'!D34,'Settings & Instructions'!A$17:A$76,0)-1,0),"") | G34: =IFERROR(E34*F34,"") | K34: =F34
F35: =IFERROR(OFFSET('Settings & Instructions'!B$17,MATCH('Sales Funnel'!D35,'Settings & Instructions'!A$17:A$76,0)-1,0),"") | G35: =IFERROR(E35*F35,"") | K35: =F35
F36: =IFERROR(OFFSET('Settings & Instructions'!B$17,MATCH('Sales Funnel'!D36,'Settings & Instructions'!A$17:A$76,0)-1,0),"") | G36: =IFERROR(E36*F36,"") | K36: =F36
F37: =IFERROR(OFFSET('Settings & Instructions'!B$17,MATCH('Sales Funnel'!D37,'Settings & Instructions'!A$17:A$76,0)-1,0),"") | G37: =IFERROR(E37*F37,"") | K37: =F37
F38: =IFERROR(OFFSET('Settings & Instructions'!B$17,MATCH('Sales Funnel'!D38,'Settings & Instructions'!A$17:A$76,0)-1,0),"") | G38: =IFERROR(E38*F38,"") | K38: =F38
F39: =IFERROR(OFFSET('Settings & Instructions'!B$17,MATCH('Sales Funnel'!D39,'Settings & Instructions'!A$17:A$76,0)-1,0),"") | G39: =IFERROR(E39*F39,"") | K39: =F39
F40: =IFERROR(OFFSET('Settings & Instructions'!B$17,MATCH('Sales Funnel'!D40,'Settings & Instructions'!A$17:A$76,0)-1,0),"") | G40: =IFERROR(E40*F40,"") | K40: =F40
...

Sheet Settings & Instructions
A2: This Sales Funnel Template was created by Salesflare, maker of intelligent CRM software.
A3: You can grab a free trial from the website https://salesflare.com
A4: The cells in the tables below are used to update other sheets automatically.
A5: They're open ended tables so that you can add extra info to the bottom of them, if needed.
A7: PIPELINE | D7: FOLLOW UP | G7: TARGETS
A8: This sales funnel template has 7 stages, feel free to adapt this below. | D8: Set the number of days after which you want to be reminded | G8: These targets are used in the 'Insights' sheet to calculate
A9: You can add stages, change stage names, and adapt probabilities. | D9: to follow up with a lead. | G9: For more detailed targets & insights, try Salesflare for free
A10: This is the probability that an opportunity in this stage will make it to "Won". | G10: at https://app.salesflare.com.
A11: Don't change the name of 'Won' and 'Lost' stages. | D11: After 10 days (default), the 'Last interacted on' cells in the
A12: This will break the insights calculations. | D12: Sales Funnel' sheet will turn red, reminding you to follow up. | G12: Once you've set your targets, head back to the 'Checklist' sheet.
A14: Settings: Customize the sales stages in your pipeline | D14: Settings: Follow up reminder | G14: Settings: Set yearly targets for your teammates
A16: Stage name | B16: Probability | D16: Days | E16: 10 | G16: Sales rep | H16: 2025 Target
A17: Lead | B17: 0.05 | G17: Team target | H17: =SUM(H18:H53) -> 600000
A18: Contacted | B18: 0.1 | F18: Add sales reps & set targets here | G18: Thomas | H18: 100000
A19: Qualified | B19: 0.25 | G19: Laura | H19: 75000
A20: Proposal made | B20: 0.5 | C20: Add stages & set probabilities here | G20: Michael | H20: 75000
A21: Won | B21: 1 | G21: Donna | H21: 125000
A22: Lost | B22: 0 | G22: Susan | H22: 100000
A23: Fridge | B23: 0 | G23: Samantha | H23: 75000
G24: John | H24: 50000

Sheet Insights
F1: Sales Funnel Insights 🚀
A2: 2025
A4: Won | B4: Expected | C4: Avg value | D4: # won opportunities | F4: Most sold rep | G4: Team closing % | I4: Average sales cycle | J4: Total opportunities
A5: =SUMIF('Sales Funnel'!D5:D24,"Won",'Sales Funnel'!E5:E24) -> 721000 | B5: ='Sales Funnel'!G4 -> 1114400 | C5: =AVERAGEIF('Sales Funnel'!D5:D24,"Won",'Sales Funnel'!E5:E24) -> 90125 | D5: =COUNTIF('Sales Funnel'!D5:D24, "Won") -> 8 | F5: =INDEX(A17:A89,MATCH(MAX(C17:C89),C17:C89,FALSE),1) -> Michael | G5: =J16 -> 0.72727273 | I5: =IFERROR((SUMIFS('Sales Funnel'!I:I,'Sales Funnel'!H:H,"<>",'Sales Funnel'!I:I,"<>",'Sales Funnel'!D:D,"Won")-SUMIFS('Sales Funnel'!H:H,'Sales Funnel'!H:H,"<>",'Sales Funnel'!I:I,"<>",'Sales Funnel'!D:D,"Won"))/COUNTIFS('Sales Funnel'!H:H,"<>",'Sales Funnel'!I:I,"<>",'Sales Funnel'!D:D,"Won"),"") -> 192.33333 | J5: =COUNTA('Sales Funnel'!D:D)-1 -> 20
G10: Closing % per rep graph?
B15: Target | C15: Won | D15: Expected | F15: Earnings per account | I15: Closing % | L15: Stage | M15: # opportunities | N15: Conversion to next stage
A16: Team | B16: =SUM(B17:B39) -> 600000 | C16: =SUM(C17:C39) -> 721000 | D16: =SUM(D17:D39) -> 1114400 | F16: Account Name | G16: Total Won Revenue | I16: Team | J16: =IF(I17="","",IFERROR(COUNTIFS('Sales Funnel'!D:D,"Won")/SUM(COUNTIFS('Sales Funnel'!D:D,{"Won","Lost"})),0)) -> 0.72727273 | L16: =IF('Settings & Instructions'!A17="","",'Settings & Instructions'!A17) -> Lead | M16: =IF(L16="","",COUNTIF('Sales Funnel'!D:D,Insights!L16)) -> 1 | N16: =IFERROR(IF(OR(L16="Won",L16="Lost",L16=""),"",M17/M16),"") -> 1
A17: =IF('Settings & Instructions'!G18=0,"",'Settings & Instructions'!G18) -> Thomas | B17: =IF('Settings & Instructions'!H18=0,"",'Settings & Instructions'!H18) -> 100000 | C17: =IF(A17="","",SUMIFS('Sales Funnel'!G:G,'Sales Funnel'!J:J,Insights!A17,'Sales Funnel'!D:D,"Won")) -> 13000 | D17: =IF(A17="","",SUMIFS('Sales Funnel'!G:G,'Sales Funnel'!J:J,Insights!A17)) -> 114250 | F17: {=IF(IFERROR(INDEX('Sales Funnel'!$A$5:$A$100, MATCH(0,COUNTIF(Insights!$F$16:F16, 'Sales Funnel'!$A$5:$A$100), 0)),"")=0,"",IFERROR(INDEX('Sales Funnel'!$A$5:$A$100, MATCH(0,COUNTIF(Insights!$F$16:F16, 'Sales Funnel'!$A$5:$A$100), 0)),""))} -> Company A | G17: =IF(F17="","",SUMIFS('Sales Funnel'!E:E,'Sales Funnel'!A:A,Insights!F17,'Sales Funnel'!D:D,"Won")) -> 163000 | I17: =IF('Settings & Instructions'!G18=0,"",'Settings & Instructions'!G18) -> Thomas | J17: =IF(I17="","",IFERROR(COUNTIFS('Sales Funnel'!D:D,"Won",'Sales Funnel'!J:J,Insights!I17)/SUM(COUNTIFS('Sales Funnel'!D:D,{"Won","Lost"},'Sales Funnel'!J:J,Insights!I17)),0)) -> 1 | L17: =IF('Settings & Instructions'!A18="","",'Settings & Instructions'!A18) -> Contacted | M17: =IF(L17="","",COUNTIF('Sales Funnel'!D:D,Insights!L17)) -> 1 | N17: =IFERROR(IF(OR(L17="Won",L17="Lost",L17=""),"",M18/M17),"") -> 3
A18: =IF('Settings & Instructions'!G19=0,"",'Settings & Instructions'!G19) -> Laura | B18: =IF('Settings & Instructions'!H19=0,"",'Settings & Instructions'!H19) -> 75000 | C18: =IF(A18="","",SUMIFS('Sales Funnel'!G:G,'Sales Funnel'!J:J,Insights!A18,'Sales Funnel'!D:D,"Won")) -> 177000 | D18: =IF(A18="","",SUMIFS('Sales Funnel'!G:G,'Sales Funnel'!J:J,Insights!A18)) -> 246250 | F18: {=IF(IFERROR(INDEX('Sales Funnel'!$A$5:$A$100, MATCH(0,COUNTIF(Insights!$F$16:F17, 'Sales Funnel'!$A$5:$A$100), 0)),"")=0,"",IFERROR(INDEX('Sales Funnel'!$A$5:$A$100, MATCH(0,COUNTIF(Insights!$F$16:F17, 'Sales Funnel'!$A$5:$A$100), 0)),""))} -> Company B | G18: =IF(F18="","",SUMIFS('Sales Funnel'!E:E,'Sales Funnel'!A:A,Insights!F18,'Sales Funnel'!D:D,"Won")) -> 13000 | I18: =IF('Settings & Instructions'!G19=0,"",'Settings & Instructions'!G19) -> Laura | J18: =IF(I18="","",IFERROR(COUNTIFS('Sales Funnel'!D:D,"Won",'Sales Funnel'!J:J,Insights!I18)/SUM(COUNTIFS('Sales Funnel'!D:D,{"Won","Lost"},'Sales Funnel'!J:J,Insights!I18)),0)) -> 0.66666667 | L18: =IF('Settings & Instructions'!A19="","",'Settings & Instructions'!A19) -> Qualified | M18: =IF(L18="","",COUNTIF('Sales Funnel'!D:D,Insights!L18)) -> 3 | N18: =IFERROR(IF(OR(L18="Won",L18="Lost",L18=""),"",M19/M18),"") -> 1.3333333
A19: =IF('Settings & Instructions'!G20=0,"",'Settings & Instructions'!G20) -> Michael | B19: =IF('Settings & Instructions'!H20=0,"",'Settings & Instructions'!H20) -> 75000 | C19: =IF(A19="","",SUMIFS('Sales Funnel'!G:G,'Sales Funnel'!J:J,Insights!A19,'Sales Funnel'!D:D,"Won")) -> 257000 | D19: =IF(A19="","",SUMIFS('Sales Funnel'!G:G,'Sales Funnel'!J:J,Insights!A19)) -> 260350 | F19: {=IF(IFERROR(INDEX('Sales Funnel'!$A$5:$A$100, MATCH(0,COUNTIF(Insights!$F$16:F18, 'Sales Funnel'!$A$5:$A$100), 0)),"")=0,"",IFERROR(INDEX('Sales Funnel'!$A$5:$A$100, MATCH(0,COUNTIF(Insights!$F$16:F18, 'Sales Funnel'!$A$5:$A$100), 0)),""))} -> Company C | G19: =IF(F19="","",SUMIFS('Sales Funnel'!E:E,'Sales Funnel'!A:A,Insights!F19,'Sales Funnel'!D:D,"Won")) -> 127000 | I19: =IF('Settings & Instructions'!G20=0,"",'Settings & Instructions'!G20) -> Michael | J19: =IF(I19="","",IFERROR(COUNTIFS('Sales Funnel'!D:D,"Won",'Sales Funnel'!J:J,Insights!I19)/SUM(COUNTIFS('Sales Funnel'!D:D,{"Won","Lost"},'Sales Funnel'!J:J,Insights!I19)),0)) -> 1 | L19: =IF('Settings & Instructions'!A20="","",'Settings & Instructions'!A20) -> Proposal made | M19: =IF(L19="","",COUNTIF('Sales Funnel'!D:D,Insights!L19)) -> 4 | N19: =IFERROR(IF(OR(L19="Won",L19="Lost",L19=""),"",M20/M19),"") -> 2
A20: =IF('Settings & Instructions'!G21=0,"",'Settings & Instructions'!G21) -> Donna | B20: =IF('Settings & Instructions'!H21=0,"",'Settings & Instructions'!H21) -> 125000 | C20: =IF(A20="","",SUMIFS('Sales Funnel'!G:G,'Sales Funnel'!J:J,Insights!A20,'Sales Funnel'!D:D,"Won")) -> 111000 | D20: =IF(A20="","",SUMIFS('Sales Funnel'!G:G,'Sales Funnel'!J:J,Insights!A20)) -> 242550 | F20: {=IF(IFERROR(INDEX('Sales Funnel'!$A$5:$A$100, MATCH(0,COUNTIF(Insights!$F$16:F19, 'Sales Funnel'!$A$5:$A$100), 0)),"")=0,"",IFERROR(INDEX('Sales Funnel'!$A$5:$A$100, MATCH(0,COUNTIF(Insights!$F$16:F19, 'Sales Funnel'!$A$5:$A$100), 0)),""))} -> Company D | G20: =IF(F20="","",SUMIFS('Sales Funnel'!E:E,'Sales Funnel'!A:A,Insights!F20,'Sales Funnel'!D:D,"Won")) -> 0 | I20: =IF('Settings & Instructions'!G21=0,"",'Settings & Instructions'!G21) -> Donna | J20: =IF(I20="","",IFERROR(COUNTIFS('Sales Funnel'!D:D,"Won",'Sales Funnel'!J:J,Insights!I20)/SUM(COUNTIFS('Sales Funnel'!D:D,{"Won","Lost"},'Sales Funnel'!J:J,Insights!I20)),0)) -> 0.33333333 | L20: =IF('Settings & Instructions'!A21="","",'Settings & Instructions'!A21) -> Won | M20: =IF(L20="","",COUNTIF('Sales Funnel'!D:D,Insights!L20)) -> 8 | N20: =IFERROR(IF(OR(L20="Won",L20="Lost",L20=""),"",M21/M20),"")
A21: =IF('Settings & Instructions'!G22=0,"",'Settings & Instructions'!G22) -> Susan | B21: =IF('Settings & Instructions'!H22=0,"",'Settings & Instructions'!H22) -> 100000 | C21: =IF(A21="","",SUMIFS('Sales Funnel'!G:G,'Sales Funnel'!J:J,Insights!A21,'Sales Funnel'!D:D,"Won")) -> 163000 | D21: =IF(A21="","",SUMIFS('Sales Funnel'!G:G,'Sales Funnel'!J:J,Insights!A21)) -> 211500 | F21: {=IF(IFERROR(INDEX('Sales Funnel'!$A$5:$A$100, MATCH(0,COUNTIF(Insights!$F$16:F20, 'Sales Funnel'!$A$5:$A$100), 0)),"")=0,"",IFERROR(INDEX('Sales Funnel'!$A$5:$A$100, MATCH(0,COUNTIF(Insights!$F$16:F20, 'Sales Funnel'!$A$5:$A$100), 0)),""))} -> Company F | G21: =IF(F21="","",SUMIFS('Sales Funnel'!E:E,'Sales Funnel'!A:A,Insights!F21,'Sales Funnel'!D:D,"Won")) -> 113000 | I21: =IF('Settings & Instructions'!G22=0,"",'Settings & Instructions'!G22) -> Susan | J21: =IF(I21="","",IFERROR(COUNTIFS('Sales Funnel'!D:D,"Won",'Sales Funnel'!J:J,Insights!I21)/SUM(COUNTIFS('Sales Funnel'!D:D,{"Won","Lost"},'Sales Funnel'!J:J,Insights!I21)),0)) -> 1 | L21: =IF('Settings & Instructions'!A22="","",'Settings & Instructions'!A22) -> Lost | M21: =IF(L21="","",COUNTIF('Sales Funnel'!D:D,Insights!L21)) -> 3 | N21: =IFERROR(IF(OR(L21="Won",L21="Lost",L21=""),"",M22/M21),"")
A22: =IF('Settings & Instructions'!G23=0,"",'Settings & Instructions'!G23) -> Samantha | B22: =IF('Settings & Instructions'!H23=0,"",'Settings & Instructions'!H23) -> 75000 | C22: =IF(A22="","",SUMIFS('Sales Funnel'!G:G,'Sales Funnel'!J:J,Insights!A22,'Sales Funnel'!D:D,"Won")) -> 0 | D22: =IF(A22="","",SUMIFS('Sales Funnel'!G:G,'Sales Funnel'!J:J,Insights!A22)) -> 39500 | F22: {=IF(IFERROR(INDEX('Sales Funnel'!$A$5:$A$100, MATCH(0,COUNTIF(Insights!$F$16:F21, 'Sales Funnel'!$A$5:$A$100), 0)),"")=0,"",IFERROR(INDEX('Sales Funnel'!$A$5:$A$100, MATCH(0,COUNTIF(Insights!$F$16:F21, 'Sales Funnel'!$A$5:$A$100), 0)),""))} -> Company G | G22: =IF(F22="","",SUMIFS('Sales Funnel'!E:E,'Sales Funnel'!A:A,Insights!F22,'Sales Funnel'!D:D,"Won")) -> 0 | I22: =IF('Settings & Instructions'!G23=0,"",'Settings & Instructions'!G23) -> Samantha | J22: =IF(I22="","",IFERROR(COUNTIFS('Sales Funnel'!D:D,"Won",'Sales Funnel'!J:J,Insights!I22)/SUM(COUNTIFS('Sales Funnel'!D:D,{"Won","Lost"},'Sales Funnel'!J:J,Insights!I22)),0)) -> 0 | L22: =IF('Settings & Instructions'!A23="","",'Settings & Instructions'!A23) -> Fridge | M22: =IF(L22="","",COUNTIF('Sales Funnel'!D:D,Insights!L22)) -> 0 | N22: =IFERROR(IF(OR(L22="Won",L22="Lost",L22=""),"",M23/M22),"")
A23: =IF('Settings & Instructions'!G24=0,"",'Settings & Instructions'!G24) -> John | B23: =IF('Settings & Instructions'!H24=0,"",'Settings & Instructions'!H24) -> 50000 | C23: =IF(A23="","",SUMIFS('Sales Funnel'!G:G,'Sales Funnel'!J:J,Insights!A23,'Sales Funnel'!D:D,"Won")) -> 0 | D23: =IF(A23="","",SUMIFS('Sales Funnel'!G:G,'Sales Funnel'!J:J,Insights!A23)) -> 0 | F23: {=IF(IFERROR(INDEX('Sales Funnel'!$A$5:$A$100, MATCH(0,COUNTIF(Insights!$F$16:F22, 'Sales Funnel'!$A$5:$A$100), 0)),"")=0,"",IFERROR(INDEX('Sales Funnel'!$A$5:$A$100, MATCH(0,COUNTIF(Insights!$F$16:F22, 'Sales Funnel'!$A$5:$A$100), 0)),""))} -> Company H | G23: =IF(F23="","",SUMIFS('Sales Funnel'!E:E,'Sales Funnel'!A:A,Insights!F23,'Sales Funnel'!D:D,"Won")) -> 0 | I23: =IF('Settings & Instructions'!G24=0,"",'Settings & Instructions'!G24) -> John | J23: =IF(I23="","",IFERROR(COUNTIFS('Sales Funnel'!D:D,"Won",'Sales Funnel'!J:J,Insights!I23)/SUM(COUNTIFS('Sales Funnel'!D:D,{"Won","Lost"},'Sales Funnel'!J:J,Insights!I23)),0)) -> 0 | L23: =IF('Settings & Instructions'!A24="","",'Settings & Instructions'!A24) | M23: =IF(L23="","",COUNTIF('Sales Funnel'!D:D,Insights!L23)) | N23: =IFERROR(IF(OR(L23="Won",L23="Lost",L23=""),"",M24/M23),"")
A24: =IF('Settings & Instructions'!G25=0,"",'Settings & Instructions'!G25) | B24: =IF('Settings & Instructions'!H25=0,"",'Settings & Instructions'!H25) | C24: =IF(A24="","",SUMIFS('Sales Funnel'!G:G,'Sales Funnel'!J:J,Insights!A24,'Sales Funnel'!D:D,"Won")) | D24: =IF(A24="","",SUMIFS('Sales Funnel'!G:G,'Sales Funnel'!J:J,Insights!A24)) | F24: {=IF(IFERROR(INDEX('Sales Funnel'!$A$5:$A$100, MATCH(0,COUNTIF(Insights!$F$16:F23, 'Sales Funnel'!$A$5:$A$100), 0)),"")=0,"",IFERROR(INDEX('Sales Funnel'!$A$5:$A$100, MATCH(0,COUNTIF(Insights!$F$16:F23, 'Sales Funnel'!$A$5:$A$100), 0)),""))} -> Company I | G24: =IF(F24="","",SUMIFS('Sales Funnel'!E:E,'Sales Funnel'!A:A,Insights!F24,'Sales Funnel'!D:D,"Won")) -> 0 | I24: =IF('Settings & Instructions'!G25=0,"",'Settings & Instructions'!G25) | J24: =IF(I24="","",IFERROR(COUNTIFS('Sales Funnel'!D:D,"Won",'Sales Funnel'!J:J,Insights!I24)/SUM(COUNTIFS('Sales Funnel'!D:D,{"Won","Lost"},'Sales Funnel'!J:J,Insights!I24)),0)) | L24: =IF('Settings & Instructions'!A25="","",'Settings & Instructions'!A25) | M24: =IF(L24="","",COUNTIF('Sales Funnel'!D:D,Insights!L24)) | N24: =IFERROR(IF(OR(L24="Won",L24="Lost",L24=""),"",M25/M24),"")
A25: =IF('Settings & Instructions'!G26=0,"",'Settings & Instructions'!G26) | B25: =IF('Settings & Instructions'!H26=0,"",'Settings & Instructions'!H26) | C25: =IF(A25="","",SUMIFS('Sales Funnel'!G:G,'Sales Funnel'!J:J,Insights!A25,'Sales Funnel'!D:D,"Won")) | D25: =IF(A25="","",SUMIFS('Sales Funnel'!G:G,'Sales Funnel'!J:J,Insights!A25)) | F25: {=IF(IFERROR(INDEX('Sales Funnel'!$A$5:$A$100, MATCH(0,COUNTIF(Insights!$F$16:F24, 'Sales Funnel'!$A$5:$A$100), 0)),"")=0,"",IFERROR(INDEX('Sales Funnel'!$A$5:$A$100, MATCH(0,COUNTIF(Insights!$F$16:F24, 'Sales Funnel'!$A$5:$A$100), 0)),""))} -> Company J | G25: =IF(F25="","",SUMIFS('Sales Funnel'!E:E,'Sales Funnel'!A:A,Insights!F25,'Sales Funnel'!D:D,"Won")) -> 0 | I25: =IF('Settings & Instructions'!G26=0,"",'Settings & Instructions'!G26) | J25: =IF(I25="","",IFERROR(COUNTIFS('Sales Funnel'!D:D,"Won",'Sales Funnel'!J:J,Insights!I25)/SUM(COUNTIFS('Sales Funnel'!D:D,{"Won","Lost"},'Sales Funnel'!J:J,Insights!I25)),0)) | L25: =IF('Settings & Instructions'!A26="","",'Settings & Instructions'!A26) | M25: =IF(L25="","",COUNTIF('Sales Funnel'!D:D,Insights!L25)) | N25: =IFERROR(IF(OR(L25="Won",L25="Lost",L25=""),"",M26/M25),"")
A26: =IF('Settings & Instructions'!G27=0,"",'Settings & Instructions'!G27) | B26: =IF('Settings & Instructions'!H27=0,"",'Settings & Instructions'!H27) | C26: =IF(A26="","",SUMIFS('Sales Funnel'!G:G,'Sales Funnel'!J:J,Insights!A26,'Sales Funnel'!D:D,"Won")) | D26: =IF(A26="","",SUMIFS('Sales Funnel'!G:G,'Sales Funnel'!J:J,Insights!A26)) | F26: {=IF(IFERROR(INDEX('Sales Funnel'!$A$5:$A$100, MATCH(0,COUNTIF(Insights!$F$16:F25, 'Sales Funnel'!$A$5:$A$100), 0)),"")=0,"",IFERROR(INDEX('Sales Funnel'!$A$5:$A$100, MATCH(0,COUNTIF(Insights!$F$16:F25, 'Sales Funnel'!$A$5:$A$100), 0)),""))} -> Company K | G26: =IF(F26="","",SUMIFS('Sales Funnel'!E:E,'Sales Funnel'!A:A,Insights!F26,'Sales Funnel'!D:D,"Won")) -> 0 | I26: =IF('Settings & Instructions'!G27=0,"",'Settings & Instructions'!G27) | J26: =IF(I26="","",IFERROR(COUNTIFS('Sales Funnel'!D:D,"Won",'Sales Funnel'!J:J,Insights!I26)/SUM(COUNTIFS('Sales Funnel'!D:D,{"Won","Lost"},'Sales Funnel'!J:J,Insights!I26)),0)) | L26: =IF('Settings & Instructions'!A27="","",'Settings & Instructions'!A27) | M26: =IF(L26="","",COUNTIF('Sales Funnel'!D:D,Insights!L26)) | N26: =IFERROR(IF(OR(L26="Won",L26="Lost",L26=""),"",M27/M26),"")
A27: =IF('Settings & Instructions'!G28=0,"",'Settings & Instructions'!G28) | B27: =IF('Settings & Instructions'!H28=0,"",'Settings & Instructions'!H28) | C27: =IF(A27="","",SUMIFS('Sales Funnel'!G:G,'Sales Funnel'!J:J,Insights!A27,'Sales Funnel'!D:D,"Won")) | D27: =IF(A27="","",SUMIFS('Sales Funnel'!G:G,'Sales Funnel'!J:J,Insights!A27)) | F27: {=IF(IFERROR(INDEX('Sales Funnel'!$A$5:$A$100, MATCH(0,COUNTIF(Insights!$F$16:F26, 'Sales Funnel'!$A$5:$A$100), 0)),"")=0,"",IFERROR(INDEX('Sales Funnel'!$A$5:$A$100, MATCH(0,COUNTIF(Insights!$F$16:F26, 'Sales Funnel'!$A$5:$A$100), 0)),""))} -> Company L | G27: =IF(F27="","",SUMIFS('Sales Funnel'!E:E,'Sales Funnel'!A:A,Insights!F27,'Sales Funnel'!D:D,"Won")) -> 73000 | I27: =IF('Settings & Instructions'!G28=0,"",'Settings & Instructions'!G28) | J27: =IF(I27="","",IFERROR(COUNTIFS('Sales Funnel'!D:D,"Won",'Sales Funnel'!J:J,Insights!I27)/SUM(COUNTIFS('Sales Funnel'!D:D,{"Won","Lost"},'Sales Funnel'!J:J,Insights!I27)),0)) | L27: =IF('Settings & Instructions'!A28="","",'Settings & Instructions'!A28) | M27: =IF(L27="","",COUNTIF('Sales Funnel'!D:D,Insights!L27)) | N27: =IFERROR(IF(OR(L27="Won",L27="Lost",L27=""),"",M28/M27),"")
A28: =IF('Settings & Instructions'!G29=0,"",'Settings & Instructions'!G29) | B28: =IF('Settings & Instructions'!H29=0,"",'Settings & Instructions'!H29) | C28: =IF(A28="","",SUMIFS('Sales Funnel'!G:G,'Sales Funnel'!J:J,Insights!A28,'Sales Funnel'!D:D,"Won")) | D28: =IF(A28="","",SUMIFS('Sales Funnel'!G:G,'Sales Funnel'!J:J,Insights!A28)) | F28: {=IF(IFERROR(INDEX('Sales Funnel'!$A$5:$A$100, MATCH(0,COUNTIF(Insights!$F$16:F27, 'Sales Funnel'!$A$5:$A$100), 0)),"")=0,"",IFERROR(INDEX('Sales Funnel'!$A$5:$A$100, MATCH(0,COUNTIF(Insights!$F$16:F27, 'Sales Funnel'!$A$5:$A$100), 0)),""))} -> Company M | G28: =IF(F28="","",SUMIFS('Sales Funnel'!E:E,'Sales Funnel'!A:A,Insights!F28,'Sales Funnel'!D:D,"Won")) -> 0 | I28: =IF('Settings & Instructions'!G29=0,"",'Settings & Instructions'!G29) | J28: =IF(I28="","",IFERROR(COUNTIFS('Sales Funnel'!D:D,"Won",'Sales Funnel'!J:J,Insights!I28)/SUM(COUNTIFS('Sales Funnel'!D:D,{"Won","Lost"},'Sales Funnel'!J:J,Insights!I28)),0)) | L28: =IF('Settings & Instructions'!A29="","",'Settings & Instructions'!A29) | M28: =IF(L28="","",COUNTIF('Sales Funnel'!D:D,Insights!L28)) | N28: =IFERROR(IF(OR(L28="Won",L28="Lost",L28=""),"",M29/M28),"")
... A91: =IF('Settings & Instructions'!G92=0,"",'Settings & Instructions'!G92) | B91: =IF('Settings & Instructions'!H92=0,"",'Settings & Instructions'!H92) | C91: =IF(A91="","",SUMIFS('Sales Funnel'!G:G,'Sales Funnel'!J:J,Insights!A91,'Sales Funnel'!D:D,"Won")) | D91: =IF(A91="","",SUMIFS('Sales Funnel'!G:G,'Sales Funnel'!J:J,Insights!A91)) | F91: {=IF(IFERROR(INDEX('Sales Funnel'!$A$5:$A$100, MATCH(0,COUNTIF(Insights!$F$16:F90, 'Sales Funnel'!$A$5:$A$100), 0)),"")=0,"",IFERROR(INDEX('Sales Funnel'!$A$5:$A$100, MATCH(0,COUNTIF(Insights!$F$16:F90, 'Sales Funnel'!$A$5:$A$100), 0)),""))} | G91: =IF(F91="","",SUMIFS('Sales Funnel'!E:E,'Sales Funnel'!A:A,Insights!F91,'Sales Funnel'!D:D,"Won")) | I91: =IF('Settings & Instructions'!G92=0,"",'Settings & Instructions'!G92) | J91: =IF(I91="","",IFERROR(COUNTIFS('Sales Funnel'!D:D,"Won",'Sales Funnel'!J:J,Insights!I91)/SUM(COUNTIFS('Sales Funnel'!D:D,{"Won","Lost"},'Sales Funnel'!J:J,Insights!I91)),0)) | L91: =IF('Settings & Instructions'!A92="","",'Settings & Instructions'!A92) | M91: =IF(L91="","",COUNTIF('Sales Funnel'!D:D,Insights!L91)) | N91: =IFERROR(IF(OR(L91="Won",L91="Lost",L91=""),"",M92/M91),"")
A92: =IF('Settings & Instructions'!G93=0,"",'Settings & Instructions'!G93) | B92: =IF('Settings & Instructions'!H93=0,"",'Settings & Instructions'!H93) | C92: =IF(A92="","",SUMIFS('Sales Funnel'!G:G,'Sales Funnel'!J:J,Insights!A92,'Sales Funnel'!D:D,"Won")) | D92: =IF(A92="","",SUMIFS('Sales Funnel'!G:G,'Sales Funnel'!J:J,Insights!A92)) | F92: {=IF(IFERROR(INDEX('Sales Funnel'!$A$5:$A$100, MATCH(0,COUNTIF(Insights!$F$16:F91, 'Sales Funnel'!$A$5:$A$100), 0)),"")=0,"",IFERROR(INDEX('Sales Funnel'!$A$5:$A$100, MATCH(0,COUNTIF(Insights!$F$16:F91, 'Sales Funnel'!$A$5:$A$100), 0)),""))} | I92: =IF('Settings & Instructions'!G93=0,"",'Settings & Instructions'!G93) | J92: =IF(I92="","",IFERROR(COUNTIFS('Sales Funnel'!D:D,"Won",'Sales Funnel'!J:J,Insights!I92)/SUM(COUNTIFS('Sales Funnel'!D:D,{"Won","Lost"},'Sales Funnel'!J:J,Insights!I92)),0)) | L92: =IF('Settings & Instructions'!A93="","",'Settings & Instructions'!A93) | M92: =IF(L92="","",COUNTIF('Sales Funnel'!D:D,Insights!L92)) | N92: =IFERROR(IF(OR(L92="Won",L92="Lost",L92=""),"",M93/M92),"")
A93: =IF('Settings & Instructions'!G94=0,"",'Settings & Instructions'!G94) | B93: =IF('Settings & Instructions'!H94=0,"",'Settings & Instructions'!H94) | C93: =IF(A93="","",SUMIFS('Sales Funnel'!G:G,'Sales Funnel'!J:J,Insights!A93,'Sales Funnel'!D:D,"Won")) | D93: =IF(A93="","",SUMIFS('Sales Funnel'!G:G,'Sales Funnel'!J:J,Insights!A93)) | F93: {=IF(IFERROR(INDEX('Sales Funnel'!$A$5:$A$100, MATCH(0,COUNTIF(Insights!$F$16:F92, 'Sales Funnel'!$A$5:$A$100), 0)),"")=0,"",IFERROR(INDEX('Sales Funnel'!$A$5:$A$100, MATCH(0,COUNTIF(Insights!$F$16:F92, 'Sales Funnel'!$A$5:$A$100), 0)),""))} | I93: =IF('Settings & Instructions'!G94=0,"",'Settings & Instructions'!G94) | J93: =IF(I93="","",IFERROR(COUNTIFS('Sales Funnel'!D:D,"Won",'Sales Funnel'!J:J,Insights!I93)/SUM(COUNTIFS('Sales Funnel'!D:D,{"Won","Lost"},'Sales Funnel'!J:J,Insights!I93)),0)) | L93: =IF('Settings & Instructions'!A94="","",'Settings & Instructions'!A94) | M93: =IF(L93="","",COUNTIF('Sales Funnel'!D:D,Insights!L93)) | N93: =IFERROR(IF(OR(L93="Won",L93="Lost",L93=""),"",M94/M93),"")
A94: =IF('Settings & Instructions'!G95=0,"",'Settings & Instructions'!G95) | B94: =IF('Settings & Instructions'!H95=0,"",'Settings & Instructions'!H95) | C94: =IF(A94="","",SUMIFS('Sales Funnel'!G:G,'Sales Funnel'!J:J,Insights!A94,'Sales Funnel'!D:D,"Won")) | D94: =IF(A94="","",SUMIFS('Sales Funnel'!G:G,'Sales Funnel'!J:J,Insights!A94)) | F94: {=IF(IFERROR(INDEX('Sales Funnel'!$A$5:$A$100, MATCH(0,COUNTIF(Insights!$F$16:F93, 'Sales Funnel'!$A$5:$A$100), 0)),"")=0,"",IFERROR(INDEX('Sales Funnel'!$A$5:$A$100, MATCH(0,COUNTIF(Insights!$F$16:F93, 'Sales Funnel'!$A$5:$A$100), 0)),""))} | I94: =IF('Settings & Instructions'!G95=0,"",'Settings & Instructions'!G95) | J94: =IF(I94="","",IFERROR(COUNTIFS('Sales Funnel'!D:D,"Won",'Sales Funnel'!J:J,Insights!I94)/SUM(COUNTIFS('Sales Funnel'!D:D,{"Won","Lost"},'Sales Funnel'!J:J,Insights!I94)),0)) | L94: =IF('Settings & Instructions'!A95="","",'Settings & Instructions'!A95) | M94: =IF(L94="","",COUNTIF('Sales Funnel'!D:D,Insights!L94)) | N94: =IFERROR(IF(OR(L94="Won",L94="Lost",L94=""),"",M95/M94),"")
A95: =IF('Settings & Instructions'!G96=0,"",'Settings & Instructions'!G96) | B95: =IF('Settings & Instructions'!H96=0,"",'Settings & Instructions'!H96) | C95: =IF(A95="","",SUMIFS('Sales Funnel'!G:G,'Sales Funnel'!J:J,Insights!A95,'Sales Funnel'!D:D,"Won")) | D95: =IF(A95="","",SUMIFS('Sales Funnel'!G:G,'Sales Funnel'!J:J,Insights!A95)) | F95: {=IF(IFERROR(INDEX('Sales Funnel'!$A$5:$A$100, MATCH(0,COUNTIF(Insights!$F$16:F94, 'Sales Funnel'!$A$5:$A$100), 0)),"")=0,"",IFERROR(INDEX('Sales Funnel'!$A$5:$A$100, MATCH(0,COUNTIF(Insights!$F$16:F94, 'Sales Funnel'!$A$5:$A$100), 0)),""))} | I95: =IF('Settings & Instructions'!G96=0,"",'Settings & Instructions'!G96) | J95: =IF(I95="","",IFERROR(COUNTIFS('Sales Funnel'!D:D,"Won",'Sales Funnel'!J:J,Insights!I95)/SUM(COUNTIFS('Sales Funnel'!D:D,{"Won","Lost"},'Sales Funnel'!J:J,Insights!I95)),0)) | L95: =IF('Settings & Instructions'!A96="","",'Settings & Instructions'!A96) | M95: =IF(L95="","",COUNTIF('Sales Funnel'!D:D,Insights!L95)) | N95: =IFERROR(IF(OR(L95="Won",L95="Lost",L95=""),"",M96/M95),"")
A96: =IF('Settings & Instructions'!G97=0,"",'Settings & Instructions'!G97) | B96: =IF('Settings & Instructions'!H97=0,"",'Settings & Instructions'!H97) | C96: =IF(A96="","",SUMIFS('Sales Funnel'!G:G,'Sales Funnel'!J:J,Insights!A96,'Sales Funnel'!D:D,"Won")) | D96: =IF(A96="","",SUMIFS('Sales Funnel'!G:G,'Sales Funnel'!J:J,Insights!A96)) | F96: {=IF(IFERROR(INDEX('Sales Funnel'!$A$5:$A$100, MATCH(0,COUNTIF(Insights!$F$16:F95, 'Sales Funnel'!$A$5:$A$100), 0)),"")=0,"",IFERROR(INDEX('Sales Funnel'!$A$5:$A$100, MATCH(0,COUNTIF(Insights!$F$16:F95, 'Sales Funnel'!$A$5:$A$100), 0)),""))} | I96: =IF('Settings & Instructions'!G97=0,"",'Settings & Instructions'!G97) | J96: =IF(I96="","",IFERROR(COUNTIFS('Sales Funnel'!D:D,"Won",'Sales Funnel'!J:J,Insights!I96)/SUM(COUNTIFS('Sales Funnel'!D:D,{"Won","Lost"},'Sales Funnel'!J:J,Insights!I96)),0)) | L96: =IF('Settings & Instructions'!A97="","",'Settings & Instructions'!A97) | M96: =IF(L96="","",COUNTIF('Sales Funnel'!D:D,Insights!L96)) | N96: =IFERROR(IF(OR(L96="Won",L96="Lost",L96=""),"",M97/M96),"")
A97: =IF('Settings & Instructions'!G98=0,"",'Settings & Instructions'!G98) | B97: =IF('Settings & Instructions'!H98=0,"",'Settings & Instructions'!H98) | C97: =IF(A97="","",SUMIFS('Sales Funnel'!G:G,'Sales Funnel'!J:J,Insights!A97,'Sales Funnel'!D:D,"Won")) | D97: =IF(A97="","",SUMIFS('Sales Funnel'!G:G,'Sales Funnel'!J:J,Insights!A97)) | F97: {=IF(IFERROR(INDEX('Sales Funnel'!$A$5:$A$100, MATCH(0,COUNTIF(Insights!$F$16:F96, 'Sales Funnel'!$A$5:$A$100), 0)),"")=0,"",IFERROR(INDEX('Sales Funnel'!$A$5:$A$100, MATCH(0,COUNTIF(Insights!$F$16:F96, 'Sales Funnel'!$A$5:$A$100), 0)),""))} | I97: =IF('Settings & Instructions'!G98=0,"",'Settings & Instructions'!G98) | J97: =IF(I97="","",IFERROR(COUNTIFS('Sales Funnel'!D:D,"Won",'Sales Funnel'!J:J,Insights!I97)/SUM(COUNTIFS('Sales Funnel'!D:D,{"Won","Lost"},'Sales Funnel'!J:J,Insights!I97)),0)) | L97: =IF('Settings & Instructions'!A98="","",'Settings & Instructions'!A98) | M97: =IF(L97="","",COUNTIF('Sales Funnel'!D:D,Insights!L97)) | N97: =IFERROR(IF(OR(L97="Won",L97="Lost",L97=""),"",M98/M97),"")
A98: =IF('Settings & Instructions'!G99=0,"",'Settings & Instructions'!G99) | B98: =IF('Settings & Instructions'!H99=0,"",'Settings & Instructions'!H99) | C98: =IF(A98="","",SUMIFS('Sales Funnel'!G:G,'Sales Funnel'!J:J,Insights!A98,'Sales Funnel'!D:D,"Won")) | D98: =IF(A98="","",SUMIFS('Sales Funnel'!G:G,'Sales Funnel'!J:J,Insights!A98)) | F98: {=IF(IFERROR(INDEX('Sales Funnel'!$A$5:$A$100, MATCH(0,COUNTIF(Insights!$F$16:F97, 'Sales Funnel'!$A$5:$A$100), 0)),"")=0,"",IFERROR(INDEX('Sales Funnel'!$A$5:$A$100, MATCH(0,COUNTIF(Insights!$F$16:F97, 'Sales Funnel'!$A$5:$A$100), 0)),""))} | I98: =IF('Settings & Instructions'!G99=0,"",'Settings & Instructions'!G99) | J98: =IF(I98="","",IFERROR(COUNTIFS('Sales Funnel'!D:D,"Won",'Sales Funnel'!J:J,Insights!I98)/SUM(COUNTIFS('Sales Funnel'!D:D,{"Won","Lost"},'Sales Funnel'!J:J,Insights!I98)),0)) | L98: =IF('Settings & Instructions'!A99="","",'Settings & Instructions'!A99) | M98: =IF(L98="","",COUNTIF('Sales Funnel'!D:D,Insights!L98)) | N98: =IFERROR(IF(OR(L98="Won",L98="Lost",L98=""),"",M99/M98),"")
A99: =IF('Settings & Instructions'!G100=0,"",'Settings & Instructions'!G100) | B99: =IF('Settings & Instructions'!H100=0,"",'Settings & Instructions'!H100) | C99: =IF(A99="","",SUMIFS('Sales Funnel'!G:G,'Sales Funnel'!J:J,Insights!A99,'Sales Funnel'!D:D,"Won")) | D99: =IF(A99="","",SUMIFS('Sales Funnel'!G:G,'Sales Funnel'!J:J,Insights!A99)) | F99: {=IF(IFERROR(INDEX('Sales Funnel'!$A$5:$A$100, MATCH(0,COUNTIF(Insights!$F$16:F98, 'Sales Funnel'!$A$5:$A$100), 0)),"")=0,"",IFERROR(INDEX('Sales Funnel'!$A$5:$A$100, MATCH(0,COUNTIF(Insights!$F$16:F98, 'Sales Funnel'!$A$5:$A$100), 0)),""))} | I99: =IF('Settings & Instructions'!G100=0,"",'Settings & Instructions'!G100) | J99: =IF(I99="","",IFERROR(COUNTIFS('Sales Funnel'!D:D,"Won",'Sales Funnel'!J:J,Insights!I99)/SUM(COUNTIFS('Sales Funnel'!D:D,{"Won","Lost"},'Sales Funnel'!J:J,Insights!I99)),0)) | L99: =IF('Settings & Instructions'!A100="","",'Settings & Instructions'!A100) | M99: =IF(L99="","",COUNTIF('Sales Funnel'!D:D,Insights!L99)) | N99: =IFERROR(IF(OR(L99="Won",L99="Lost",L99=""),"",M100/M99),"")
A100: =IF('Settings & Instructions'!G101=0,"",'Settings & Instructions'!G101) | B100: =IF('Settings & Instructions'!H101=0,"",'Settings & Instructions'!H101) | C100: =IF(A100="","",SUMIFS('Sales Funnel'!G:G,'Sales Funnel'!J:J,Insights!A100,'Sales Funnel'!D:D,"Won")) | D100: =IF(A100="","",SUMIFS('Sales Funnel'!G:G,'Sales Funnel'!J:J,Insights!A100)) | F100: {=IF(IFERROR(INDEX('Sales Funnel'!$A$5:$A$100, MATCH(0,COUNTIF(Insights!$F$16:F99, 'Sales Funnel'!$A$5:$A$100), 0)),"")=0,"",IFERROR(INDEX('Sales Funnel'!$A$5:$A$100, MATCH(0,COUNTIF(Insights!$F$16:F99, 'Sales Funnel'!$A$5:$A$100), 0)),""))} | I100: =IF('Settings & Instructions'!G101=0,"",'Settings & Instructions'!G101) | J100: =IF(I100="","",IFERROR(COUNTIFS('Sales Funnel'!D:D,"Won",'Sales Funnel'!J:J,Insights!I100)/SUM(COUNTIFS('Sales Funnel'!D:D,{"Won","Lost"},'Sales Funnel'!J:J,Insights!I100)),0)) | L100: =IF('Settings & Instructions'!A101="","",'Settings & Instructions'!A101) | M100: =IF(L100="","",COUNTIF('Sales Funnel'!D:D,Insights!L100)) | N100: =IFERROR(IF(OR(L100="Won",L100="Lost",L100=""),"",M101/M100),"")
A101: =IF('Settings & Instructions'!G102=0,"",'Settings & Instructions'!G102) | B101: =IF('Settings & Instructions'!H102=0,"",'Settings & Instructions'!H102) | C101: =IF(A101="","",SUMIFS('Sales Funnel'!G:G,'Sales Funnel'!J:J,Insights!A101,'Sales Funnel'!D:D,"Won")) | D101: =IF(A101="","",SUMIFS('Sales Funnel'!G:G,'Sales Funnel'!J:J,Insights!A101)) | F101: {=IF(IFERROR(INDEX('Sales Funnel'!$A$5:$A$100, MATCH(0,COUNTIF(Insights!$F$16:F100, 'Sales Funnel'!$A$5:$A$100), 0)),"")=0,"",IFERROR(INDEX('Sales Funnel'!$A$5:$A$100, MATCH(0,COUNTIF(Insights!$F$16:F100, 'Sales Funnel'!$A$5:$A$100), 0)),""))} | I101: =IF('Settings & Instructions'!G102=0,"",'Settings & Instructions'!G102) | J101: =IF(I101="","",IFERROR(COUNTIFS('Sales Funnel'!D:D,"Won",'Sales Funnel'!J:J,Insights!I101)/SUM(COUNTIFS('Sales Funnel'!D:D,{"Won","Lost"},'Sales Funnel'!J:J,Insights!I101)),0)) | L101: =IF('Settings & Instructions'!A102="","",'Settings & Instructions'!A102) | M101: =IF(L101="","",COUNTIF('Sales Funnel'!D:D,Insights!L101)) | N101: =IFERROR(IF(OR(L101="Won",L101="Lost",L101=""),"",M102/M101),"")
A102: =IF('Settings & Instructions'!G103=0,"",'Settings & Instructions'!G103) | B102: =IF('Settings & Instructions'!H103=0,"",'Settings & Instructions'!H103) | C102: =IF(A102="","",SUMIFS('Sales Funnel'!G:G,'Sales Funnel'!J:J,Insights!A102,'Sales Funnel'!D:D,"Won")) | D102: =IF(A102="","",SUMIFS('Sales Funnel'!G:G,'Sales Funnel'!J:J,Insights!A102)) | F102: {=IF(IFERROR(INDEX('Sales Funnel'!$A$5:$A$100, MATCH(0,COUNTIF(Insights!$F$16:F101, 'Sales Funnel'!$A$5:$A$100), 0)),"")=0,"",IFERROR(INDEX('Sales Funnel'!$A$5:$A$100, MATCH(0,COUNTIF(Insights!$F$16:F101, 'Sales Funnel'!$A$5:$A$100), 0)),""))} | I102: =IF('Settings & Instructions'!G103=0,"",'Settings & Instructions'!G103) | J102: =IF(I102="","",IFERROR(COUNTIFS('Sales Funnel'!D:D,"Won",'Sales Funnel'!J:J,Insights!I102)/SUM(COUNTIFS('Sales Funnel'!D:D,{"Won","Lost"},'Sales Funnel'!J:J,Insights!I102)),0)) | L102: =IF('Settings & Instructions'!A103="","",'Settings & Instructions'!A103) | M102: =IF(L102="","",COUNTIF('Sales Funnel'!D:D,Insights!L102)) | N102: =IFERROR(IF(OR(L102="Won",L102="Lost",L102=""),"",M103/M102),"")
A103: =IF('Settings & Instructions'!G104=0,"",'Settings & Instructions'!G104) | B103: =IF('Settings & Instructions'!H104=0,"",'Settings & Instructions'!H104) | C103: =IF(A103="","",SUMIFS('Sales Funnel'!G:G,'Sales Funnel'!J:J,Insights!A103,'Sales Funnel'!D:D,"Won")) | D103: =IF(A103="","",SUMIFS('Sales Funnel'!G:G,'Sales Funnel'!J:J,Insights!A103)) | F103: {=IF(IFERROR(INDEX('Sales Funnel'!$A$5:$A$100, MATCH(0,COUNTIF(Insights!$F$16:F102, 'Sales Funnel'!$A$5:$A$100), 0)),"")=0,"",IFERROR(INDEX('Sales Funnel'!$A$5:$A$100, MATCH(0,COUNTIF(Insights!$F$16:F102, 'Sales Funnel'!$A$5:$A$100), 0)),""))} | I103: =IF('Settings & Instructions'!G104=0,"",'Settings & Instructions'!G104) | J103: =IF(I103="","",IFERROR(COUNTIFS('Sales Funnel'!D:D,"Won",'Sales Funnel'!J:J,Insights!I103)/SUM(COUNTIFS('Sales Funnel'!D:D,{"Won","Lost"},'Sales Funnel'!J:J,Insights!I103)),0)) | L103: =IF('Settings & Instructions'!A104="","",'Settings & Instructions'!A104) | M103: =IF(L103="","",COUNTIF('Sales Funnel'!D:D,Insights!L103)) | N103: =IFERROR(IF(OR(L103="Won",L103="Lost",L103=""),"",M104/M103),"")
... A112: =IF('Settings & Instructions'!G113=0,"",'Settings & Instructions'!G113) | B112: =IF('Settings & Instructions'!H113=0,"",'Settings & Instructions'!H113) | C112: =IF(A112="","",SUMIFS('Sales Funnel'!G:G,'Sales Funnel'!J:J,Insights!A112,'Sales Funnel'!D:D,"Won")) | D112: =IF(A112="","",SUMIFS('Sales Funnel'!G:G,'Sales Funnel'!J:J,Insights!A112)) | F112: {=IF(IFERROR(INDEX('Sales Funnel'!$A$5:$A$100, MATCH(0,COUNTIF(Insights!$F$16:F111, 'Sales Funnel'!$A$5:$A$100), 0)),"")=0,"",IFERROR(INDEX('Sales Funnel'!$A$5:$A$100, MATCH(0,COUNTIF(Insights!$F$16:F111, 'Sales Funnel'!$A$5:$A$100), 0)),""))} | I112: =IF('Settings & Instructions'!G113=0,"",'Settings & Instructions'!G113) | J112: =IF(I112="","",IFERROR(COUNTIFS('Sales Funnel'!D:D,"Won",'Sales Funnel'!J:J,Insights!I112)/SUM(COUNTIFS('Sales Funnel'!D:D,{"Won","Lost"},'Sales Funnel'!J:J,Insights!I112)),0)) | L112: =IF('Settings & Instructions'!A113="","",'Settings & Instructions'!A113) | M112: =IF(L112="","",COUNTIF('Sales Funnel'!D:D,Insights!L112)) | N112: =IFERROR(IF(OR(L112="Won",L112="Lost",L112=""),"",M113/M112),"")
A113: =IF('Settings & Instructions'!G114=0,"",'Settings & Instructions'!G114) | B113: =IF('Settings & Instructions'!H114=0,"",'Settings & Instructions'!H114) | C113: =IF(A113="","",SUMIFS('Sales Funnel'!G:G,'Sales Funnel'!J:J,Insights!A113,'Sales Funnel'!D:D,"Won")) | D113: =IF(A113="","",SUMIFS('Sales Funnel'!G:G,'Sales Funnel'!J:J,Insights!A113)) | F113: {=IF(IFERROR(INDEX('Sales Funnel'!$A$5:$A$100, MATCH(0,COUNTIF(Insights!$F$16:F112, 'Sales Funnel'!$A$5:$A$100), 0)),"")=0,"",IFERROR(INDEX('Sales Funnel'!$A$5:$A$100, MATCH(0,COUNTIF(Insights!$F$16:F112, 'Sales Funnel'!$A$5:$A$100), 0)),""))} | I113: =IF('Settings & Instructions'!G114=0,"",'Settings & Instructions'!G114) | J113: =IF(I113="","",IFERROR(COUNTIFS('Sales Funnel'!D:D,"Won",'Sales Funnel'!J:J,Insights!I113)/SUM(COUNTIFS('Sales Funnel'!D:D,{"Won","Lost"},'Sales Funnel'!J:J,Insights!I113)),0)) | L113: =IF('Settings & Instructions'!A114="","",'Settings & Instructions'!A114) | N113: =IFERROR(IF(OR(L113="Won",L113="Lost",L113=""),"",M114/M113),"")
A114: =IF('Settings & Instructions'!G115=0,"",'Settings & Instructions'!G115) | B114: =IF('Settings & Instructions'!H115=0,"",'Settings & Instructions'!H115) | C114: =IF(A114="","",SUMIFS('Sales Funnel'!G:G,'Sales Funnel'!J:J,Insights!A114,'Sales Funnel'!D:D,"Won")) | D114: =IF(A114="","",SUMIFS('Sales Funnel'!G:G,'Sales Funnel'!J:J,Insights!A114)) | F114: {=IF(IFERROR(INDEX('Sales Funnel'!$A$5:$A$100, MATCH(0,COUNTIF(Insights!$F$16:F113, 'Sales Funnel'!$A$5:$A$100), 0)),"")=0,"",IFERROR(INDEX('Sales Funnel'!$A$5:$A$100, MATCH(0,COUNTIF(Insights!$F$16:F113, 'Sales Funnel'!$A$5:$A$100), 0)),""))} | I114: =IF('Settings & Instructions'!G115=0,"",'Settings & Instructions'!G115) | J114: =IF(I114="","",IFERROR(COUNTIFS('Sales Funnel'!D:D,"Won",'Sales Funnel'!J:J,Insights!I114)/SUM(COUNTIFS('Sales Funnel'!D:D,{"Won","Lost"},'Sales Funnel'!J:J,Insights!I114)),0)) | L114: =IF('Settings & Instructions'!A115="","",'Settings & Instructions'!A115) | N114: =IFERROR(IF(OR(L114="Won",L114="Lost",L114=""),"",M115/M114),"")
A115: =IF('Settings & Instructions'!G116=0,"",'Settings & Instructions'!G116) | B115: =IF('Settings & Instructions'!H116=0,"",'Settings & Instructions'!H116) | C115: =IF(A115="","",SUMIFS('Sales Funnel'!G:G,'Sales Funnel'!J:J,Insights!A115,'Sales Funnel'!D:D,"Won")) | D115: =IF(A115="","",SUMIFS('Sales Funnel'!G:G,'Sales Funnel'!J:J,Insights!A115)) | F115: {=IF(IFERROR(INDEX('Sales Funnel'!$A$5:$A$100, MATCH(0,COUNTIF(Insights!$F$16:F114, 'Sales Funnel'!$A$5:$A$100), 0)),"")=0,"",IFERROR(INDEX('Sales Funnel'!$A$5:$A$100, MATCH(0,COUNTIF(Insights!$F$16:F114, 'Sales Funnel'!$A$5:$A$100), 0)),""))} | I115: =IF('Settings & Instructions'!G116=0,"",'Settings & Instructions'!G116) | J115: =IF(I115="","",IFERROR(COUNTIFS('Sales Funnel'!D:D,"Won",'Sales Funnel'!J:J,Insights!I115)/SUM(COUNTIFS('Sales Funnel'!D:D,{"Won","Lost"},'Sales Funnel'!J:J,Insights!I115)),0)) | L115: =IF('Settings & Instructions'!A116="","",'Settings & Instructions'!A116) | N115: =IFERROR(IF(OR(L115="Won",L115="Lost",L115=""),"",M116/M115),"")
A116: =IF('Settings & Instructions'!G117=0,"",'Settings & Instructions'!G117) | B116: =IF('Settings & Instructions'!H117=0,"",'Settings & Instructions'!H117) | C116: =IF(A116="","",SUMIFS('Sales Funnel'!G:G,'Sales Funnel'!J:J,Insights!A116,'Sales Funnel'!D:D,"Won")) | D116: =IF(A116="","",SUMIFS('Sales Funnel'!G:G,'Sales Funnel'!J:J,Insights!A116)) | F116: {=IF(IFERROR(INDEX('Sales Funnel'!$A$5:$A$100, MATCH(0,COUNTIF(Insights!$F$16:F115, 'Sales Funnel'!$A$5:$A$100), 0)),"")=0,"",IFERROR(INDEX('Sales Funnel'!$A$5:$A$100, MATCH(0,COUNTIF(Insights!$F$16:F115, 'Sales Funnel'!$A$5:$A$100), 0)),""))} | I116: =IF('Settings & Instructions'!G117=0,"",'Settings & Instructions'!G117) | J116: =IF(I116="","",IFERROR(COUNTIFS('Sales Funnel'!D:D,"Won",'Sales Funnel'!J:J,Insights!I116)/SUM(COUNTIFS('Sales Funnel'!D:D,{"Won","Lost"},'Sales Funnel'!J:J,Insights!I116)),0)) | N116: =IFERROR(IF(OR(L116="Won",L116="Lost",L116=""),"",M117/M116),"")
A117: =IF('Settings & Instructions'!G118=0,"",'Settings & Instructions'!G118) | B117: =IF('Settings & Instructions'!H118=0,"",'Settings & Instructions'!H118) | C117: =IF(A117="","",SUMIFS('Sales Funnel'!G:G,'Sales Funnel'!J:J,Insights!A117,'Sales Funnel'!D:D,"Won")) | D117: =IF(A117="","",SUMIFS('Sales Funnel'!G:G,'Sales Funnel'!J:J,Insights!A117)) | F117: {=IF(IFERROR(INDEX('Sales Funnel'!$A$5:$A$100, MATCH(0,COUNTIF(Insights!$F$16:F116, 'Sales Funnel'!$A$5:$A$100), 0)),"")=0,"",IFERROR(INDEX('Sales Funnel'!$A$5:$A$100, MATCH(0,COUNTIF(Insights!$F$16:F116, 'Sales Funnel'!$A$5:$A$100), 0)),""))} | I117: =IF('Settings & Instructions'!G118=0,"",'Settings & Instructions'!G118) | J117: =IF(I117="","",IFERROR(COUNTIFS('Sales Funnel'!D:D,"Won",'Sales Funnel'!J:J,Insights!I117)/SUM(COUNTIFS('Sales Funnel'!D:D,{"Won","Lost"},'Sales Funnel'!J:J,Insights!I117)),0)) | N117: =IFERROR(IF(OR(L117="Won",L117="Lost",L117=""),"",M118/M117),"")
A118: =IF('Settings & Instructions'!G119=0,"",'Settings & Instructions'!G119) | B118: =IF('Settings & Instructions'!H119=0,"",'Settings & Instructions'!H119) | C118: =IF(A118="","",SUMIFS('Sales Funnel'!G:G,'Sales Funnel'!J:J,Insights!A118,'Sales Funnel'!D:D,"Won")) | D118: =IF(A118="","",SUMIFS('Sales Funnel'!G:G,'Sales Funnel'!J:J,Insights!A118)) | F118: {=IF(IFERROR(INDEX('Sales Funnel'!$A$5:$A$100, MATCH(0,COUNTIF(Insights!$F$16:F117, 'Sales Funnel'!$A$5:$A$100), 0)),"")=0,"",IFERROR(INDEX('Sales Funnel'!$A$5:$A$100, MATCH(0,COUNTIF(Insights!$F$16:F117, 'Sales Funnel'!$A$5:$A$100), 0)),""))} | I118: =IF('Settings & Instructions'!G119=0,"",'Settings & Instructions'!G119) | J118: =IF(I118="","",IFERROR(COUNTIFS('Sales Funnel'!D:D,"Won",'Sales Funnel'!J:J,Insights!I118)/SUM(COUNTIFS('Sales Funnel'!D:D,{"Won","Lost"},'Sales Funnel'!J:J,Insights!I118)),0)) | N118: =IFERROR(IF(OR(L118="Won",L118="Lost",L118=""),"",M119/M118),"")
A119: =IF('Settings & Instructions'!G120=0,"",'Settings & Instructions'!G120) | B119: =IF('Settings & Instructions'!H120=0,"",'Settings & Instructions'!H120) | C119: =IF(A119="","",SUMIFS('Sales Funnel'!G:G,'Sales Funnel'!J:J,Insights!A119,'Sales Funnel'!D:D,"Won")) | D119: =IF(A119="","",SUMIFS('Sales Funnel'!G:G,'Sales Funnel'!J:J,Insights!A119)) | F119: {=IF(IFERROR(INDEX('Sales Funnel'!$A$5:$A$100, MATCH(0,COUNTIF(Insights!$F$16:F118, 'Sales Funnel'!$A$5:$A$100), 0)),"")=0,"",IFERROR(INDEX('Sales Funnel'!$A$5:$A$100, MATCH(0,COUNTIF(Insights!$F$16:F118, 'Sales Funnel'!$A$5:$A$100), 0)),""))} | I119: =IF('Settings & Instructions'!G120=0,"",'Settings & Instructions'!G120) | J119: =IF(I119="","",IFERROR(COUNTIFS('Sales Funnel'!D:D,"Won",'Sales Funnel'!J:J,Insights!I119)/SUM(COUNTIFS('Sales Funnel'!D:D,{"Won","Lost"},'Sales Funnel'!J:J,Insights!I119)),0)) | N119: =IFERROR(IF(OR(L119="Won",L119="Lost",L119=""),"",M120/M119),"")
...
