Workbook

Sheet Bemerkungen
B1: Production Part Approval Process | C1: =Sprachtab!A2 -> Produktionsprozess- / Produktfreigabe nach VDA Band 2 (2020)
B4: =Sprachtab!A4 -> Ordnungs- nummer | C4: =Sprachtab!A5 -> Gemäß Abstimmung zum PPF-Verfahren: "Ja" Vorlage gefordert, "Nein" Vorlage nicht gefordert | F4: =Sprachtab!A6 -> Vorlage | G4: =Sprachtab!A86 -> SIGNATA Anforderungen entsprechend der Vorlagestufe 3 der QD83
B5: 0.1 | C5: =Sprachtab!A11 -> PPF-Deckblatt / PSW bei PPAP / PPF-Bewertung | F5: =Sprachtab!A157 -> Ja | G5: =Sprachtab!A87 -> Anlage 2 (PPF-Abstimmung vom SIGNATA SQE unterschrieben) und Anlage 4 aus dem VDA Band 2 (2020) oder PSW bei AIAG PPAP.
B6: 0.2 | C6: =Sprachtab!A12 -> Selbstbeurteilung Produkt, Produktionsprozess ggf. Software | F6: =Sprachtab!A157 -> Ja | G6: =Sprachtab!A88 -> Anlage 3 und ggf. Anlage 5 aus dem VDA Band 2 (2020) bei Software.
B7: 1. | C7: =Sprachtab!A13 -> Nachweise zur Produktentwicklung
B8: 1.1 | C8: =Sprachtab!A14 -> Technische Spezifikationen / Zeichnung | F8: =Sprachtab!A157 -> Ja | G8: =Sprachtab!A89 -> SIGNATA Zeichnung mit Durchnummerierung aller Merkmale.
B9: 1.2 | C9: =Sprachtab!A15 -> Genehmigte Konstruktionsänderungen | F9: =Sprachtab!A157 -> Ja | G9: =Sprachtab!A90 -> Zeichnungsänderungsanfrage der SIGNATA.
B10: 1.3 | C10: =Sprachtab!A16 -> Konstruktions-, Entwicklungsfreigaben der Organisation bei Entwicklungsverantwortung entsprechend Vereinbarung | F10: =Sprachtab!A157 -> Ja | G10: =Sprachtab!A91 -> Formular F2.16 der SIGNATA Global Supplier Quality Directive (QD83). Siehe Kapitel 2.16 der QD83.
B11: 1.4 | C11: =Sprachtab!A17 -> Materialdaten per IMDS | F11: =Sprachtab!A157 -> Ja | G11: =Sprachtab!A92 -> MDB Eintrag im IMDS. Siehe Kapitel 3.8 der QD83.
B12: 1.5 | C12: =Sprachtab!A18 -> Design-FMEA (bei Entwicklungsverantwortung) | F12: =Sprachtab!A157 -> Ja | G12: =Sprachtab!A93 -> Deckblatt der D-FMEA, Formular F2.15 der QD83. Siehe Kapitel 2.15 der QD83.
B13: 2. | C13: =Sprachtab!A19 -> Nachweise zur Produktionsprozessentwicklung
B14: 2.1 | C14: =Sprachtab!A20 -> Prozessablaufdiagramm | F14: =Sprachtab!A157 -> Ja | G14: =Sprachtab!A94 -> Siehe Kapitel 2.13 der QD83.
B15: 2.2 | C15: =Sprachtab!A21 -> Prozess-FMEA | F15: =Sprachtab!A157 -> Ja | G15: =Sprachtab!A95 -> Deckblatt der P-FMEA, Formular F2.15 der QD83. Siehe Kapitel 2.15 der QD83.
B16: 2.3 | C16: =Sprachtab!A22 -> Produktionslenkungsplan | F16: =Sprachtab!A157 -> Ja | G16: =Sprachtab!A96 -> Siehe Kapitel 2.17 der QD83.
B17: 3. | C17: =Sprachtab!A23 -> Nachweise zur Validierung des Produktes
B18: 3.1 | C18: =Sprachtab!A24 -> Geometrie, Maß | F18: - | G18: =Sprachtab!A97 -> -
B19: 3.1.1 | C19: =Sprachtab!A25 -> Rohteilmessung | G19: =Sprachtab!A98 -> Falls gefordert.
B20: 3.1.2 | C20: =Sprachtab!A26 -> Einzelteilmessung | G20: =Sprachtab!A99 -> Falls gefordert.
B21: 3.1.3 | C21: =Sprachtab!A27 -> Standardmessbericht (alle Zeichnungsmerkmale) | F21: =Sprachtab!A157 -> Ja | G21: =Sprachtab!A100 -> Bewertung aller Zeichnungsmerkmale gemäß Durchnummerierung. Messung von min. 3 Bauteilen je Kavität.
B22: 3.1.4 | C22: =Sprachtab!A28 -> Standardlehrenbericht | G22: =Sprachtab!A101 -> Falls gefordert.
B23: 3.1.5 | C23: =Sprachtab!A29 -> 3D-Datensatzmessung | G23: =Sprachtab!A102 -> Falls gefordert.
B24: 3.1.6 | C24: =Sprachtab!A30 -> Schnitte | G24: =Sprachtab!A103 -> Falls gefordert.
B25: 3.1.7 | C25: =Sprachtab!A31 -> Sonstiges | G25: =Sprachtab!A104 -> Falls gefordert.
B26: 3.2 | C26: =Sprachtab!A32 -> Werkstoff (Festigkeit, physikalische Eigenschaften,….) | F26: =Sprachtab!A157 -> Ja | G26: =Sprachtab!A105 -> Abnahmeprüfzeugnis 3.1 nach EN 10204.
B27: 3.2.1 | C27: =Sprachtab!A33 -> Nachweis Einhaltung werkstoffspezifischer Kundennormen | F27: =Sprachtab!A157 -> Ja | G27: =Sprachtab!A106 -> Gemäß der technischen Lieferbedingungen und ggf. weiteren Zeichnungsforderungen.
B28: 3.2.2 | C28: =Sprachtab!A34 -> Probenentnahmeplan | G28: =Sprachtab!A107 -> Falls gefordert.
B29: 3.2.3 | C29: =Sprachtab!A35 -> Metallographie | G29: =Sprachtab!A108 -> Falls gefordert.
B30: 3.2.4 | C30: =Sprachtab!A36 -> Chemische Analysen | G30: =Sprachtab!A109 -> Falls gefordert.
B31: 3.2.5 | C31: =Sprachtab!A37 -> Freigabe Einzelteile | G31: =Sprachtab!A110 -> Falls gefordert.
B32: 3.2.6 | C32: =Sprachtab!A38 -> Freigabe Hilfs- und Betriebsstoffe | G32: =Sprachtab!A111 -> Falls gefordert.
B33: 3.2.7 | C33: =Sprachtab!A39 -> Mechanische Kennwerte | G33: =Sprachtab!A112 -> Falls gefordert.
B34: 3.2.8 | C34: =Sprachtab!A40 -> Freigabe Rohteile | G34: =Sprachtab!A113 -> Falls gefordert.
B35: 3.2.9 | C35: =Sprachtab!A41 -> Korrosionsprüfung | G35: =Sprachtab!A114 -> Falls gefordert.
B36: 3.2.10 | C36: =Sprachtab!A42 -> Sonstiges | G36: =Sprachtab!A115 -> Falls gefordert.
B37: 3.3 | C37: =Sprachtab!A43 -> Funktionsprüfung gemäß KLH/Spezifikation/Funktionsvorschriften | F37: =Sprachtab!A157 -> Ja | G37: =Sprachtab!A116 -> Gemäß Zeichnungsanforderung.
B38: 3.4 | C38: =Sprachtab!A44 -> Haptikprüfung | G38: =Sprachtab!A117 -> Falls gefordert.
B39: 3.5 | C39: =Sprachtab!A45 -> Akkustikprüfung | G39: =Sprachtab!A118 -> Falls gefordert.
B40: 3.6 | C40: =Sprachtab!A46 -> Geruchsprüfung | G40: =Sprachtab!A119 -> Falls gefordert.
B41: 3.7 | C41: =Sprachtab!A47 -> Aussehen | G41: =Sprachtab!A120 -> Falls gefordert.
B42: 3.8 | C42: =Sprachtab!A48 -> Oberflächenanforderung | G42: =Sprachtab!A121 -> Falls gefordert.
B43: 3.8.1 | C43: =Sprachtab!A49 -> Farbmessung und visuelle Eigenbeurteilung | G43: =Sprachtab!A122 -> Falls gefordert.
B44: 3.8.2 | C44: =Sprachtab!A50 -> Farbabhängige Eigenschaften | G44: =Sprachtab!A123 -> Falls gefordert.
B45: 3.9 | C45: =Sprachtab!A51 -> Technische Sauberkeit | G45: =Sprachtab!A124 -> Falls gefordert.
B46: 3.10 | C46: =Sprachtab!A52 -> Zuverlässigkeit | F46: =Sprachtab!A157 -> Ja | G46: =Sprachtab!A125 -> Gemäß Zeichnungsanforderung.
B47: 3.11 | C47: =Sprachtab!A53 -> Beständigkeit gegenüber Electrostatic Discharge (ESD) | F47: =Sprachtab!A157 -> Ja | G47: =Sprachtab!A126 -> Gemäß Zeichnungsanforderung und SIGNATA Lastenheft.
B48: 3.12 | C48: =Sprachtab!A54 -> Elektrische Sicherheit / Hochvolt-Sicherheit | F48: =Sprachtab!A157 -> Ja | G48: =Sprachtab!A127 -> Gemäß Zeichnungsanforderung und SIGNATA Lastenheft.
B49: 3.13 | C49: =Sprachtab!A55 -> Elektromagnetische Verträglichkeit (EMV) | F49: =Sprachtab!A157 -> Ja | G49: =Sprachtab!A128 -> Gemäß Zeichnungsanforderung und SIGNATA Lastenheft.
B50: 4. | C50: =Sprachtab!A56 -> Nachweise zur Validierung des Produktionsprozesses
B51: 4.1 | C51: =Sprachtab!A57 -> Absicherung Besonderer Merkmale gemäß technischen Spezifikationen und vereinbarten Merkmalen (z.B. Poka Yoke, 100%-Prüfung, Prozessfähigkeiten,…) | F51: =Sprachtab!A157 -> Ja | G51: =Sprachtab!A129 -> Formular F2.12 der QD83. Siehe Kapitel 2.12, 2.19, 2.24 der QD83. Prozessfähigkeitsuntersuchung zu jedem besonderen Merkmal und jeder Kavität.
B52: 4.2 | C52: =Sprachtab!A58 -> Laborqualifizierung | F52: =Sprachtab!A157 -> Ja | G52: =Sprachtab!A130 -> Dokumentation eines qualifizierten Laboratoriums (wenn extern: mit relevanter Akkreditierung nach ISO/IEC 17025 oder nationales Äquivalent).
B53: 4.3 | C53: =Sprachtab!A59 -> Muster inkl. Fertigungsdokumentation | F53: =Sprachtab!A157 -> Ja | G53: =Sprachtab!A131 -> 10 Musterteile pro Kavität wenn nicht anders vereinbart. Kennzeichnung mit dem Aufkleber F3.1.
B54: 4.4 | C54: =Sprachtab!A60 -> Referenzmuster | F54: =Sprachtab!A158 -> Nein | G54: =Sprachtab!A132 -> Werden bei der Organisation (beim Lieferanten) aufbewahrt, wenn nicht anders vereinbart (Formular F3.3B der QD83).
B55: 4.5 | C55: =Sprachtab!A61 -> Produktionskapazität | F55: =Sprachtab!A157 -> Ja | G55: =Sprachtab!A133 -> Formular F2.33 der QD83. Siehe Kapitel 2.33 der QD83.
B56: 4.6 | C56: =Sprachtab!A62 -> Werkzeuge (mit Stückzahl/Anzahl Nester und Information zum Werkzeugkonzept) | G56: =Sprachtab!A134 -> Bei der Organisation aufzubewahren, oder falls gefordert.
B57: 5. | C57: =Sprachtab!A63 -> Generelle Nachweise
B58: 5.1 | C58: =Sprachtab!A64 -> Nachweise zur Einhaltung gesetzlicher Anforderungen | F58: =Sprachtab!A157 -> Ja | G58: =Sprachtab!A135 -> Gemäß Zeichnungsanforderungen. Siehe auch Kapitel 1.5 der QD83.
B59: 5.2 | C59: =Sprachtab!A65 -> PPF-Status Lieferkette | F59: =Sprachtab!A157 -> Ja | G59: =Sprachtab!A136 -> Formular F2.26 der QD83. Siehe Kapitel 2.26 der QD83.
B60: 5.3 | C60: =Sprachtab!A66 -> Prüfmittelliste Produkt und Produktionsprozess | G60: =Sprachtab!A137 -> Falls gefordert.
C61: =Sprachtab!A67 -> Prüf-/Messprotokolle bzw. Abnahmeprotokolle für Lehren | G61: =Sprachtab!A138 -> Falls gefordert.
B62: 5.4 | C62: =Sprachtab!A68 -> Prüfmittelfähigkeitsnachweis Produkt u. Produktionsprozess | F62: =Sprachtab!A157 -> Ja | G62: =Sprachtab!A139 -> Messsystemanalyse MSA. Fähigkeitsnachweis zu jedem besonderen Merkmal. Siehe auch Kapitel 2.23 der QD83.
B63: 5.5 | C63: =Sprachtab!A69 -> Teilelebenslauf | G63: =Sprachtab!A140 -> Falls gefordert.
B64: 5.6 | C64: =Sprachtab!A70 -> Eignungsnachweis der eingesetzten Ladungsträger inkl. Lagerung | F64: =Sprachtab!A157 -> Ja | G64: =Sprachtab!A141 -> Formular F2.27 der QD83. Siehe auch Kapitel 2.27 der QD83.
B65: 5.7 | C65: =Sprachtab!A71 -> Dokumentation der Vereinbarungen zum Befundungs- und Analyseprozess / Reklamationsbearbeitung (z.B. 8D) / Schadteilanalyse Feld | G65: =Sprachtab!A142 -> Falls gefordert.
B66: 5.8 | C66: =Sprachtab!A72 -> Dokumentation der Vereinbarung zur Requalifikation | F66: =Sprachtab!A157 -> Ja | G66: =Sprachtab!A143 -> Gemäß PPF-Abstimmung und ggf. zusätzlicher Vereinbarungen. Siehe auch Kapitel 4.3 der QD83.
B67: 5.9 | C67: =Sprachtab!A73 -> Sonstiges | F67: =Sprachtab!A157 -> Ja | G67: =Sprachtab!A144 -> Herstellbarkeitsanalyse.
B68: 6. | C68: =Sprachtab!A74 -> Nachweise zur Software
B69: 6.1 | C69: =Sprachtab!A75 -> SW-Einsatzfreigabe (z.B. Anlage 5 "Deckblatt PPF Software") | F69: =Sprachtab!A157 -> Ja | G69: =Sprachtab!A145 -> Anlage 5 aus dem VDA Band 2 (2020). Siehe auch Kapitel 5 der QD83.
B70: 6.2 | C70: =Sprachtab!A76 -> Festlegung des Kontextes ("Scope") des zu liefernden Softwareproduktes | F70: =Sprachtab!A157 -> Ja | G70: =Sprachtab!A146 -> Anlage 5 aus dem VDA Band 2 (2020) und entprechende Nachweise. Siehe auch Kapitel 5 der QD83.
B71: 6.3 | C71: =Sprachtab!A77 -> Referenz zu vertraglich festgelegten Qualitätsanforderungen (z.B. Coding Guidelines, Codemetriken, Testabdeckung) | F71: =Sprachtab!A157 -> Ja | G71: =Sprachtab!A147 -> Anlage 5 aus dem VDA Band 2 (2020) und entprechende Nachweise. Siehe auch Kapitel 5 der QD83.
B72: 6.4 | C72: =Sprachtab!A78 -> Dokumentation der technischen SW-Spezifikationen | F72: =Sprachtab!A157 -> Ja | G72: =Sprachtab!A148 -> Anlage 5 aus dem VDA Band 2 (2020) und entprechende Nachweise. Siehe auch Kapitel 5 der QD83.
B73: 6.5 | C73: =Sprachtab!A79 -> Nachweis Umsetzung der Anforderungen 6.3 u. 6.4 | F73: =Sprachtab!A157 -> Ja | G73: =Sprachtab!A149 -> Anlage 5 aus dem VDA Band 2 (2020) und entprechende Nachweise. Siehe auch Kapitel 5 der QD83.
B74: 6.6 | C74: =Sprachtab!A80 -> Dokumentation über FOSS (Free-and-Open-Source-Software) | F74: =Sprachtab!A157 -> Ja | G74: =Sprachtab!A150 -> Anlage 5 aus dem VDA Band 2 (2020) und entprechende Nachweise. Siehe auch Kapitel 5 der QD83.
B75: 6.7 | C75: =Sprachtab!A81 -> Liste bekannter Fehler | F75: =Sprachtab!A157 -> Ja | G75: =Sprachtab!A151 -> Anlage 5 aus dem VDA Band 2 (2020) und entprechende Nachweise. Siehe auch Kapitel 5 der QD83.
B76: 6.8 | C76: =Sprachtab!A82 -> Dokumentation des während der gesamten Projektlaufzeit eingesetzten Entwicklungswerkzeuge | F76: =Sprachtab!A157 -> Ja | G76: =Sprachtab!A152 -> Anlage 5 aus dem VDA Band 2 (2020) und entprechende Nachweise. Siehe auch Kapitel 5 der QD83.
B77: 6.9 | C77: =Sprachtab!A83 -> Dokumentation des während der gesamten Projektlaufzeit eingesetzten Testwerkzeuge | F77: =Sprachtab!A157 -> Ja | G77: =Sprachtab!A153 -> Anlage 5 aus dem VDA Band 2 (2020) und entprechende Nachweise. Siehe auch Kapitel 5 der QD83.
B78: 6.10 | C78: =Sprachtab!A84 -> Dokumentation des Versionsmanagements (Baseline, Konfigurationen, Änderungshistorie) | F78: =Sprachtab!A157 -> Ja | G78: =Sprachtab!A154 -> Anlage 5 aus dem VDA Band 2 (2020) und entprechende Nachweise. Siehe auch Kapitel 5 der QD83.
B79: 6.11 | C79: =Sprachtab!A85 -> Nachweis einer Prozessbewertung (z.B. Automotive Spice) | F79: =Sprachtab!A157 -> Ja | G79: =Sprachtab!A155 -> Anlage 5 aus dem VDA Band 2 (2020) und entprechende Nachweise. Siehe auch Kapitel 5 der QD83.
B80: =Sprachtab!A156 -> Formulare, Struktur und Übermittlung an SIGNATA: Die Formulare des VDA Band 2 (2020) können auf der Seite "https://vda-qmc.de/downloads/" mit dem Passwort "2020anlagenvda2" bezogen werden. Die QD83, dazugehörige Formulare und die PPF Struktur Datei können auf der SIGNATA Internetseite unter Downloads bezogen werden "https://signata.group/downloads". Die PPF Dokumente müssen in die PPF Struktur Datei integriert und mittels "Rocket TRUfusion" an SIGNATA übermittelt werden. Bei Versionsänderungen (Material und/oder Dokument) müssen zusätzlich zu den geänderten Dokumenten auch alle Dokumente der Vorgängerversionen erneut eingereicht werden.

Sheet Sprachtab
A1: 1 | B1: Deutsch | C1: English
A2: =INDEX(B2:C2,1,$A$1) -> Produktionsprozess- / Produktfreigabe nach VDA Band 2 (2020) | B2: Produktionsprozess- / Produktfreigabe nach VDA Band 2 (2020) | C2: Production Part Approval Process acc. to VDA volume 2 (2020)
A3: =INDEX(B3:C3,1,$A$1) -> Entscheidung | B3: Entscheidung | C3: Decision
A4: =INDEX(B4:C4,1,$A$1) -> Ordnungs- nummer | B4: Ordnungs- nummer | C4: Order number
A5: =INDEX(B5:C5,1,$A$1) -> Gemäß Abstimmung zum PPF-Verfahren: "Ja" Vorlage gefordert, "Nein" Vorlage nicht gefordert | B5: Gemäß Abstimmung zum PPF-Verfahren: "Ja" Vorlage gefordert, "Nein" Vorlage nicht gefordert | C5: According to PPA Agreement: "Yes" submission required, "No" submission not required
A6: =INDEX(B6:C6,1,$A$1) -> Vorlage | B6: Vorlage | C6: Submission
A7: =INDEX(B7:C7,1,$A$1) -> PPF-Verfahren zum Kunden abgeschlossen | B7: PPF-Verfahren zum Kunden abgeschlossen | C7: PPA procedure towards customer closed
A8: =INDEX(B8:C8,1,$A$1) -> Aktualisierung der PPF-Dokumentation erforderlich | B8: Aktualisierung der PPF-Dokumentation erforderlich | C8: Update of PPA documentation required
A9: =INDEX(B9:C9,1,$A$1) -> Neues PPF-Verfahren erforderlich | B9: Neues PPF-Verfahren erforderlich | C9: New PPA procedure required | E9: Ja
A10: =INDEX(B10:C10,1,$A$1) -> Bemerkungen | B10: Bemerkungen | C10: Comments | E10: Nein
A11: =INDEX(B11:C11,1,$A$1) -> PPF-Deckblatt / PSW bei PPAP / PPF-Bewertung | B11: PPF-Deckblatt / PSW bei PPAP / PPF-Bewertung | C11: PPA cover sheet / PSW for PPAP / PPA evaluation
A12: =INDEX(B12:C12,1,$A$1) -> Selbstbeurteilung Produkt, Produktionsprozess ggf. Software | B12: Selbstbeurteilung Produkt, Produktionsprozess ggf. Software | C12: Self-assessment for product, process, SW (if appl.)
A13: =INDEX(B13:C13,1,$A$1) -> Nachweise zur Produktentwicklung | B13: Nachweise zur Produktentwicklung | C13: Deliverables of product development
A14: =INDEX(B14:C14,1,$A$1) -> Technische Spezifikationen / Zeichnung | B14: Technische Spezifikationen / Zeichnung | C14: Technical specifications / drawing
A15: =INDEX(B15:C15,1,$A$1) -> Genehmigte Konstruktionsänderungen | B15: Genehmigte Konstruktionsänderungen | C15: Approved design changes
A16: =INDEX(B16:C16,1,$A$1) -> Konstruktions-, Entwicklungsfreigaben der Organisation bei Entwicklungsverantwortung entsprechend Vereinbarung | B16: Konstruktions-, Entwicklungsfreigaben der Organisation bei Entwicklungsverantwortung entsprechend Vereinbarung | C16: Design, engineering approvals by organization in case of development responsibility as per agreement
A17: =INDEX(B17:C17,1,$A$1) -> Materialdaten per IMDS | B17: Materialdaten per IMDS | C17: Material data via IMDS
A18: =INDEX(B18:C18,1,$A$1) -> Design-FMEA (bei Entwicklungsverantwortung) | B18: Design-FMEA (bei Entwicklungsverantwortung) | C18: Design FMEA
A19: =INDEX(B19:C19,1,$A$1) -> Nachweise zur Produktionsprozessentwicklung | B19: Nachweise zur Produktionsprozessentwicklung | C19: Deliverables of production process development
A20: =INDEX(B20:C20,1,$A$1) -> Prozessablaufdiagramm | B20: Prozessablaufdiagramm | C20: Process flowchart
A21: =INDEX(B21:C21,1,$A$1) -> Prozess-FMEA | B21: Prozess-FMEA | C21: Process FMEA
A22: =INDEX(B22:C22,1,$A$1) -> Produktionslenkungsplan | B22: Produktionslenkungsplan | C22: Control plan (CP)
... A158: =INDEX(B158:C158,1,$A$1) -> Nein | B158: Nein | C158: No
