Workbook

Sheet Wochenplan Mitarbeiter
B1: Montag | C1: Dienstag | D1: Mittwoch | E1: Donnerstag | F1: Freitag | G1: Samstag | H1: Sonntag
A2: =Mitarbeiter!A2 -> Miarbeiter 1
A3: =Mitarbeiter!A3 -> Mitarbeiter 2
A4: =Mitarbeiter!A4 -> Mitarbeiter 3
A5: =Mitarbeiter!A5 -> Mitarbeiter 4
A6: =Mitarbeiter!A6 -> Mitarbeiter 5
A7: =Mitarbeiter!A7 -> Mitarbeiter 6
A8: =Mitarbeiter!A8 -> Mitarbeiter 7
A9: =Mitarbeiter!A9 -> Mitarbeiter 8
A10: =Mitarbeiter!A10 -> Mitarbeiter 9
A11: =Mitarbeiter!A11 -> Mitarbeiter 10
A12: =Mitarbeiter!A12 -> Mitarbeiter 11
A13: =Mitarbeiter!A13 -> Mitarbeiter 12
... A21: =Mitarbeiter!A21 -> Mitarbeiter 20

Sheet Wochenplan Schichten
B1: Montag | C1: Dienstag | D1: Mittwoch | E1: Donnerstag | F1: Freitag | G1: Samstag | H1: Sonntag
A2: =Schichten!A2 -> Schicht 1 | B2: Mitarbeiter 4
A3: =Schichten!A3 -> Schicht 2
A4: =Schichten!A4 -> Schicht 3
A5: =Schichten!A5 -> Schicht 4
A6: =Schichten!A6 -> Schicht 5
A7: =Schichten!A7 -> Schicht 6
A8: =Schichten!A8 -> Schicht 7
A9: =Schichten!A9 -> Schicht 8
A10: =Schichten!A10 -> Schicht 9
A11: =Schichten!A11 -> Schicht 10
A12: =Schichten!A12 -> Schicht 11
A13: =Schichten!A13 -> Schicht 12
A14: =Schichten!A14 -> Schicht 13
... A21: =Schichten!A21 -> Schicht 20

Sheet Schichten
A1: Schichten
A2: Schicht 1
A3: Schicht 2
A4: Schicht 3
A5: Schicht 4
A6: Schicht 5
A7: Schicht 6
A8: Schicht 7
A9: Schicht 8
A10: Schicht 9
A11: Schicht 10
A12: Schicht 11
... A21: Schicht 20

Sheet Mitarbeiter
A1: Namen
A2: Miarbeiter 1
A3: Mitarbeiter 2
A4: Mitarbeiter 3
A5: Mitarbeiter 4
A6: Mitarbeiter 5
A7: Mitarbeiter 6
A8: Mitarbeiter 7
A9: Mitarbeiter 8
A10: Mitarbeiter 9
A11: Mitarbeiter 10
A12: Mitarbeiter 11
... A21: Mitarbeiter 20
