Workbook

Sheet Gästeliste
A2: Kontaktdaten | I2: Für die Tischplanung | K2: Einladung zu | P2: Hotel
A3: Anrede | B3: Vorname | C3: Nachname | D3: Staße & Hausnummer | E3: PLZ & Ort | F3: Land | G3: E-Mail | H3: Telefon | I3: Gästekategorie ℹ Eigene Kategorien in Tabellenblatt "Gastekategorien" einfügen | J3: Gästealter | K3: Trauung | L3: Kirche / freie Trauung | M3: Hochzeitsessen (mit Platz an Hochzeitstafel) | N3: Party | O3: Polterabend | P3: Übernachtung benötigt | Q3: Shuttle benötigt? | R3: Besonderheiten Menü (Vegetarisch, Allergien, Menüwahl ... )
A5: Herr | B5: Max | C5: Mustermann | D5: Musterstraße 3 | E5: 04567 Musterort | F5: Deutschland | G5: muster@mustermail.com | H5: 0123/456789 | I5: Freunde Bräutigam | J5: Erwachsener | K5: Nein | L5: Ja | M5: Ja | N5: Ja
A6: Herr | B6: Michael | C6: Muster | D6: Am Musterweg 1 | E6: 08910 Musterstädt | F6: Österreich | G6: muster@mustermail.com | H6: 0987/654321 | I6: Freunde beide | J6: Erwachsener | K6: Nein | L6: Ja | M6: Ja | N6: Ja | O6: Ja | P6: Ja | Q6: Nein | R6: Nussallergie
B7: Johannes | C7: Muster | D7: (Kind von Michael Muster) | I7: Freunde beide | J7: Kind | L7: Ja | M7: Ja | N7: Ja | O7: Ja | P7: Ja | Q7: Nein
A8: Frau | B8: Maria | C8: Muster | D8: (Frau von Michael Muster) | I8: Freunde beide | J8: Erwachsener | L8: Ja | M8: Ja | N8: Ja | O8: Ja | P8: Ja | Q8: Nein | R8: vegetarisch
I9: Eigene Kategorie 1

Sheet Für die Einladungen
A2: Kontaktdaten | G2: Einladung zu ℹ Wird im ersten Tabellenblatt "Gästeliste" gepflegt | L2: Karte verschickt? | O2: Antwort
A3: Anrede | B3: Vorname | C3: Nachname | D3: Staße & Hausnummer | E3: PLZ & Ort | F3: Land | G3: Trauung | H3: Kirche / freie Trauung | I3: Hochzeitsessen (mit Platz an Hochzeitstafel) | J3: Party | K3: Polterabend | L3: Save the Date WhatsApp | M3: Save the Date Karte | N3: Hochzeitseinladung | O3: Zu- oder Absage | P3: unter Vorbehalt bis
A5: =Gästeliste!A5 -> Herr | B5: =Gästeliste!B5 -> Max | C5: =Gästeliste!C5 -> Mustermann | D5: =Gästeliste!D5 -> Musterstraße 3 | E5: =Gästeliste!E5 -> 04567 Musterort | F5: =Gästeliste!F5 -> Deutschland | G5: =Gästeliste!K5 -> Nein | H5: =Gästeliste!L5 -> Ja | I5: =Gästeliste!M5 -> Ja | J5: =Gästeliste!N5 -> Ja | K5: =Gästeliste!O5 -> 0 | L5: ✓ | M5: X | N5: ✓ | O5: ✓ | P5: 45838
A6: =Gästeliste!A6 -> Herr | B6: =Gästeliste!B6 -> Michael | C6: =Gästeliste!C6 -> Muster | D6: =Gästeliste!D6 -> Am Musterweg 1 | E6: =Gästeliste!E6 -> 08910 Musterstädt | F6: =Gästeliste!F6 -> Österreich | G6: =Gästeliste!K6 -> Nein | H6: =Gästeliste!L6 -> Ja | I6: Ja | J6: =Gästeliste!N6 -> Ja | K6: =Gästeliste!O6 -> Ja | M6: ✓ | N6: ✓ | O6: ✓
A7: =Gästeliste!A7 -> 0 | B7: =Gästeliste!B7 -> Johannes | C7: =Gästeliste!C7 -> Muster | D7: =Gästeliste!D7 -> (Kind von Michael Muster) | E7: =Gästeliste!E7 -> 0 | F7: =Gästeliste!F7 -> 0 | G7: =Gästeliste!K7 -> 0 | H7: =Gästeliste!L7 -> Ja | I7: =Gästeliste!M7 -> Ja | J7: =Gästeliste!N7 -> Ja | K7: =Gästeliste!O7 -> Ja
A8: =Gästeliste!A8 -> Frau | B8: =Gästeliste!B8 -> Maria | C8: =Gästeliste!C8 -> Muster | D8: =Gästeliste!D8 -> (Frau von Michael Muster) | E8: =Gästeliste!E8 -> 0 | F8: =Gästeliste!F8 -> 0 | G8: =Gästeliste!K8 -> 0 | H8: =Gästeliste!L8 -> Ja | I8: =Gästeliste!M8 -> Ja | J8: =Gästeliste!N8 -> Ja | K8: =Gästeliste!O8 -> Ja
A9: =Gästeliste!A9 -> 0 | B9: =Gästeliste!B9 -> 0 | C9: =Gästeliste!C9 -> 0 | D9: =Gästeliste!D9 -> 0 | E9: =Gästeliste!E9 -> 0 | G9: =Gästeliste!K9 -> 0 | H9: =Gästeliste!L9 -> 0 | I9: =Gästeliste!M9 -> 0 | J9: =Gästeliste!N9 -> 0 | K9: =Gästeliste!O9 -> 0
A10: =Gästeliste!A10 -> 0 | B10: =Gästeliste!B10 -> 0 | C10: =Gästeliste!C10 -> 0 | D10: =Gästeliste!D10 -> 0 | E10: =Gästeliste!E10 -> 0 | F10: =Gästeliste!F10 -> 0 | G10: =Gästeliste!K10 -> 0 | H10: =Gästeliste!L10 -> 0 | I10: =Gästeliste!M10 -> 0 | J10: =Gästeliste!N10 -> 0 | K10: =Gästeliste!O10 -> 0
A11: =Gästeliste!A11 -> 0 | B11: =Gästeliste!B11 -> 0 | C11: =Gästeliste!C11 -> 0 | D11: =Gästeliste!D11 -> 0 | E11: =Gästeliste!E11 -> 0 | F11: =Gästeliste!F11 -> 0 | G11: =Gästeliste!K11 -> 0 | H11: =Gästeliste!L11 -> 0 | I11: =Gästeliste!M11 -> 0 | J11: =Gästeliste!N11 -> 0 | K11: =Gästeliste!O11 -> 0
A12: =Gästeliste!A12 -> 0 | B12: =Gästeliste!B12 -> 0 | C12: =Gästeliste!C12 -> 0 | D12: =Gästeliste!D12 -> 0 | E12: =Gästeliste!E12 -> 0 | F12: =Gästeliste!F12 -> 0 | G12: =Gästeliste!K12 -> 0 | H12: =Gästeliste!L12 -> 0 | I12: =Gästeliste!M12 -> 0 | J12: =Gästeliste!N12 -> 0 | K12: =Gästeliste!O12 -> 0
A13: =Gästeliste!A13 -> 0 | B13: =Gästeliste!B13 -> 0 | C13: =Gästeliste!C13 -> 0 | D13: =Gästeliste!D13 -> 0 | E13: =Gästeliste!E13 -> 0 | F13: =Gästeliste!F13 -> 0 | G13: =Gästeliste!K13 -> 0 | H13: =Gästeliste!L13 -> 0 | I13: =Gästeliste!M13 -> 0 | J13: =Gästeliste!N13 -> 0 | K13: =Gästeliste!O13 -> 0 | R13: ⯈ Save the Date Karten entdecken
A14: =Gästeliste!A14 -> 0 | B14: =Gästeliste!B14 -> 0 | C14: =Gästeliste!C14 -> 0 | D14: =Gästeliste!D14 -> 0 | E14: =Gästeliste!E14 -> 0 | F14: =Gästeliste!F14 -> 0 | G14: =Gästeliste!K14 -> 0 | H14: =Gästeliste!L14 -> 0 | I14: =Gästeliste!M14 -> 0 | J14: =Gästeliste!N14 -> 0 | K14: =Gästeliste!O14 -> 0
A15: =Gästeliste!A15 -> 0 | B15: =Gästeliste!B15 -> 0 | C15: =Gästeliste!C15 -> 0 | D15: =Gästeliste!D15 -> 0 | E15: =Gästeliste!E15 -> 0 | F15: =Gästeliste!F15 -> 0 | G15: =Gästeliste!K15 -> 0 | H15: =Gästeliste!L15 -> 0 | I15: =Gästeliste!M15 -> 0 | J15: =Gästeliste!N15 -> 0 | K15: =Gästeliste!O15 -> 0
A16: =Gästeliste!A16 -> 0 | B16: =Gästeliste!B16 -> 0 | C16: =Gästeliste!C16 -> 0 | D16: =Gästeliste!D16 -> 0 | E16: =Gästeliste!E16 -> 0 | F16: =Gästeliste!F16 -> 0 | G16: =Gästeliste!K16 -> 0 | H16: =Gästeliste!L16 -> 0 | I16: =Gästeliste!M16 -> 0 | J16: =Gästeliste!N16 -> 0 | K16: =Gästeliste!O16 -> 0
A17: =Gästeliste!A17 -> 0 | B17: =Gästeliste!B17 -> 0 | C17: =Gästeliste!C17 -> 0 | D17: =Gästeliste!D17 -> 0 | E17: =Gästeliste!E17 -> 0 | F17: =Gästeliste!F17 -> 0 | G17: =Gästeliste!K17 -> 0 | H17: =Gästeliste!L17 -> 0 | I17: =Gästeliste!M17 -> 0 | J17: =Gästeliste!N17 -> 0 | K17: =Gästeliste!O17 -> 0
A18: =Gästeliste!A18 -> 0 | B18: =Gästeliste!B18 -> 0 | C18: =Gästeliste!C18 -> 0 | D18: =Gästeliste!D18 -> 0 | E18: =Gästeliste!E18 -> 0 | F18: =Gästeliste!F18 -> 0 | G18: =Gästeliste!K18 -> 0 | H18: =Gästeliste!L18 -> 0 | I18: =Gästeliste!M18 -> 0 | J18: =Gästeliste!N18 -> 0 | K18: =Gästeliste!O18 -> 0
A19: =Gästeliste!A19 -> 0 | B19: =Gästeliste!B19 -> 0 | C19: =Gästeliste!C19 -> 0 | D19: =Gästeliste!D19 -> 0 | E19: =Gästeliste!E19 -> 0 | F19: =Gästeliste!F19 -> 0 | G19: =Gästeliste!K19 -> 0 | H19: =Gästeliste!L19 -> 0 | I19: =Gästeliste!M19 -> 0 | J19: =Gästeliste!N19 -> 0 | K19: =Gästeliste!O19 -> 0
A20: =Gästeliste!A20 -> 0 | B20: =Gästeliste!B20 -> 0 | C20: =Gästeliste!C20 -> 0 | D20: =Gästeliste!D20 -> 0 | E20: =Gästeliste!E20 -> 0 | F20: =Gästeliste!F20 -> 0 | G20: =Gästeliste!K20 -> 0 | H20: =Gästeliste!L20 -> 0 | I20: =Gästeliste!M20 -> 0 | J20: =Gästeliste!N20 -> 0 | K20: =Gästeliste!O20 -> 0
A21: =Gästeliste!A21 -> 0 | B21: =Gästeliste!B21 -> 0 | C21: =Gästeliste!C21 -> 0 | D21: =Gästeliste!D21 -> 0 | E21: =Gästeliste!E21 -> 0 | F21: =Gästeliste!F21 -> 0 | G21: =Gästeliste!K21 -> 0 | H21: =Gästeliste!L21 -> 0 | I21: =Gästeliste!M21 -> 0 | J21: =Gästeliste!N21 -> 0 | K21: =Gästeliste!O21 -> 0
A22: =Gästeliste!A22 -> 0 | B22: =Gästeliste!B22 -> 0 | C22: =Gästeliste!C22 -> 0 | D22: =Gästeliste!D22 -> 0 | E22: =Gästeliste!E22 -> 0 | F22: =Gästeliste!F22 -> 0 | G22: =Gästeliste!K22 -> 0 | H22: =Gästeliste!L22 -> 0 | I22: =Gästeliste!M22 -> 0 | J22: =Gästeliste!N22 -> 0 | K22: =Gästeliste!O22 -> 0
A23: =Gästeliste!A23 -> 0 | B23: =Gästeliste!B23 -> 0 | C23: =Gästeliste!C23 -> 0 | D23: =Gästeliste!D23 -> 0 | E23: =Gästeliste!E23 -> 0 | F23: =Gästeliste!F23 -> 0 | G23: =Gästeliste!K23 -> 0 | H23: =Gästeliste!L23 -> 0 | I23: =Gästeliste!M23 -> 0 | J23: =Gästeliste!N23 -> 0 | K23: =Gästeliste!O23 -> 0
A24: =Gästeliste!A24 -> 0 | B24: =Gästeliste!B24 -> 0 | C24: =Gästeliste!C24 -> 0 | D24: =Gästeliste!D24 -> 0 | E24: =Gästeliste!E24 -> 0 | F24: =Gästeliste!F24 -> 0 | G24: =Gästeliste!K24 -> 0 | H24: =Gästeliste!L24 -> 0 | I24: =Gästeliste!M24 -> 0 | J24: =Gästeliste!N24 -> 0 | K24: =Gästeliste!O24 -> 0
A25: =Gästeliste!A25 -> 0 | B25: =Gästeliste!B25 -> 0 | C25: =Gästeliste!C25 -> 0 | D25: =Gästeliste!D25 -> 0 | E25: =Gästeliste!E25 -> 0 | F25: =Gästeliste!F25 -> 0 | G25: =Gästeliste!K25 -> 0 | H25: =Gästeliste!L25 -> 0 | I25: =Gästeliste!M25 -> 0 | J25: =Gästeliste!N25 -> 0 | K25: =Gästeliste!O25 -> 0
... A39: =Gästeliste!A39 -> 0 | B39: =Gästeliste!B39 -> 0 | C39: =Gästeliste!C39 -> 0 | D39: =Gästeliste!D39 -> 0 | E39: =Gästeliste!E39 -> 0 | F39: =Gästeliste!F39 -> 0 | G39: =Gästeliste!K39 -> 0 | H39: =Gästeliste!L39 -> 0 | I39: =Gästeliste!M39 -> 0 | J39: =Gästeliste!N39 -> 0 | K39: =Gästeliste!O39 -> 0
A40: =Gästeliste!A40 -> 0 | B40: =Gästeliste!B40 -> 0 | C40: =Gästeliste!C40 -> 0 | D40: =Gästeliste!D40 -> 0 | E40: =Gästeliste!E40 -> 0 | F40: =Gästeliste!F40 -> 0 | G40: =Gästeliste!K40 -> 0 | H40: =Gästeliste!L40 -> 0 | I40: =Gästeliste!M40 -> 0 | J40: =Gästeliste!N40 -> 0 | K40: =Gästeliste!O40 -> 0 | R40: ⯈ Zu unseren Hochzeitseinladungen
A41: =Gästeliste!A41 -> 0 | B41: =Gästeliste!B41 -> 0 | C41: =Gästeliste!C41 -> 0 | D41: =Gästeliste!D41 -> 0 | E41: =Gästeliste!E41 -> 0 | F41: =Gästeliste!F41 -> 0 | G41: =Gästeliste!K41 -> 0 | H41: =Gästeliste!L41 -> 0 | I41: =Gästeliste!M41 -> 0 | J41: =Gästeliste!N41 -> 0 | K41: =Gästeliste!O41 -> 0
A42: =Gästeliste!A42 -> 0 | B42: =Gästeliste!B42 -> 0 | C42: =Gästeliste!C42 -> 0 | D42: =Gästeliste!D42 -> 0 | E42: =Gästeliste!E42 -> 0 | F42: =Gästeliste!F42 -> 0 | G42: =Gästeliste!K42 -> 0 | H42: =Gästeliste!L42 -> 0 | I42: =Gästeliste!M42 -> 0 | J42: =Gästeliste!N42 -> 0 | K42: =Gästeliste!O42 -> 0
A43: =Gästeliste!A43 -> 0 | B43: =Gästeliste!B43 -> 0 | C43: =Gästeliste!C43 -> 0 | D43: =Gästeliste!D43 -> 0 | E43: =Gästeliste!E43 -> 0 | F43: =Gästeliste!F43 -> 0 | G43: =Gästeliste!K43 -> 0 | H43: =Gästeliste!L43 -> 0 | I43: =Gästeliste!M43 -> 0 | J43: =Gästeliste!N43 -> 0 | K43: =Gästeliste!O43 -> 0
A44: =Gästeliste!A44 -> 0 | B44: =Gästeliste!B44 -> 0 | C44: =Gästeliste!C44 -> 0 | D44: =Gästeliste!D44 -> 0 | E44: =Gästeliste!E44 -> 0 | F44: =Gästeliste!F44 -> 0 | G44: =Gästeliste!K44 -> 0 | H44: =Gästeliste!L44 -> 0 | I44: =Gästeliste!M44 -> 0 | J44: =Gästeliste!N44 -> 0 | K44: =Gästeliste!O44 -> 0
A45: =Gästeliste!A45 -> 0 | B45: =Gästeliste!B45 -> 0 | C45: =Gästeliste!C45 -> 0 | D45: =Gästeliste!D45 -> 0 | E45: =Gästeliste!E45 -> 0 | F45: =Gästeliste!F45 -> 0 | G45: =Gästeliste!K45 -> 0 | H45: =Gästeliste!L45 -> 0 | I45: =Gästeliste!M45 -> 0 | J45: =Gästeliste!N45 -> 0 | K45: =Gästeliste!O45 -> 0
A46: =Gästeliste!A46 -> 0 | B46: =Gästeliste!B46 -> 0 | C46: =Gästeliste!C46 -> 0 | D46: =Gästeliste!D46 -> 0 | E46: =Gästeliste!E46 -> 0 | F46: =Gästeliste!F46 -> 0 | G46: =Gästeliste!K46 -> 0 | H46: =Gästeliste!L46 -> 0 | I46: =Gästeliste!M46 -> 0 | J46: =Gästeliste!N46 -> 0 | K46: =Gästeliste!O46 -> 0
A47: =Gästeliste!A47 -> 0 | B47: =Gästeliste!B47 -> 0 | C47: =Gästeliste!C47 -> 0 | D47: =Gästeliste!D47 -> 0 | E47: =Gästeliste!E47 -> 0 | F47: =Gästeliste!F47 -> 0 | G47: =Gästeliste!K47 -> 0 | H47: =Gästeliste!L47 -> 0 | I47: =Gästeliste!M47 -> 0 | J47: =Gästeliste!N47 -> 0 | K47: =Gästeliste!O47 -> 0
A48: =Gästeliste!A48 -> 0 | B48: =Gästeliste!B48 -> 0 | C48: =Gästeliste!C48 -> 0 | D48: =Gästeliste!D48 -> 0 | E48: =Gästeliste!E48 -> 0 | F48: =Gästeliste!F48 -> 0 | G48: =Gästeliste!K48 -> 0 | H48: =Gästeliste!L48 -> 0 | I48: =Gästeliste!M48 -> 0 | J48: =Gästeliste!N48 -> 0 | K48: =Gästeliste!O48 -> 0
A49: =Gästeliste!A49 -> 0 | B49: =Gästeliste!B49 -> 0 | C49: =Gästeliste!C49 -> 0 | D49: =Gästeliste!D49 -> 0 | E49: =Gästeliste!E49 -> 0 | F49: =Gästeliste!F49 -> 0 | G49: =Gästeliste!K49 -> 0 | H49: =Gästeliste!L49 -> 0 | I49: =Gästeliste!M49 -> 0 | J49: =Gästeliste!N49 -> 0 | K49: =Gästeliste!O49 -> 0
A50: =Gästeliste!A50 -> 0 | B50: =Gästeliste!B50 -> 0 | C50: =Gästeliste!C50 -> 0 | D50: =Gästeliste!D50 -> 0 | E50: =Gästeliste!E50 -> 0 | F50: =Gästeliste!F50 -> 0 | G50: =Gästeliste!K50 -> 0 | H50: =Gästeliste!L50 -> 0 | I50: =Gästeliste!M50 -> 0 | J50: =Gästeliste!N50 -> 0 | K50: =Gästeliste!O50 -> 0
A51: =Gästeliste!A51 -> 0 | B51: =Gästeliste!B51 -> 0 | C51: =Gästeliste!C51 -> 0 | D51: =Gästeliste!D51 -> 0 | E51: =Gästeliste!E51 -> 0 | F51: =Gästeliste!F51 -> 0 | G51: =Gästeliste!K51 -> 0 | H51: =Gästeliste!L51 -> 0 | I51: =Gästeliste!M51 -> 0 | J51: =Gästeliste!N51 -> 0 | K51: =Gästeliste!O51 -> 0
A52: =Gästeliste!A52 -> 0 | B52: =Gästeliste!B52 -> 0 | C52: =Gästeliste!C52 -> 0 | D52: =Gästeliste!D52 -> 0 | E52: =Gästeliste!E52 -> 0 | F52: =Gästeliste!F52 -> 0 | G52: =Gästeliste!K52 -> 0 | H52: =Gästeliste!L52 -> 0 | I52: =Gästeliste!M52 -> 0 | J52: =Gästeliste!N52 -> 0 | K52: =Gästeliste!O52 -> 0
... A151: =Gästeliste!A151 -> 0 | B151: =Gästeliste!B151 -> 0 | C151: =Gästeliste!C151 -> 0 | D151: =Gästeliste!D151 -> 0 | E151: =Gästeliste!E151 -> 0 | F151: =Gästeliste!F151 -> 0 | G151: =Gästeliste!K151 -> 0 | H151: =Gästeliste!L151 -> 0 | I151: =Gästeliste!M151 -> 0 | J151: =Gästeliste!N151 -> 0 | K151: =Gästeliste!O151 -> 0

Sheet Für die Tischplanung
A2: Für die Tischplanung | G2: Tischkarten für
A3: Vorname | B3: Nachname | C3: Gästekategorie | D3: Gästealter | E3: Zum Essen eingeladen | F3: Tischnummer | G3: Namen ℹ "Zum Essen eingeladen" = "Ja"
A4: =Gästeliste!B5 -> Max | B4: =Gästeliste!C5 -> Mustermann | C4: =Gästeliste!I5 -> Freunde Bräutigam | D4: =Gästeliste!J5 -> Erwachsener | E4: =Gästeliste!M5 -> Ja | F4: 2 | G4: =IF(E4="Ja",A4,) -> Max
A5: =Gästeliste!B6 -> Michael | B5: =Gästeliste!C6 -> Muster | C5: =Gästeliste!I6 -> Freunde beide | D5: =Gästeliste!J6 -> Erwachsener | E5: =Gästeliste!M6 -> Ja | F5: 4 | G5: =IF(E5="Ja",A5,) -> Michael
A6: =Gästeliste!B7 -> Johannes | B6: =Gästeliste!C7 -> Muster | C6: =Gästeliste!I7 -> Freunde beide | D6: =Gästeliste!J7 -> Kind | E6: Ja | F6: 4 | G6: =IF(E6="Ja",A6,) -> Johannes
A7: =Gästeliste!B8 -> Maria | B7: =Gästeliste!C8 -> Muster | C7: =Gästeliste!I8 -> Freunde beide | D7: =Gästeliste!J8 -> Erwachsener | E7: =Gästeliste!M8 -> Ja | F7: 4 | G7: =IF(E7="Ja",A7,) -> Maria
A8: =Gästeliste!B9 -> 0 | B8: =Gästeliste!C9 -> 0 | C8: =Gästeliste!I9 -> Eigene Kategorie 1 | D8: =Gästeliste!J9 -> 0 | E8: =Gästeliste!M9 -> 0 | G8: =IF(E8="Ja",A8,) -> 0
A9: =Gästeliste!B10 -> 0 | B9: =Gästeliste!C10 -> 0 | C9: =Gästeliste!I10 -> 0 | D9: =Gästeliste!J10 -> 0 | E9: =Gästeliste!M10 -> 0
A10: =Gästeliste!B11 -> 0 | B10: =Gästeliste!C11 -> 0 | C10: =Gästeliste!I11 -> 0 | D10: =Gästeliste!J11 -> 0 | E10: =Gästeliste!M11 -> 0
A11: =Gästeliste!B12 -> 0 | B11: =Gästeliste!C12 -> 0 | C11: =Gästeliste!I12 -> 0 | D11: =Gästeliste!J12 -> 0 | E11: =Gästeliste!M12 -> 0
A12: =Gästeliste!B13 -> 0 | B12: =Gästeliste!C13 -> 0 | C12: =Gästeliste!I13 -> 0 | D12: =Gästeliste!J13 -> 0 | E12: =Gästeliste!M13 -> 0
A13: =Gästeliste!B14 -> 0 | B13: =Gästeliste!C14 -> 0 | C13: =Gästeliste!I14 -> 0 | D13: =Gästeliste!J14 -> 0 | E13: =Gästeliste!M14 -> 0
A14: =Gästeliste!B15 -> 0 | B14: =Gästeliste!C15 -> 0 | C14: =Gästeliste!I15 -> 0 | D14: =Gästeliste!J15 -> 0 | E14: =Gästeliste!M15 -> 0
A15: =Gästeliste!B16 -> 0 | B15: =Gästeliste!C16 -> 0 | C15: =Gästeliste!I16 -> 0 | D15: =Gästeliste!J16 -> 0 | E15: =Gästeliste!M16 -> 0
A16: =Gästeliste!B17 -> 0 | B16: =Gästeliste!C17 -> 0 | C16: =Gästeliste!I17 -> 0 | D16: =Gästeliste!J17 -> 0 | E16: =Gästeliste!M17 -> 0
A17: =Gästeliste!B18 -> 0 | B17: =Gästeliste!C18 -> 0 | C17: =Gästeliste!I18 -> 0 | D17: =Gästeliste!J18 -> 0 | E17: =Gästeliste!M18 -> 0
A18: =Gästeliste!B19 -> 0 | B18: =Gästeliste!C19 -> 0 | C18: =Gästeliste!I19 -> 0 | D18: =Gästeliste!J19 -> 0 | E18: =Gästeliste!M19 -> 0
I19: ⯈ Tischkarten entdecken
I46: ⯈ Gastgeschenke shoppen

Sheet Für die Hotelbuchung
A2: Hotel
A3: Vorname | B3: Nachname | C3: Übernachtung benötigt ℹ Wird in Tabellenblatt "Gästeliste" gepflegt | D3: Anzahl Zimmer | E3: Zimmertyp | F3: Buchung inkl. Frühstück? | G3: Hotelname | H3: Anreisetag | I3: Abreisetag | J3: Kind? Wenn ja, wie alt? | K3: Besonderheiten (Aufbettung, nebeneinander liegende Zimmer, ... ) | L3: Shuttle benötigt? ℹ Wird in Tabellenblatt "Gästeliste" gepflegt | M3: Gebucht?
A4: =Gästeliste!B5 -> Max | B4: =Gästeliste!C5 -> Mustermann | C4: =Gästeliste!P5 -> 0 | L4: =Gästeliste!Q5 -> 0
A5: =Gästeliste!B6 -> Michael | B5: =Gästeliste!C6 -> Muster | C5: =Gästeliste!P6 -> Ja | D5: 1 | E5: DZ | F5: ✓ | G5: Musterhotel | H5: 45443 | I5: 45445 | K5: mit Aufbettung oder nebeneinander | L5: =Gästeliste!Q6 -> Nein | M5: ✓
A6: =Gästeliste!B7 -> Johannes | B6: =Gästeliste!C7 -> Muster | C6: =Gästeliste!P7 -> Ja | F6: ✓ | H6: 45443 | I6: 45445 | J6: 12 | K6: mit Aufbettung oder nebeneinander | L6: =Gästeliste!Q7 -> Nein | M6: ✓
A7: =Gästeliste!B8 -> Maria | B7: =Gästeliste!C8 -> Muster | C7: =Gästeliste!P8 -> Ja | F7: ✓ | H7: 45443 | I7: 45445 | K7: mit Aufbettung oder nebeneinander | L7: =Gästeliste!Q8 -> Nein | M7: ✓
A8: =Gästeliste!B9 -> 0 | B8: =Gästeliste!C9 -> 0 | C8: =Gästeliste!P9 -> 0
A9: =Gästeliste!B10 -> 0 | B9: =Gästeliste!C10 -> 0 | C9: =Gästeliste!P10 -> 0
A10: =Gästeliste!B11 -> 0 | B10: =Gästeliste!C11 -> 0 | C10: =Gästeliste!P11 -> 0 | L10: =Gästeliste!Q11 -> 0
A11: =Gästeliste!B12 -> 0 | B11: =Gästeliste!C12 -> 0 | C11: =Gästeliste!P12 -> 0 | L11: =Gästeliste!Q12 -> 0
A12: =Gästeliste!B13 -> 0 | B12: =Gästeliste!C13 -> 0 | C12: =Gästeliste!P13 -> 0 | L12: =Gästeliste!Q13 -> 0
A13: =Gästeliste!B14 -> 0 | B13: =Gästeliste!C14 -> 0 | C13: =Gästeliste!P14 -> 0 | L13: =Gästeliste!Q14 -> 0
A14: =Gästeliste!B15 -> 0 | B14: =Gästeliste!C15 -> 0 | C14: =Gästeliste!P15 -> 0 | L14: =Gästeliste!Q15 -> 0 | O14: ⯈ Zum Türschild Freebie
A15: =Gästeliste!B16 -> 0 | B15: =Gästeliste!C16 -> 0 | C15: =Gästeliste!P16 -> 0 | L15: =Gästeliste!Q16 -> 0
A16: =Gästeliste!B17 -> 0 | B16: =Gästeliste!C17 -> 0 | C16: =Gästeliste!P17 -> 0 | L16: =Gästeliste!Q17 -> 0
A17: =Gästeliste!B18 -> 0 | B17: =Gästeliste!C18 -> 0 | C17: =Gästeliste!P18 -> 0 | L17: =Gästeliste!Q18 -> 0
A18: =Gästeliste!B19 -> 0 | B18: =Gästeliste!C19 -> 0 | C18: =Gästeliste!P19 -> 0 | L18: =Gästeliste!Q19 -> 0
A19: =Gästeliste!B20 -> 0 | B19: =Gästeliste!C20 -> 0 | C19: =Gästeliste!P20 -> 0 | L19: =Gästeliste!Q20 -> 0

Sheet Für das Catering
A2: Für das Catering
A3: Vorname | B3: Nachname | C3: Zum Essen eingeladen | D3: Tischnummer | E3: Besonderheiten Menü (Vegetarisch, Allergien, Menüwahl, ... )
A4: =Gästeliste!B5 -> Max | B4: =Gästeliste!C5 -> Mustermann | C4: =Gästeliste!M5 -> Ja | D4: ='Für die Tischplanung'!F4 -> 2 | E4: =Gästeliste!R5 -> 0
A5: =Gästeliste!B6 -> Michael | B5: =Gästeliste!C6 -> Muster | C5: =Gästeliste!M6 -> Ja | D5: ='Für die Tischplanung'!F5 -> 4 | E5: =Gästeliste!R6 -> Nussallergie
A6: =Gästeliste!B7 -> Johannes | B6: =Gästeliste!C7 -> Muster | C6: =Gästeliste!M7 -> Ja | D6: ='Für die Tischplanung'!F6 -> 4 | E6: =Gästeliste!R7 -> 0
A7: =Gästeliste!B8 -> Maria | B7: =Gästeliste!C8 -> Muster | C7: =Gästeliste!M8 -> Ja | D7: ='Für die Tischplanung'!F7 -> 4 | E7: =Gästeliste!R8 -> vegetarisch
A8: =Gästeliste!B9 -> 0 | B8: =Gästeliste!C9 -> 0 | C8: =Gästeliste!M9 -> 0 | D8: ='Für die Tischplanung'!F8 -> 0 | E8: =Gästeliste!R9 -> 0
A9: =Gästeliste!B10 -> 0 | B9: =Gästeliste!C10 -> 0 | C9: =Gästeliste!M10 -> 0 | D9: ='Für die Tischplanung'!F9 -> 0 | E9: =Gästeliste!R10 -> 0
A10: =Gästeliste!B11 -> 0 | B10: =Gästeliste!C11 -> 0 | C10: =Gästeliste!M11 -> 0 | D10: ='Für die Tischplanung'!F10 -> 0 | E10: =Gästeliste!R11 -> 0
A11: =Gästeliste!B12 -> 0 | B11: =Gästeliste!C12 -> 0 | C11: =Gästeliste!M12 -> 0 | D11: ='Für die Tischplanung'!F11 -> 0 | E11: =Gästeliste!R12 -> 0
A12: =Gästeliste!B13 -> 0 | B12: =Gästeliste!C13 -> 0 | C12: =Gästeliste!M13 -> 0 | D12: ='Für die Tischplanung'!F12 -> 0 | E12: =Gästeliste!R13 -> 0
A13: =Gästeliste!B14 -> 0 | B13: =Gästeliste!C14 -> 0 | C13: =Gästeliste!M14 -> 0 | D13: ='Für die Tischplanung'!F13 -> 0 | E13: =Gästeliste!R14 -> 0
A14: =Gästeliste!B15 -> 0 | B14: =Gästeliste!C15 -> 0 | C14: =Gästeliste!M15 -> 0 | D14: ='Für die Tischplanung'!F14 -> 0 | E14: =Gästeliste!R15 -> 0
A15: =Gästeliste!B16 -> 0 | B15: =Gästeliste!C16 -> 0 | C15: =Gästeliste!M16 -> 0 | D15: ='Für die Tischplanung'!F15 -> 0 | E15: =Gästeliste!R16 -> 0
A16: =Gästeliste!B17 -> 0 | B16: =Gästeliste!C17 -> 0 | C16: =Gästeliste!M17 -> 0 | D16: ='Für die Tischplanung'!F16 -> 0 | E16: =Gästeliste!R17 -> 0
A17: =Gästeliste!B18 -> 0 | B17: =Gästeliste!C18 -> 0 | C17: =Gästeliste!M18 -> 0 | D17: ='Für die Tischplanung'!F17 -> 0 | E17: =Gästeliste!R18 -> 0 | G17: ⯈ Zu unseren Menükarten
A18: =Gästeliste!B19 -> 0 | B18: =Gästeliste!C19 -> 0 | C18: =Gästeliste!M19 -> 0 | D18: ='Für die Tischplanung'!F18 -> 0 | E18: =Gästeliste!R19 -> 0
A19: =Gästeliste!B20 -> 0 | B19: =Gästeliste!C20 -> 0 | C19: =Gästeliste!M20 -> 0 | D19: ='Für die Tischplanung'!F19 -> 0 | E19: =Gästeliste!R20 -> 0
D20: ='Für die Tischplanung'!F20 -> 0
D21: ='Für die Tischplanung'!F21 -> 0
D22: ='Für die Tischplanung'!F22 -> 0
D23: ='Für die Tischplanung'!F23 -> 0
D24: ='Für die Tischplanung'!F24 -> 0
D25: ='Für die Tischplanung'!F25 -> 0
D26: ='Für die Tischplanung'!F26 -> 0
D27: ='Für die Tischplanung'!F27 -> 0
D28: ='Für die Tischplanung'!F28 -> 0
D29: ='Für die Tischplanung'!F29 -> 0
D30: ='Für die Tischplanung'!F30 -> 0
D31: ='Für die Tischplanung'!F31 -> 0
... D150: ='Für die Tischplanung'!F150 -> 0

Sheet Nach der Hochzeit
A2: Nach der Hochzeit
A3: Vorname | B3: Nachname | C3: Geschenk | D3: Staße & Hausnummer | E3: PLZ & Ort | F3: Land | G3: Dankeskarte verschickt
A5: =Gästeliste!B5 -> Max | B5: =Gästeliste!C5 -> Mustermann | D5: =Gästeliste!D5 -> Musterstraße 3 | E5: =Gästeliste!E5 -> 04567 Musterort | F5: =Gästeliste!F5 -> Deutschland | G5: ✓
A6: =Gästeliste!B6 -> Michael | B6: =Gästeliste!C6 -> Muster | D6: =Gästeliste!D6 -> Am Musterweg 1 | E6: =Gästeliste!E6 -> 08910 Musterstädt | F6: =Gästeliste!F6 -> Österreich | G6: X
A7: =Gästeliste!B7 -> Johannes | B7: =Gästeliste!C7 -> Muster | D7: =Gästeliste!D7 -> (Kind von Michael Muster) | E7: =Gästeliste!E7 -> 0 | F7: =Gästeliste!F7 -> 0
A8: =Gästeliste!B8 -> Maria | B8: =Gästeliste!C8 -> Muster | D8: =Gästeliste!D8 -> (Frau von Michael Muster) | E8: =Gästeliste!E8 -> 0 | F8: =Gästeliste!F8 -> 0
A9: =Gästeliste!B9 -> 0 | B9: =Gästeliste!C9 -> 0 | D9: =Gästeliste!D9 -> 0 | E9: =Gästeliste!E9 -> 0 | F9: =Gästeliste!F9 -> 0
A10: =Gästeliste!B10 -> 0 | B10: =Gästeliste!C10 -> 0 | D10: =Gästeliste!D10 -> 0 | E10: =Gästeliste!E10 -> 0 | F10: =Gästeliste!F10 -> 0
A11: =Gästeliste!B11 -> 0 | B11: =Gästeliste!C11 -> 0 | D11: =Gästeliste!D11 -> 0 | E11: =Gästeliste!E11 -> 0 | F11: =Gästeliste!F11 -> 0
A12: =Gästeliste!B12 -> 0 | B12: =Gästeliste!C12 -> 0 | D12: =Gästeliste!D12 -> 0 | E12: =Gästeliste!E12 -> 0 | F12: =Gästeliste!F12 -> 0
A13: =Gästeliste!B13 -> 0 | B13: =Gästeliste!C13 -> 0 | D13: =Gästeliste!D13 -> 0 | E13: =Gästeliste!E13 -> 0 | F13: =Gästeliste!F13 -> 0
A14: =Gästeliste!B14 -> 0 | B14: =Gästeliste!C14 -> 0 | D14: =Gästeliste!D14 -> 0 | E14: =Gästeliste!E14 -> 0 | F14: =Gästeliste!F14 -> 0
A15: =Gästeliste!B15 -> 0 | B15: =Gästeliste!C15 -> 0 | D15: =Gästeliste!D15 -> 0 | E15: =Gästeliste!E15 -> 0 | F15: =Gästeliste!F15 -> 0
A16: =Gästeliste!B16 -> 0 | B16: =Gästeliste!C16 -> 0 | D16: =Gästeliste!D16 -> 0 | E16: =Gästeliste!E16 -> 0 | F16: =Gästeliste!F16 -> 0
A17: =Gästeliste!B17 -> 0 | B17: =Gästeliste!C17 -> 0 | D17: =Gästeliste!D17 -> 0 | E17: =Gästeliste!E17 -> 0 | F17: =Gästeliste!F17 -> 0
A18: =Gästeliste!B18 -> 0 | B18: =Gästeliste!C18 -> 0 | D18: =Gästeliste!D18 -> 0 | E18: =Gästeliste!E18 -> 0 | F18: =Gästeliste!F18 -> 0
A19: =Gästeliste!B19 -> 0 | B19: =Gästeliste!C19 -> 0 | D19: =Gästeliste!D19 -> 0 | E19: =Gästeliste!E19 -> 0 | F19: =Gästeliste!F19 -> 0
I21: ⯈ Jetzt Dankeskarten gestalten

Sheet Gästekategorien
A1: Gästekategorien
A2: Familie Braut
A3: Familie Bräutigam
A4: Freunde beide
A5: Freunde Braut
A6: Freunde Bräutigam
A7: Arbeit
A8: Eigene Kategorie 1 | B8: bei Bedarf umbenennen
A9: Eigene Kategorie 2
A10: Eigene Kategorie 3
