Workbook
Name _Toc172793256: '7. Impressum'!#REF!
Name _Toc172793257: '7. Impressum'!$A$7
Name _Toc172793258: '7. Impressum'!#REF!

Sheet Deckblatt
A1: #VALUE! | C1: Auswertung Kurzcheck | M1: #VALUE!
C2: Erfassung der organisationalen Resilienz
B3: #VALUE!

Sheet 1. Anleitung
A1: #VALUE! | C1: Anleitung: Auswertung der Kurzchecks | M1: #VALUE!
A3: Übertragung der Punkte in die Excel-Tabelle
A4: Übertragen Sie die Punktzahlen für jede Antwort (grün = 1 Punkt, gelb = 2 Punkte, rot = 3 Punkte) in die Auswertungstabellen für die Geschäftsführung und die Mitarbeitenden/Team (Tabellenblätter: Auswertung GF & Auswertung MA) in der Excel-Vorlage!
B5: Wichtig: Bei der Auswertung der Mitarbeitenden tragen Sie bitte bei der Auswahl der Antwortmöglichkeit „kann ich nicht beantworten“ ein „x“ (kleines X) ein.
A7: Berechnung der Mittelwerte
A8: Der Mittelwert wird nach dem manuellen Eintragen der Punktzahlen automatisch berechnet. Der Mittelwert ist der Durchschnitt aus den einzelnen Punktzahlen, die für die jeweilige Frage vergeben wurden und bildet somit ab, welche Punktzahl durchschnittlich vergeben wurde.
A10: Vergleich der Ergebnisse der Mitarbeitenden/Team und der Geschäftsführung
A11: Die errechneten Mittelwerte werden automatisch in die Vergleichstabelle (Tabellenblatt: Auswertung GF & MA) übertragen. Sie können also direkt die Ergebnisse von Mitarbeitenden/Team und der Geschäftsführung vergleichen und analysieren.
A13: Visuelle Auswertung der Ergebnisse für Mitarbeitende/Team, Geschäftsführung und das gesamte Unternehmen
A14: Im Tabellenblatt „Visuelle Auswertung“ werden die Ergebnisse nochmal zusammengefasst für die Geschäftsführung, die Mitarbeitenden/Team und für das gesamte Unternehmen dargestellt. Es wird außerdem direkt ein Handlungsbedarf in der vorletzten Spalte abgeleitet. Wenn Handlungsbedarf besteht, können Sie in der letzten Spalte auf die Werkzeugliste klicken und gelangen zu einer Auflistung der passenden Werkzeuge für den jeweiligen Schwerpunkt.
A23: Sie können den Handlungsbedarf anhand der Mittelwerte ablesen: Skala Mittelwerte – Ab wann besteht Handlungsbedarf?
B25: 1 | C25: 1.25 | D25: 1.5 | E25: 1.75 | F25: 2 | G25: 2.25 | H25: 2.5 | I25: 2.75 | J25: 3

Sheet 2. Auswertung GF
A1: #VALUE! | C1: Auswertung Kurzcheck: Geschäftsführung | M1: #VALUE!
A3: ORGANISATIONSENTWICKLUNG
B4: Anpassungsfähigkeit | E4: Risikomanagement | H4: Kundenorientierung | K4: Finanzielle Stabilität
B5: 1 | C5: 2 | D5: 3 | E5: 4 | F5: 5 | G5: 6 | H5: 7 | I5: 8 | J5: 9 | K5: 10 | L5: 11 | M5: 12
A6: GF
A7: GF
A8: GF
A9: Ergebnis | B9: =AVERAGE(B6:B8) -> #DIV/0! | C9: =AVERAGE(C6:C8) -> #DIV/0! | D9: =AVERAGE(D6:D8) -> #DIV/0! | E9: =AVERAGE(E6:E8) -> #DIV/0! | F9: =AVERAGE(F6:F8) -> #DIV/0! | G9: =AVERAGE(G6:G8) -> #DIV/0! | H9: =AVERAGE(H6:H8) -> #DIV/0! | I9: =AVERAGE(I6:I8) -> #DIV/0! | ... M9: =AVERAGE(M6:M8) -> #DIV/0!
A11: ORGANISATIONSENTWICKLUNG
B12: Innovationsfähigkeit | E12: Kommunikation & Transparenz | H12: Führung
B13: 13 | C13: 14 | D13: 15 | E13: 16 | F13: 17 | G13: 18 | H13: 19 | I13: 20 | J13: 21
A14: GF
A15: GF
A16: GF
A17: Ergebnis | B17: =AVERAGE(B14:B16) -> #DIV/0! | C17: =AVERAGE(C14:C16) -> #DIV/0! | D17: =AVERAGE(D14:D16) -> #DIV/0! | E17: =AVERAGE(E14:E16) -> #DIV/0! | F17: =AVERAGE(F14:F16) -> #DIV/0! | G17: =AVERAGE(G14:G16) -> #DIV/0! | H17: =AVERAGE(H14:H16) -> #DIV/0! | I17: =AVERAGE(I14:I16) -> #DIV/0! | J17: =AVERAGE(J14:J16) -> #DIV/0!
A19: PERSONALENTWICKLUNG
B20: Mitarbeiterzufriedenheit | E20: Mitarbeiterengagement | H20: Qualifizierung & Kompetenz
B21: 22 | C21: 23 | D21: 24 | E21: 25 | F21: 26 | G21: 27 | H21: 28 | I21: 29 | J21: 30
A22: GF
A23: GF
A24: GF
A25: Ergebnis | B25: =AVERAGE(B22:B24) -> #DIV/0! | C25: =AVERAGE(C22:C24) -> #DIV/0! | D25: =AVERAGE(D22:D24) -> #DIV/0! | E25: =AVERAGE(E22:E24) -> #DIV/0! | F25: =AVERAGE(F22:F24) -> #DIV/0! | G25: =AVERAGE(G22:G24) -> #DIV/0! | H25: =AVERAGE(H22:H24) -> #DIV/0! | I25: =AVERAGE(I22:I24) -> #DIV/0! | J25: =AVERAGE(J22:J24) -> #DIV/0!
A27: ORGANISATIONSKULTUR
B28: Werte & Normen | E28: Unternehmenskultur
B29: 31 | C29: 32 | D29: 33 | E29: 34 | F29: 35 | G29: 36
A30: GF
A31: GF
A32: GF
A33: Ergebnis | B33: =AVERAGE(B30:B32) -> #DIV/0! | C33: =AVERAGE(C30:C32) -> #DIV/0! | D33: =AVERAGE(D30:D32) -> #DIV/0! | E33: =AVERAGE(E30:E32) -> #DIV/0! | F33: =AVERAGE(F30:F32) -> #DIV/0! | G33: =AVERAGE(G30:G32) -> #DIV/0!
B36: 1 | C36: 1.25 | D36: 1.5 | E36: 1.75 | F36: 2 | G36: 2.25 | H36: 2.5 | I36: 2.75 | J36: 3

Sheet 3. Auswertung MA
A1: #VALUE! | C1: Auswertung Kurzcheck: Mitarbeitende | M1: #VALUE!
A3: ORGANISATIONSENTWICKLUNG
B4: Anpassungsfähigkeit | E4: Risikomanagement | H4: Kundenorientierung | K4: Finanzielle Stabilität
B5: 1 | C5: 2 | D5: 3 | E5: 4 | F5: 5 | G5: 6 | H5: 7 | I5: 8 | J5: 9 | K5: 10 | L5: 11 | M5: 12
A6: MA 1
A7: MA 2
A8: MA 3
A9: MA 4
A10: MA 5
A11: MA 6
A12: MA 7
A13: MA 8
A14: MA 9
A15: MA 10
A16: MA 11
A17: MA 12
... A20: MA 15
A21: Ergebnis | B21: =AVERAGE(B6:B20) -> #DIV/0! | C21: =AVERAGE(C6:C20) -> #DIV/0! | D21: =AVERAGE(D6:D16) -> #DIV/0! | E21: =AVERAGE(E6:E20) -> #DIV/0! | F21: =AVERAGE(F6:F20) -> #DIV/0! | G21: =AVERAGE(G6:G20) -> #DIV/0! | H21: =AVERAGE(H6:H20) -> #DIV/0! | I21: =AVERAGE(I6:I20) -> #DIV/0! | J21: =AVERAGE(J6:J20) -> #DIV/0! | K21: =AVERAGE(K6:K20) -> #DIV/0! | L21: =AVERAGE(L6:L20) -> #DIV/0! | M21: =AVERAGE(M6:M20) -> #DIV/0!
A22: Anzahl: keine Angabe | B22: =COUNTIF(B6:B20,"x") -> 0 | C22: =COUNTIF(C6:C20,"x") -> 0 | D22: =COUNTIF(D6:D20,"x") -> 0 | E22: =COUNTIF(E6:E20,"x") -> 0 | F22: =COUNTIF(F6:F20,"x") -> 0 | G22: =COUNTIF(G6:G20,"x") -> 0 | H22: =COUNTIF(H6:H20,"x") -> 0 | I22: =COUNTIF(I6:I20,"x") -> 0 | ... M22: =COUNTIF(M6:M20,"x") -> 0
A24: ORGANISATIONSENTWICKLUNG
B25: Innovationsfähigkeit | E25: Kommunikation & Transparenz | H25: Führung
B26: 13 | C26: 14 | D26: 15 | E26: 16 | F26: 17 | G26: 18 | H26: 19 | I26: 20 | J26: 21
A27: MA 1
A28: MA 2
A29: MA 3
A30: MA 4
A31: MA 5
A32: MA 6
A33: MA 7
A34: MA 8
A35: MA 9
A36: MA 10
A37: MA 11
A38: MA 12
... A41: MA 15
A42: Ergebnis | B42: =AVERAGE(B27:B41) -> #DIV/0! | C42: =AVERAGE(C27:C41) -> #DIV/0! | D42: =AVERAGE(D27:D41) -> #DIV/0! | E42: =AVERAGE(E27:E41) -> #DIV/0! | F42: =AVERAGE(F27:F41) -> #DIV/0! | G42: =AVERAGE(G27:G41) -> #DIV/0! | H42: =AVERAGE(H27:H41) -> #DIV/0! | I42: =AVERAGE(I27:I41) -> #DIV/0! | J42: =AVERAGE(J27:J41) -> #DIV/0!
A43: Anzahl: keine Angabe | B43: =COUNTIF(B27:B41,"x") -> 0 | C43: =COUNTIF(C27:C41,"x") -> 0 | D43: =COUNTIF(D27:D41,"x") -> 0 | E43: =COUNTIF(E27:E41,"x") -> 0 | F43: =COUNTIF(F27:F41,"x") -> 0 | G43: =COUNTIF(G27:G41,"x") -> 0 | H43: =COUNTIF(H27:H41,"x") -> 0 | I43: =COUNTIF(I27:I41,"x") -> 0 | J43: =COUNTIF(J27:J41,"x") -> 0
A45: PERSONALENTWICKLUNG
B46: Mitarbeiterzufriedenheit | E46: Mitarbeiterengagement | H46: Qualifizierung & Kompetenz
B47: 22 | C47: 23 | D47: 24 | E47: 25 | F47: 26 | G47: 27 | H47: 28 | I47: 29 | J47: 30
A48: MA 1
A49: MA 2
A50: MA 3
A51: MA 4
A52: MA 5
A53: MA 6
A54: MA 7
A55: MA 8
A56: MA 9
A57: MA 10
A58: MA 11
A59: MA 12
... A62: MA 15
A63: Ergebnis | B63: =AVERAGE(B48:B62) -> #DIV/0! | C63: =AVERAGE(C48:C62) -> #DIV/0! | D63: =AVERAGE(D48:D62) -> #DIV/0! | E63: =AVERAGE(E48:E62) -> #DIV/0! | F63: =AVERAGE(F48:F62) -> #DIV/0! | G63: =AVERAGE(G48:G62) -> #DIV/0! | H63: =AVERAGE(H48:H62) -> #DIV/0! | I63: =AVERAGE(I48:I62) -> #DIV/0! | J63: =AVERAGE(J48:J62) -> #DIV/0!
A64: Anzahl: keine Angabe | B64: =COUNTIF(B48:B62,"x") -> 0 | C64: =COUNTIF(C48:C62,"x") -> 0 | D64: =COUNTIF(D48:D62,"x") -> 0 | E64: =COUNTIF(E48:E62,"x") -> 0 | F64: =COUNTIF(F48:F62,"x") -> 0 | G64: =COUNTIF(G48:G62,"x") -> 0 | H64: =COUNTIF(H48:H62,"x") -> 0 | I64: =COUNTIF(I48:I62,"x") -> 0 | J64: =COUNTIF(J48:J62,"x") -> 0
A66: ORGANISATIONSKULTUR
B67: Werte & Normen | E67: Unternehmenskultur
B68: 31 | C68: 32 | D68: 33 | E68: 34 | F68: 35 | G68: 36
A69: MA 1
A70: MA 2
A71: MA 3
A72: MA 4
A73: MA 5
A74: MA 6
A75: MA 7
A76: MA 8
A77: MA 9
A78: MA 10
A79: MA 11
A80: MA 12
... A83: MA 15
A84: Ergebnis | B84: =AVERAGE(B69:B83) -> #DIV/0! | C84: =AVERAGE(C69:C83) -> #DIV/0! | D84: =AVERAGE(D69:D83) -> #DIV/0! | E84: =AVERAGE(E69:E83) -> #DIV/0! | F84: =AVERAGE(F69:F83) -> #DIV/0! | G84: =AVERAGE(G69:G83) -> #DIV/0!
A85: Anzahl: keine Angabe | B85: =COUNTIF(B69:B83,"x") -> 0 | C85: =COUNTIF(C69:C83,"x") -> 0 | D85: =COUNTIF(D69:D83,"x") -> 0 | E85: =COUNTIF(E69:E83,"x") -> 0 | F85: =COUNTIF(F69:F83,"x") -> 0 | G85: =COUNTIF(G69:G83,"x") -> 0
B88: 1 | C88: 1.25 | D88: 1.5 | E88: 1.75 | F88: 2 | G88: 2.25 | H88: 2.5 | I88: 2.75 | J88: 3

Sheet 4. Auswertung GF & MA
A1: #VALUE! | C1: Auswertung Kurzcheck Geschäftsführung & Mitarbeitende | M1: #VALUE!
A3: ORGANISATIONSENTWICKLUNG
B4: Anpassungsfähigkeit | E4: Risikomanagement | H4: Kundenorientierung | K4: Finanzielle Stabilität
B5: 1 | C5: 2 | D5: 3 | E5: 4 | F5: 5 | G5: 6 | H5: 7 | I5: 8 | J5: 9 | K5: 10 | L5: 11 | M5: 12
A6: GF | B6: ='2. Auswertung GF'!B9 -> #DIV/0! | C6: ='2. Auswertung GF'!C9 -> #DIV/0! | D6: ='2. Auswertung GF'!D9 -> #DIV/0! | E6: ='2. Auswertung GF'!E9 -> #DIV/0! | F6: ='2. Auswertung GF'!F9 -> #DIV/0! | G6: ='2. Auswertung GF'!G9 -> #DIV/0! | H6: ='2. Auswertung GF'!H9 -> #DIV/0! | I6: ='2. Auswertung GF'!I9 -> #DIV/0! | ... M6: ='2. Auswertung GF'!M9 -> #DIV/0!
A7: MA | B7: ='3. Auswertung MA'!B21 -> #DIV/0! | C7: ='3. Auswertung MA'!C21 -> #DIV/0! | D7: ='3. Auswertung MA'!D21 -> #DIV/0! | E7: ='3. Auswertung MA'!E21 -> #DIV/0! | F7: ='3. Auswertung MA'!F21 -> #DIV/0! | G7: ='3. Auswertung MA'!G21 -> #DIV/0! | H7: ='3. Auswertung MA'!H21 -> #DIV/0! | I7: ='3. Auswertung MA'!I21 -> #DIV/0! | ... M7: ='3. Auswertung MA'!M21 -> #DIV/0!
A9: ORGANISATIONSENTWICKLUNG
B10: Innovationsfähigkeit | E10: Kommunikation & Transparenz | H10: Führung
B11: 13 | C11: 14 | D11: 15 | E11: 16 | F11: 17 | G11: 18 | H11: 19 | I11: 20 | J11: 21
A12: GF | B12: ='2. Auswertung GF'!B17 -> #DIV/0! | C12: ='2. Auswertung GF'!C17 -> #DIV/0! | D12: ='2. Auswertung GF'!D17 -> #DIV/0! | E12: ='2. Auswertung GF'!E17 -> #DIV/0! | F12: ='2. Auswertung GF'!F17 -> #DIV/0! | G12: ='2. Auswertung GF'!G17 -> #DIV/0! | H12: ='2. Auswertung GF'!H17 -> #DIV/0! | I12: ='2. Auswertung GF'!I17 -> #DIV/0! | J12: ='2. Auswertung GF'!J17 -> #DIV/0!
A13: MA | B13: ='3. Auswertung MA'!B42 -> #DIV/0! | C13: ='3. Auswertung MA'!C42 -> #DIV/0! | D13: ='3. Auswertung MA'!D42 -> #DIV/0! | E13: ='3. Auswertung MA'!E42 -> #DIV/0! | F13: ='3. Auswertung MA'!F42 -> #DIV/0! | G13: ='3. Auswertung MA'!G42 -> #DIV/0! | H13: ='3. Auswertung MA'!H42 -> #DIV/0! | I13: ='3. Auswertung MA'!I42 -> #DIV/0! | J13: ='3. Auswertung MA'!J42 -> #DIV/0!
A15: PERSONALENTWICKLUNG
B16: Mitarbeiterzufriedenheit | E16: Mitarbeiterengagement | H16: Qualifizierung & Kompetenz
B17: 22 | C17: 23 | D17: 24 | E17: 25 | F17: 26 | G17: 27 | H17: 28 | I17: 29 | J17: 30
A18: GF | B18: ='2. Auswertung GF'!B25 -> #DIV/0! | C18: ='2. Auswertung GF'!C25 -> #DIV/0! | D18: ='2. Auswertung GF'!D25 -> #DIV/0! | E18: ='2. Auswertung GF'!E25 -> #DIV/0! | F18: ='2. Auswertung GF'!F25 -> #DIV/0! | G18: ='2. Auswertung GF'!G25 -> #DIV/0! | H18: ='2. Auswertung GF'!H25 -> #DIV/0! | I18: ='2. Auswertung GF'!I25 -> #DIV/0! | J18: ='2. Auswertung GF'!J25 -> #DIV/0!
A19: MA | B19: ='3. Auswertung MA'!B63 -> #DIV/0! | C19: ='3. Auswertung MA'!C63 -> #DIV/0! | D19: ='3. Auswertung MA'!D63 -> #DIV/0! | E19: ='3. Auswertung MA'!E63 -> #DIV/0! | F19: ='3. Auswertung MA'!F63 -> #DIV/0! | G19: ='3. Auswertung MA'!G63 -> #DIV/0! | H19: ='3. Auswertung MA'!H63 -> #DIV/0! | I19: ='3. Auswertung MA'!I63 -> #DIV/0! | J19: ='3. Auswertung MA'!J63 -> #DIV/0!
A21: ORGANISATIONSKULTUR
B22: Werte & Normen | E22: Unternehmenskultur
B23: 31 | C23: 32 | D23: 33 | E23: 34 | F23: 35 | G23: 36
A24: GF | B24: ='2. Auswertung GF'!B33 -> #DIV/0! | C24: ='2. Auswertung GF'!C33 -> #DIV/0! | D24: ='2. Auswertung GF'!D33 -> #DIV/0! | E24: ='2. Auswertung GF'!E33 -> #DIV/0! | F24: ='2. Auswertung GF'!F33 -> #DIV/0! | G24: ='2. Auswertung GF'!G33 -> #DIV/0!
A25: MA | B25: ='3. Auswertung MA'!B84 -> #DIV/0! | C25: ='3. Auswertung MA'!C84 -> #DIV/0! | D25: ='3. Auswertung MA'!D84 -> #DIV/0! | E25: ='3. Auswertung MA'!E84 -> #DIV/0! | F25: ='3. Auswertung MA'!F84 -> #DIV/0! | G25: ='3. Auswertung MA'!G84 -> #DIV/0!
B28: 1 | C28: 1.25 | D28: 1.5 | E28: 1.75 | F28: 2 | G28: 2.25 | H28: 2.5 | I28: 2.75 | J28: 3

Sheet 5. Visuelle Auswertung
A1: #VALUE! | D1: Visuelle Auswertung Kurzcheck Geschäftsführung & Mitarbeitende | M1: #VALUE!
A3: Organisationsentwicklung
A4: Anpassungsfähigkeit | E4: Auswertung Geschäftsführung | F4: Auswertung Mitarbeitende | G4: Auswertung Unternehmen | H4: Keine Angabe möglich | I4: Handlungsbedarf | L4: Anzuwendende Werkzeuge
A5: 1. | B5: Schnelle Reaktion auf Veränderungen im Markt. | E5: ='4. Auswertung GF & MA'!B6 -> #DIV/0! | F5: ='4. Auswertung GF & MA'!B7 -> #DIV/0! | G5: =AVERAGE(E5:F5) -> #DIV/0! | H5: ='3. Auswertung MA'!B22 -> 0 | I5: =G5 -> #DIV/0! | J5: {=_xlfn.IFS(AND(G5>=1,G5<=1.74),"Alles im grünen Bereich!",AND(G5>=1.75,G5<=2.49),"Vorsicht geboten: Hier besteht Handlungsbedarf!",AND(G5>=2.5,G5<=3),"Alarm! Akuter Handlungsbedarf!")} -> #DIV/0! | L5: Werkzeugliste Anpassungsfähigkeit
A6: 2. | B6: Schnelle Umstellung von Arbeitsabläufen und Prozessen. | E6: ='4. Auswertung GF & MA'!C6 -> #DIV/0! | F6: ='4. Auswertung GF & MA'!C7 -> #DIV/0! | G6: =AVERAGE(E6:F6) -> #DIV/0! | H6: ='3. Auswertung MA'!C22 -> 0 | I6: =G6 -> #DIV/0! | J6: {=_xlfn.IFS(AND(G6>=1,G6<=1.74),"Alles im grünen Bereich!",AND(G6>=1.75,G6<=2.49),"Vorsicht geboten: Hier besteht Handlungsbedarf!",AND(G6>=2.5,G6<=3),"Alarm! Akuter Handlungsbedarf!")} -> #DIV/0!
A7: 3. | B7: Gute und schnelle Entwicklung und Einführung von neuen Produkten/ Dienstleistungen. | E7: ='4. Auswertung GF & MA'!D6 -> #DIV/0! | F7: ='4. Auswertung GF & MA'!D7 -> #DIV/0! | G7: =AVERAGE(E7:F7) -> #DIV/0! | H7: ='3. Auswertung MA'!D22 -> 0 | I7: =G7 -> #DIV/0! | J7: {=_xlfn.IFS(AND(G7>=1,G7<=1.74),"Alles im grünen Bereich!",AND(G7>=1.75,G7<=2.49),"Vorsicht geboten: Hier besteht Handlungsbedarf!",AND(G7>=2.5,G7<=3),"Alarm! Akuter Handlungsbedarf!")} -> #DIV/0!
A9: Risikomanagement | E9: =E4 -> Auswertung Geschäftsführung | F9: =F4 -> Auswertung Mitarbeitende | G9: =G4 -> Auswertung Unternehmen | H9: =H4 -> Keine Angabe möglich | I9: =I4 -> Handlungsbedarf | L9: Anzuwendende Werkzeuge
A10: 4. | B10: Durchführung von regelmäßigen Gesprächen und Analysen, um potenzielle Risiken zu identifizieren. | E10: ='4. Auswertung GF & MA'!E6 -> #DIV/0! | F10: ='4. Auswertung GF & MA'!E7 -> #DIV/0! | G10: =AVERAGE(E10:F10) -> #DIV/0! | H10: ='3. Auswertung MA'!E22 -> 0 | I10: =G10 -> #DIV/0! | J10: {=_xlfn.IFS(AND(G10>=1,G10<=1.74),"Alles im grünen Bereich!",AND(G10>=1.75,G10<=2.49),"Vorsicht geboten: Hier besteht Handlungsbedarf!",AND(G10>=2.5,G10<=3),"Alarm! Akuter Handlungsbedarf!")} -> #DIV/0! | L10: Werkzeugliste Risikomanagement
A11: 5. | B11: Ergreifung von regelmäßigen Maßnahmen, um Risiken zu minimieren oder ihnen entgegenzuwirken. | E11: ='4. Auswertung GF & MA'!F6 -> #DIV/0! | F11: ='4. Auswertung GF & MA'!F7 -> #DIV/0! | G11: =AVERAGE(E11:F11) -> #DIV/0! | H11: ='3. Auswertung MA'!F22 -> 0 | I11: =G11 -> #DIV/0! | J11: {=_xlfn.IFS(AND(G11>=1,G11<=1.74),"Alles im grünen Bereich!",AND(G11>=1.75,G11<=2.49),"Vorsicht geboten: Hier besteht Handlungsbedarf!",AND(G11>=2.5,G11<=3),"Alarm! Akuter Handlungsbedarf!")} -> #DIV/0!
A12: 6. | B12: Gute Vorbereitung auf unvorhergesehene Ereignisse oder Krisen. | E12: ='4. Auswertung GF & MA'!G6 -> #DIV/0! | F12: ='4. Auswertung GF & MA'!G7 -> #DIV/0! | G12: =AVERAGE(E12:F12) -> #DIV/0! | H12: ='3. Auswertung MA'!G22 -> 0 | I12: =G12 -> #DIV/0! | J12: {=_xlfn.IFS(AND(G12>=1,G12<=1.74),"Alles im grünen Bereich!",AND(G12>=1.75,G12<=2.49),"Vorsicht geboten: Hier besteht Handlungsbedarf!",AND(G12>=2.5,G12<=3),"Alarm! Akuter Handlungsbedarf!")} -> #DIV/0!
A14: Kundenorientierung | E14: =E4 -> Auswertung Geschäftsführung | F14: =F4 -> Auswertung Mitarbeitende | G14: =G4 -> Auswertung Unternehmen | H14: =H4 -> Keine Angabe möglich | I14: =I4 -> Handlungsbedarf | L14: Anzuwendende Werkzeuge
A15: 7. | B15: Bedürfnisse und Erwartungen der Kunden sind bekannt. | E15: ='4. Auswertung GF & MA'!H6 -> #DIV/0! | F15: ='4. Auswertung GF & MA'!H7 -> #DIV/0! | G15: =AVERAGE(E15:F15) -> #DIV/0! | H15: ='3. Auswertung MA'!H22 -> 0 | I15: =G15 -> #DIV/0! | J15: {=_xlfn.IFS(AND(G15>=1,G15<=1.74),"Alles im grünen Bereich!",AND(G15>=1.75,G15<=2.49),"Vorsicht geboten: Hier besteht Handlungsbedarf!",AND(G15>=2.5,G15<=3),"Alarm! Akuter Handlungsbedarf!")} -> #DIV/0! | L15: Werkzeugliste Kundenorientierung
A16: 8. | B16: Schnelle Reaktion auf Kundenanfragen oder Beschwerden. | E16: ='4. Auswertung GF & MA'!I6 -> #DIV/0! | F16: ='4. Auswertung GF & MA'!I7 -> #DIV/0! | G16: =AVERAGE(E16:F16) -> #DIV/0! | H16: ='3. Auswertung MA'!I22 -> 0 | I16: =G16 -> #DIV/0! | J16: {=_xlfn.IFS(AND(G16>=1,G16<=1.74),"Alles im grünen Bereich!",AND(G16>=1.75,G16<=2.49),"Vorsicht geboten: Hier besteht Handlungsbedarf!",AND(G16>=2.5,G16<=3),"Alarm! Akuter Handlungsbedarf!")} -> #DIV/0!
A17: 9. | B17: Kundenbeziehungen werden gepflegt. | E17: ='4. Auswertung GF & MA'!J6 -> #DIV/0! | F17: ='4. Auswertung GF & MA'!J7 -> #DIV/0! | G17: =AVERAGE(E17:F17) -> #DIV/0! | H17: ='3. Auswertung MA'!J22 -> 0 | I17: =G17 -> #DIV/0! | J17: {=_xlfn.IFS(AND(G17>=1,G17<=1.74),"Alles im grünen Bereich!",AND(G17>=1.75,G17<=2.49),"Vorsicht geboten: Hier besteht Handlungsbedarf!",AND(G17>=2.5,G17<=3),"Alarm! Akuter Handlungsbedarf!")} -> #DIV/0!
A19: Finanzielle Stabilität | E19: =E4 -> Auswertung Geschäftsführung | F19: =F4 -> Auswertung Mitarbeitende | G19: =G4 -> Auswertung Unternehmen | H19: =H4 -> Keine Angabe möglich | I19: =I4 -> Handlungsbedarf | L19: Anzuwendende Werkzeuge
A20: 10. | B20: Stabile finanzielle Lage. | E20: ='4. Auswertung GF & MA'!K6 -> #DIV/0! | F20: ='4. Auswertung GF & MA'!K7 -> #DIV/0! | G20: =AVERAGE(E20:F20) -> #DIV/0! | H20: ='3. Auswertung MA'!K22 -> 0 | I20: =G20 -> #DIV/0! | J20: {=_xlfn.IFS(AND(G20>=1,G20<=1.74),"Alles im grünen Bereich!",AND(G20>=1.75,G20<=2.49),"Vorsicht geboten: Hier besteht Handlungsbedarf!",AND(G20>=2.5,G20<=3),"Alarm! Akuter Handlungsbedarf!")} -> #DIV/0! | L20: Werkzeugliste Finanzielle Stabilität
A21: 11. | B21: Gute Vorbereitung auf finanzielle Herausforderungen. | E21: ='4. Auswertung GF & MA'!L6 -> #DIV/0! | F21: ='4. Auswertung GF & MA'!L7 -> #DIV/0! | G21: =AVERAGE(E21:F21) -> #DIV/0! | H21: ='3. Auswertung MA'!L22 -> 0 | I21: =G21 -> #DIV/0! | J21: {=_xlfn.IFS(AND(G21>=1,G21<=1.74),"Alles im grünen Bereich!",AND(G21>=1.75,G21<=2.49),"Vorsicht geboten: Hier besteht Handlungsbedarf!",AND(G21>=2.5,G21<=3),"Alarm! Akuter Handlungsbedarf!")} -> #DIV/0!
A22: 12. | B22: Keine Abhängigkeit von bestimmten Kunden oder Lieferanten. | E22: ='4. Auswertung GF & MA'!M6 -> #DIV/0! | F22: ='4. Auswertung GF & MA'!M7 -> #DIV/0! | G22: =AVERAGE(E22:F22) -> #DIV/0! | H22: ='3. Auswertung MA'!M22 -> 0 | I22: =G22 -> #DIV/0! | J22: {=_xlfn.IFS(AND(G22>=1,G22<=1.74),"Alles im grünen Bereich!",AND(G22>=1.75,G22<=2.49),"Vorsicht geboten: Hier besteht Handlungsbedarf!",AND(G22>=2.5,G22<=3),"Alarm! Akuter Handlungsbedarf!")} -> #DIV/0!
A24: Innovationsfähigkeit | E24: =E4 -> Auswertung Geschäftsführung | F24: =F4 -> Auswertung Mitarbeitende | G24: =G4 -> Auswertung Unternehmen | H24: =H4 -> Keine Angabe möglich | I24: =I4 -> Handlungsbedarf | L24: Anzuwendende Werkzeuge
A25: 13. | B25: Entwickelung von regelmäßigen neuen Ideen oder Innovationen. | E25: ='4. Auswertung GF & MA'!B12 -> #DIV/0! | F25: ='4. Auswertung GF & MA'!B13 -> #DIV/0! | G25: =AVERAGE(E25:F25) -> #DIV/0! | H25: ='3. Auswertung MA'!B43 -> 0 | I25: =G25 -> #DIV/0! | J25: {=_xlfn.IFS(AND(G25>=1,G25<=1.74),"Alles im grünen Bereich!",AND(G25>=1.75,G25<=2.49),"Vorsicht geboten: Hier besteht Handlungsbedarf!",AND(G25>=2.5,G25<=3),"Alarm! Akuter Handlungsbedarf!")} -> #DIV/0! | L25: Werkzeugliste Innovationsfähigkeit
A26: 14. | B26: Verfolgung und Erkennung von Trends in der Branche. | E26: ='4. Auswertung GF & MA'!C12 -> #DIV/0! | F26: ='4. Auswertung GF & MA'!C13 -> #DIV/0! | G26: =AVERAGE(E26:F26) -> #DIV/0! | H26: ='3. Auswertung MA'!C43 -> 0 | I26: =G26 -> #DIV/0! | J26: {=_xlfn.IFS(AND(G26>=1,G26<=1.74),"Alles im grünen Bereich!",AND(G26>=1.75,G26<=2.49),"Vorsicht geboten: Hier besteht Handlungsbedarf!",AND(G26>=2.5,G26<=3),"Alarm! Akuter Handlungsbedarf!")} -> #DIV/0!
A27: 15. | B27: Anwendung neuer Technologien. | E27: ='4. Auswertung GF & MA'!D12 -> #DIV/0! | F27: ='4. Auswertung GF & MA'!D13 -> #DIV/0! | G27: =AVERAGE(E27:F27) -> #DIV/0! | H27: ='3. Auswertung MA'!D43 -> 0 | I27: =G27 -> #DIV/0! | J27: {=_xlfn.IFS(AND(G27>=1,G27<=1.74),"Alles im grünen Bereich!",AND(G27>=1.75,G27<=2.49),"Vorsicht geboten: Hier besteht Handlungsbedarf!",AND(G27>=2.5,G27<=3),"Alarm! Akuter Handlungsbedarf!")} -> #DIV/0!
A29: Kommunikation und Transparenz | E29: =E4 -> Auswertung Geschäftsführung | F29: =F4 -> Auswertung Mitarbeitende | G29: =G4 -> Auswertung Unternehmen | H29: =H4 -> Keine Angabe möglich | I29: =I4 -> Handlungsbedarf | L29: Anzuwendende Werkzeuge
A30: 16. | B30: Gute Kommunikationskultur. | E30: ='4. Auswertung GF & MA'!E12 -> #DIV/0! | F30: ='4. Auswertung GF & MA'!E13 -> #DIV/0! | G30: =AVERAGE(E30:F30) -> #DIV/0! | H30: ='3. Auswertung MA'!E43 -> 0 | I30: =G30 -> #DIV/0! | J30: {=_xlfn.IFS(AND(G30>=1,G30<=1.74),"Alles im grünen Bereich!",AND(G30>=1.75,G30<=2.49),"Vorsicht geboten: Hier besteht Handlungsbedarf!",AND(G30>=2.5,G30<=3),"Alarm! Akuter Handlungsbedarf!")} -> #DIV/0! | L30: Werkzeugliste Kommunikation & Transparenz
A31: 17. | B31: Transparenz in Bezug auf Entscheidungen und Veränderungen. | E31: ='4. Auswertung GF & MA'!F12 -> #DIV/0! | F31: ='4. Auswertung GF & MA'!F13 -> #DIV/0! | G31: =AVERAGE(E31:F31) -> #DIV/0! | H31: ='3. Auswertung MA'!F43 -> 0 | I31: =G31 -> #DIV/0! | J31: {=_xlfn.IFS(AND(G31>=1,G31<=1.74),"Alles im grünen Bereich!",AND(G31>=1.75,G31<=2.49),"Vorsicht geboten: Hier besteht Handlungsbedarf!",AND(G31>=2.5,G31<=3),"Alarm! Akuter Handlungsbedarf!")} -> #DIV/0!
A32: 18. | B32: Informationen und Wissen wird geteilt. | E32: ='4. Auswertung GF & MA'!G12 -> #DIV/0! | F32: ='4. Auswertung GF & MA'!G13 -> #DIV/0! | G32: =AVERAGE(E32:F32) -> #DIV/0! | H32: ='3. Auswertung MA'!G43 -> 0 | I32: =G32 -> #DIV/0! | J32: {=_xlfn.IFS(AND(G32>=1,G32<=1.74),"Alles im grünen Bereich!",AND(G32>=1.75,G32<=2.49),"Vorsicht geboten: Hier besteht Handlungsbedarf!",AND(G32>=2.5,G32<=3),"Alarm! Akuter Handlungsbedarf!")} -> #DIV/0!
A34: Führung | E34: =E4 -> Auswertung Geschäftsführung | F34: =F4 -> Auswertung Mitarbeitende | G34: =G4 -> Auswertung Unternehmen | H34: =H4 -> Keine Angabe möglich | I34: =I4 -> Handlungsbedarf | L34: Anzuwendende Werkzeuge
A35: 19. | B35: Unterstützung bei der Bewältigung von privaten Herausforderungen und betrieblichen Lösungen. | E35: ='4. Auswertung GF & MA'!H12 -> #DIV/0! | F35: ='4. Auswertung GF & MA'!H13 -> #DIV/0! | G35: =AVERAGE(E35:F35) -> #DIV/0! | H35: ='3. Auswertung MA'!H43 -> 0 | I35: =G35 -> #DIV/0! | J35: {=_xlfn.IFS(AND(G35>=1,G35<=1.74),"Alles im grünen Bereich!",AND(G35>=1.75,G35<=2.49),"Vorsicht geboten: Hier besteht Handlungsbedarf!",AND(G35>=2.5,G35<=3),"Alarm! Akuter Handlungsbedarf!")} -> #DIV/0! | L35: Werkzeugliste Führung
A36: 20. | B36: Erkennung und Nutzung von Potenzialen. | E36: ='4. Auswertung GF & MA'!I12 -> #DIV/0! | F36: ='4. Auswertung GF & MA'!I13 -> #DIV/0! | G36: =AVERAGE(E36:F36) -> #DIV/0! | H36: ='3. Auswertung MA'!I43 -> 0 | I36: =G36 -> #DIV/0! | J36: {=_xlfn.IFS(AND(G36>=1,G36<=1.74),"Alles im grünen Bereich!",AND(G36>=1.75,G36<=2.49),"Vorsicht geboten: Hier besteht Handlungsbedarf!",AND(G36>=2.5,G36<=3),"Alarm! Akuter Handlungsbedarf!")} -> #DIV/0!
A37: 21. | B37: Förderung von Weiterentwicklung der Fähigkeiten und Kompetenzen der Mitarbeitenden. | E37: ='4. Auswertung GF & MA'!J12 -> #DIV/0! | F37: ='4. Auswertung GF & MA'!J13 -> #DIV/0! | G37: =AVERAGE(E37:F37) -> #DIV/0! | H37: ='3. Auswertung MA'!J43 -> 0 | I37: =G37 -> #DIV/0! | J37: {=_xlfn.IFS(AND(G37>=1,G37<=1.74),"Alles im grünen Bereich!",AND(G37>=1.75,G37<=2.49),"Vorsicht geboten: Hier besteht Handlungsbedarf!",AND(G37>=2.5,G37<=3),"Alarm! Akuter Handlungsbedarf!")} -> #DIV/0!
A39: Personalentwicklung
A40: Mitarbeiterzufriedenheit | E40: =E4 -> Auswertung Geschäftsführung | F40: =F4 -> Auswertung Mitarbeitende | G40: =G4 -> Auswertung Unternehmen | H40: =H4 -> Keine Angabe möglich | I40: =I4 -> Handlungsbedarf | L40: Anzuwendende Werkzeuge
A41: 22. | B41: Hohe Mitarbeiterbindung. | E41: ='4. Auswertung GF & MA'!B18 -> #DIV/0! | F41: ='4. Auswertung GF & MA'!B19 -> #DIV/0! | G41: =AVERAGE(E41:F41) -> #DIV/0! | H41: ='3. Auswertung MA'!B64 -> 0 | I41: =G41 -> #DIV/0! | J41: {=_xlfn.IFS(AND(G41>=1,G41<=1.74),"Alles im grünen Bereich!",AND(G41>=1.75,G41<=2.49),"Vorsicht geboten: Hier besteht Handlungsbedarf!",AND(G41>=2.5,G41<=3),"Alarm! Akuter Handlungsbedarf!")} -> #DIV/0! | L41: Werkzeugliste Mitarbeiterzufriedenheit
A42: 23. | B42: Gutes Arbeitsklima. | E42: ='4. Auswertung GF & MA'!C18 -> #DIV/0! | F42: ='4. Auswertung GF & MA'!C19 -> #DIV/0! | G42: =AVERAGE(E42:F42) -> #DIV/0! | H42: ='3. Auswertung MA'!C64 -> 0 | I42: =G42 -> #DIV/0! | J42: {=_xlfn.IFS(AND(G42>=1,G42<=1.74),"Alles im grünen Bereich!",AND(G42>=1.75,G42<=2.49),"Vorsicht geboten: Hier besteht Handlungsbedarf!",AND(G42>=2.5,G42<=3),"Alarm! Akuter Handlungsbedarf!")} -> #DIV/0!
A43: 24. | B43: Zufriedenheit mit der aktuellen Arbeitssituation. | E43: ='4. Auswertung GF & MA'!D18 -> #DIV/0! | F43: ='4. Auswertung GF & MA'!D19 -> #DIV/0! | G43: =AVERAGE(E43:F43) -> #DIV/0! | H43: ='3. Auswertung MA'!D64 -> 0 | I43: =G43 -> #DIV/0! | J43: {=_xlfn.IFS(AND(G43>=1,G43<=1.74),"Alles im grünen Bereich!",AND(G43>=1.75,G43<=2.49),"Vorsicht geboten: Hier besteht Handlungsbedarf!",AND(G43>=2.5,G43<=3),"Alarm! Akuter Handlungsbedarf!")} -> #DIV/0!
A45: Mitarbeiterengagement | E45: =E4 -> Auswertung Geschäftsführung | F45: =F4 -> Auswertung Mitarbeitende | G45: =G4 -> Auswertung Unternehmen | H45: =H4 -> Keine Angabe möglich | I45: =I4 -> Handlungsbedarf | L45: Anzuwendende Werkzeuge
A46: 25. | B46: Förderung von Engagement und Motivation. | E46: ='4. Auswertung GF & MA'!E18 -> #DIV/0! | F46: ='4. Auswertung GF & MA'!E19 -> #DIV/0! | G46: =AVERAGE(E46:F46) -> #DIV/0! | H46: ='3. Auswertung MA'!E64 -> 0 | I46: =G46 -> #DIV/0! | J46: {=_xlfn.IFS(AND(G46>=1,G46<=1.74),"Alles im grünen Bereich!",AND(G46>=1.75,G46<=2.49),"Vorsicht geboten: Hier besteht Handlungsbedarf!",AND(G46>=2.5,G46<=3),"Alarm! Akuter Handlungsbedarf!")} -> #DIV/0! | L46: Werkzeugliste Mitarbeiterengagement
A47: 26. | B47: Gute und offene Kommunikation zwischen Mitarbeitenden und der Geschäftsführung. | E47: ='4. Auswertung GF & MA'!F18 -> #DIV/0! | F47: ='4. Auswertung GF & MA'!F19 -> #DIV/0! | G47: =AVERAGE(E47:F47) -> #DIV/0! | H47: ='3. Auswertung MA'!F64 -> 0 | I47: =G47 -> #DIV/0! | J47: {=_xlfn.IFS(AND(G47>=1,G47<=1.74),"Alles im grünen Bereich!",AND(G47>=1.75,G47<=2.49),"Vorsicht geboten: Hier besteht Handlungsbedarf!",AND(G47>=2.5,G47<=3),"Alarm! Akuter Handlungsbedarf!")} -> #DIV/0!
A48: 27. | B48: Einbindung in Entscheidungsprozesse und Berücksichtigung von Ideen/Vorschläge. | E48: ='4. Auswertung GF & MA'!G18 -> #DIV/0! | F48: ='4. Auswertung GF & MA'!G19 -> #DIV/0! | G48: =AVERAGE(E48:F48) -> #DIV/0! | H48: ='3. Auswertung MA'!G64 -> 0 | I48: =G48 -> #DIV/0! | J48: {=_xlfn.IFS(AND(G48>=1,G48<=1.74),"Alles im grünen Bereich!",AND(G48>=1.75,G48<=2.49),"Vorsicht geboten: Hier besteht Handlungsbedarf!",AND(G48>=2.5,G48<=3),"Alarm! Akuter Handlungsbedarf!")} -> #DIV/0!
A50: Qualifizierung und Kompetenz | E50: =E4 -> Auswertung Geschäftsführung | F50: =F4 -> Auswertung Mitarbeitende | G50: =G4 -> Auswertung Unternehmen | H50: =H4 -> Keine Angabe möglich | I50: =I4 -> Handlungsbedarf | L50: Anzuwendende Werkzeuge
A51: 28. | B51: Genauen Überblick über Fähigkeiten und Kompetenzen. | E51: ='4. Auswertung GF & MA'!H18 -> #DIV/0! | F51: ='4. Auswertung GF & MA'!H19 -> #DIV/0! | G51: =AVERAGE(E51:F51) -> #DIV/0! | H51: ='3. Auswertung MA'!H64 -> 0 | I51: =G51 -> #DIV/0! | J51: {=_xlfn.IFS(AND(G51>=1,G51<=1.74),"Alles im grünen Bereich!",AND(G51>=1.75,G51<=2.49),"Vorsicht geboten: Hier besteht Handlungsbedarf!",AND(G51>=2.5,G51<=3),"Alarm! Akuter Handlungsbedarf!")} -> #DIV/0! | L51: Werkzeugliste Qualifizierung & Kompetenz
A52: 29. | B52: Durchführung von regelmäßigen Mitarbeitergesprächen, in denen zukünftige Entwicklungen und Perspektiven besprochen werden. | E52: ='4. Auswertung GF & MA'!I18 -> #DIV/0! | F52: ='4. Auswertung GF & MA'!I19 -> #DIV/0! | G52: =AVERAGE(E52:F52) -> #DIV/0! | H52: ='3. Auswertung MA'!I64 -> 0 | I52: =G52 -> #DIV/0! | J52: {=_xlfn.IFS(AND(G52>=1,G52<=1.74),"Alles im grünen Bereich!",AND(G52>=1.75,G52<=2.49),"Vorsicht geboten: Hier besteht Handlungsbedarf!",AND(G52>=2.5,G52<=3),"Alarm! Akuter Handlungsbedarf!")} -> #DIV/0!
A53: 30. | B53: Konsequente Umsetzung von besprochenen Maßnahmen. | E53: ='4. Auswertung GF & MA'!J18 -> #DIV/0! | F53: ='4. Auswertung GF & MA'!J19 -> #DIV/0! | G53: =AVERAGE(E53:F53) -> #DIV/0! | H53: ='3. Auswertung MA'!J64 -> 0 | I53: =G53 -> #DIV/0! | J53: {=_xlfn.IFS(AND(G53>=1,G53<=1.74),"Alles im grünen Bereich!",AND(G53>=1.75,G53<=2.49),"Vorsicht geboten: Hier besteht Handlungsbedarf!",AND(G53>=2.5,G53<=3),"Alarm! Akuter Handlungsbedarf!")} -> #DIV/0!
A55: Organisationskultur
A56: Werte & Normen | E56: =E4 -> Auswertung Geschäftsführung | F56: =F4 -> Auswertung Mitarbeitende | G56: =G4 -> Auswertung Unternehmen | H56: =H4 -> Keine Angabe möglich | I56: =I4 -> Handlungsbedarf | L56: Anzuwendende Werkzeuge
A57: 31. | B57: Es gibt gemeinsam entwickelte Normen und Werte. | E57: ='4. Auswertung GF & MA'!B24 -> #DIV/0! | F57: ='4. Auswertung GF & MA'!B25 -> #DIV/0! | G57: =AVERAGE(E57:F57) -> #DIV/0! | H57: ='3. Auswertung MA'!B85 -> 0 | I57: =G57 -> #DIV/0! | J57: {=_xlfn.IFS(AND(G57>=1,G57<=1.74),"Alles im grünen Bereich!",AND(G57>=1.75,G57<=2.49),"Vorsicht geboten: Hier besteht Handlungsbedarf!",AND(G57>=2.5,G57<=3),"Alarm! Akuter Handlungsbedarf!")} -> #DIV/0! | L57: Werkzeugliste Werte & Normen
A58: 32. | B58: Die Werte und Normen sind bekannt. | E58: ='4. Auswertung GF & MA'!C24 -> #DIV/0! | F58: ='4. Auswertung GF & MA'!C25 -> #DIV/0! | G58: =AVERAGE(E58:F58) -> #DIV/0! | H58: ='3. Auswertung MA'!C85 -> 0 | I58: =G58 -> #DIV/0! | J58: {=_xlfn.IFS(AND(G58>=1,G58<=1.74),"Alles im grünen Bereich!",AND(G58>=1.75,G58<=2.49),"Vorsicht geboten: Hier besteht Handlungsbedarf!",AND(G58>=2.5,G58<=3),"Alarm! Akuter Handlungsbedarf!")} -> #DIV/0!
A59: 33. | B59: Anerkennung und Wertschätzung von Leistungen. | E59: ='4. Auswertung GF & MA'!D24 -> #DIV/0! | F59: ='4. Auswertung GF & MA'!D25 -> #DIV/0! | G59: =AVERAGE(E59:F59) -> #DIV/0! | H59: ='3. Auswertung MA'!D85 -> 0 | I59: =G59 -> #DIV/0! | J59: {=_xlfn.IFS(AND(G59>=1,G59<=1.74),"Alles im grünen Bereich!",AND(G59>=1.75,G59<=2.49),"Vorsicht geboten: Hier besteht Handlungsbedarf!",AND(G59>=2.5,G59<=3),"Alarm! Akuter Handlungsbedarf!")} -> #DIV/0!
A61: Unternehmenskultur | E61: =E4 -> Auswertung Geschäftsführung | F61: =F4 -> Auswertung Mitarbeitende | G61: =G4 -> Auswertung Unternehmen | H61: =H4 -> Keine Angabe möglich | I61: =I4 -> Handlungsbedarf | L61: Anzuwendende Werkzeuge
A62: 34. | B62: Die Normen und Werte werden gelebt. | E62: ='4. Auswertung GF & MA'!E24 -> #DIV/0! | F62: ='4. Auswertung GF & MA'!E25 -> #DIV/0! | G62: =AVERAGE(E62:F62) -> #DIV/0! | H62: ='3. Auswertung MA'!E85 -> 0 | I62: =G62 -> #DIV/0! | J62: {=_xlfn.IFS(AND(G62>=1,G62<=1.74),"Alles im grünen Bereich!",AND(G62>=1.75,G62<=2.49),"Vorsicht geboten: Hier besteht Handlungsbedarf!",AND(G62>=2.5,G62<=3),"Alarm! Akuter Handlungsbedarf!")} -> #DIV/0! | L62: Werkzeugliste Unternehemenskultur
A63: 35. | B63: Förderung des Gemeinschaftsgefühls. | E63: ='4. Auswertung GF & MA'!F24 -> #DIV/0! | F63: ='4. Auswertung GF & MA'!F25 -> #DIV/0! | G63: =AVERAGE(E63:F63) -> #DIV/0! | H63: ='3. Auswertung MA'!F85 -> 0 | I63: =G63 -> #DIV/0! | J63: {=_xlfn.IFS(AND(G63>=1,G63<=1.74),"Alles im grünen Bereich!",AND(G63>=1.75,G63<=2.49),"Vorsicht geboten: Hier besteht Handlungsbedarf!",AND(G63>=2.5,G63<=3),"Alarm! Akuter Handlungsbedarf!")} -> #DIV/0!
A64: 36. | B64: Positiven Einfluss auf die Motivation und der Teamarbeit. | E64: ='4. Auswertung GF & MA'!G24 -> #DIV/0! | F64: ='4. Auswertung GF & MA'!G25 -> #DIV/0! | G64: =AVERAGE(E64:F64) -> #DIV/0! | H64: ='3. Auswertung MA'!G85 -> 0 | I64: =G64 -> #DIV/0! | J64: {=_xlfn.IFS(AND(G64>=1,G64<=1.74),"Alles im grünen Bereich!",AND(G64>=1.75,G64<=2.49),"Vorsicht geboten: Hier besteht Handlungsbedarf!",AND(G64>=2.5,G64<=3),"Alarm! Akuter Handlungsbedarf!")} -> #DIV/0!

Sheet 6. Übersicht Werkzeugliste
A1: #VALUE! | C1: Übersicht Werkzeugliste | M1: #VALUE!
A3: ORGANISATIONSENTWICKLUNG
A4: Anpassungsfähigkeit
A5: Markt- und Wettbewerbsanalyse | E5: Dieses Werkzeug dient der Erhebung und Analyse von geschäftsrelevanten Informationen über direkte und indirekte Konkurrenten. Dabei geht es vor allem um das Herausarbeiten von Stärken und Schwächen der Konkurrenten gegenüber dem eigenen Unternehmen, um so Wettbewerbsvorteile zu ermitteln.
A6: Risikomanagement | E6: Bei diesem Werkzeug analysieren Sie Ihr Unternehmen hinsichtlich unterschiedlicher Risiken, im Hinblick auf interne sowie externe Faktoren sowie der möglichen Eintrittswahrscheinlichkeit.
A7: TrendWerkzeug– Trends für Innovationen im Unternehmen im Blick behalten | E7: Dieses Werkzeug unterstützt Sie bei der Identifizierung von unternehmensrelevanten Trends und Innovationen. Schritt für Schritt analysieren und bewerten Sie ggf. relevante Trends.
A8: Verbesserungs-Werkstatt - Gemeinsam aus Fehlern lernen | E8: Verbesserungs-Werkstätten bieten den Mitarbeitenden die Möglichkeit, aktiv an Verbesserungsprozessen teilzunehmen. Indem sie ihre Ideen, Vorschläge und Erfahrungen einbringen können, fühlen sie sich stärker in den Betrieb eingebunden und sind mehr engagiert. Dies trägt zu einer positiven Arbeitsatmosphäre bei und fördert das Engagement der Mitarbeitenden gegenüber dem Unternehmen. Der Betrieb wird dadurch insgesamt widerstandsfähiger.
A10: ORGANISATIONSENTWICKLUNG
A11: Risikomanagement
A12: Finanz-Cockpit | E12: Im Teil I können Sie mit Hilfe von Indikatoren die BWA richtig ableiten und interpretieren; im Teil II die Profitabilität und Zahlungsfähigkeit Ihres Unternehmens prüfen.
A13: Risikomanagement | E13: Bei diesem Werkzeug analysieren Sie Ihr Unternehmen hinsichtlich unterschiedlicher Risiken, im Hinblick auf interne sowie externe Faktoren sowie der möglichen Eintrittswahrscheinlichkeit.
A14: "Sensibilisierung" für die Gefährdungs- und Belastungsanalyse | E14: Dieses Werkzeug dient dazu die Anwender*innen für die Gefährdungen und Belastungen im Unternehmen zu sensibilisieren und diese zu identifizieren, zu beseitigen und die Gesundheit der Mitarbeitenden zu fördern. Wichtig: Nicht zu verwechseln mit der verpflichtenden Arbeitsschutzbelehrung.
A16: ORGANISATIONSENTWICKLUNG
A17: Kundenorientierung
A18: Flexible Arbeitszeitgestaltung - Chancen erkennen und nutzen | E18: Die im Werkzeug „Flexible Arbeitszeitgestaltung- Chancen erkennen und nutzen“ vorgesehenen und detailliert beschriebenen 3 Workshops (Schritt 1-3) garantieren eine zielgerichtete Beschäftigung mit dem Thema und führen so mittelfristig zu einer Optimierung der Widerstandsfähigkeit der Organisation durch eine höhere Motivation der Belegschaft.
A19: Verbesserungs-Werkstatt - Gemeinsam aus Fehlern lernen | E19: Verbesserungs-Werkstätten bieten den Mitarbeitenden die Möglichkeit, aktiv an Verbesserungsprozessen teilzunehmen. Indem sie ihre Ideen, Vorschläge und Erfahrungen einbringen können, fühlen sie sich stärker in den Betrieb eingebunden und sind mehr engagiert. Dies trägt zu einer positiven Arbeitsatmosphäre bei und fördert das Engagement der Mitarbeitenden gegenüber dem Unternehmen. Der Betrieb wird dadurch insgesamt widerstandsfähiger.
A20: Vertriebsleitfaden | E20: Dieses Werkzeug ist ein praxisorientierter Leitfaden für Mitarbeitende im Vertrieb. Von der Kundenakquise bis hin zur Kundenbindung finden Sie hier eine Schritt-für-Schritt-Einarbeitung.
A22: ORGANISATIONSENTWICKLUNG
A23: Finanzielle Stabilität
A24: Finanz-Cockpit | E24: Im Teil I können Sie mit Hilfe von Indikatoren die BWA richtig ableiten und interpretieren; im Teil II die Profitabilität und Zahlungsfähigkeit Ihres Unternehmens prüfen.
A26: ORGANISATIONSENTWICKLUNG
A27: Innovationsfähigkeit
A28: "Sensibilisierung" für die Gefährdungs- und Belastungsanalyse | E28: Dieses Werkzeug dient dazu die Anwender*innen für die Gefährdungen und Belastungen im Unternehmen zu sensibilisieren und diese zu identifizieren, zu beseitigen und die Gesundheit der Mitarbeitenden zu fördern. Wichtig: Nicht zu verwechseln mit der verpflichtenden Arbeitsschutzbelehrung.
A29: TrendWerkzeug– Trends für Innovationen im Unternehmen im Blick behalten | E29: Dieses Werkzeug unterstützt Sie bei der Identifizierung von unternehmensrelevanten Trends und Innovationen. Schritt für Schritt analysieren und bewerten Sie ggf. relevante Trends.
A30: Verborgene Fähigkeiten der Mitarbeitenden: Interne Innovation fördern durch das Erkunden verborgener Fähigkeiten | E30: Dieses Werkzeug gibt Ihnen einen Leitfaden für ein Gespräch mit Ihren Mitarbeitenden, in dem Sie mehr über deren verborgene Fähigkeiten erfahren können. Die verborgenen und unbekannten Fähigkeiten der Mitarbeitenden könnten für das Unternehmen sehr wertvoll sein.
A31: WerteWerkstatt - Unternehmenswerte gemeinsam entwickeln | E31: Dieses Werkzeug bietet Ihnen einen Leitfaden für die Durchführung eines Workshops, in dem Sie gemeinsam mit den Mitarbeitenden Unternehmenswerte ausarbeiten.
A33: ORGANISATIONSENTWICKLUNG
A34: Kommunikation & Transparenz
A35: Arbeitssitzungen - strukturiert planen und effizient durchführen | E35: Mit dem Werkzeug „Arbeitssitzungen gut und effizient gestalten“ bekommen die Beschäftigten und die Geschäftsführung kleiner Unternehmen und Betriebe einen Leitfaden an die Hand, wie Arbeitssitzungen zielgerichtet und effizient durchgeführt werden sollten.
A36: Interner Kommunikation - Ansätze zur Optimierung | E36: Die interne Kommunikation ist gerade in den kleinen und kleinsten Unternehmen von hoher Bedeutung. Im Werkzeug Interne Kommunikation wird dargestellt, wie dieses Thema sehr strukturiert „angepackt“ werden sollte. Vorgestellt werden vor allem die Inhalte von 2 Workshops, die zur Bearbeitung geplant und umgesetzt werden sollten.
A37: Lernerfolge sicherstellen - Seminarerfahrungen auf den Alltag übertragen und anwenden | E37: Mit dem Werkzeug „Lernerfolge sicherstellen – Seminarerfahrungen auf den Alltag übertragen und anwenden“ werden die Beschäftigten, die in Weiterbildungsmaßnahmen ihr Wissen erweitert haben, darin unterstützt dieses neue Wissen am Arbeitsplatz anzuwenden und gleichzeitig auch sicherzustellen, dass weitere Beschäftigte ebenfalls an dem Wissenszuwachs der Seminarteilnehmenden partizipieren.
A38: Onboarding - Neue Beschäftigte fit machen für den Einstieg | E38: Im Personalmanagement ist "Onboarding" der strukturierte und systematische Prozess, der es möglich macht, dass neue Mitarbeiter*innen sich vom ersten Tag an wohlfühlen. Ein guter Einstieg erleichtert die Mitarbeit im Unternehmen, reduziert das Stresserleben gerade am Anfang, wo alles neu ist, vermeidet Reibungsverluste und mögliche Fehler und erhöht die Zufriedenheit. Das Werkzeug erläutert alle Aspekte, die in den unterschiedlichen Phasen des Onboardings von Bedeutung sind.
A39: Verbesserungs-Werkstatt - Gemeinsam aus Fehlern lernen | E39: Verbesserungs-Werkstätten bieten den Mitarbeitenden die Möglichkeit, aktiv an Verbesserungsprozessen teilzunehmen. Indem sie ihre Ideen, Vorschläge und Erfahrungen einbringen können, fühlen sie sich stärker in den Betrieb eingebunden und sind mehr engagiert. Dies trägt zu einer positiven Arbeitsatmosphäre bei und fördert das Engagement der Mitarbeitenden gegenüber dem Unternehmen. Der Betrieb wird dadurch insgesamt widerstandsfähiger.
A41: ORGANISATIONSENTWICKLUNG
A42: Führung
A43: Flexible Arbeitszeitgestaltung - Chancen erkennen und nutzen | E43: Die im Werkzeug „Flexible Arbeitszeitgestaltung- Chancen erkennen und nutzen“ vorgesehenen und detailliert beschriebenen 3 Workshops (Schritt 1-3) garantieren eine zielgerichtete Beschäftigung mit dem Thema und führen so mittelfristig zu einer Optimierung der Widerstandsfähigkeit der Organisation durch eine höhere Motivation der Belegschaft.
A44: Interner Kommunikation - Ansätze zur Optimierung | E44: Die interne Kommunikation ist gerade in den kleinen und kleinsten Unternehmen von hoher Bedeutung. Im Werkzeug Interne Kommunikation wird dargestellt, wie dieses Thema sehr strukturiert „angepackt“ werden sollte. Vorgestellt werden vor allem die Inhalte von 2 Workshops, die zur Bearbeitung geplant und umgesetzt werden sollten.
A45: Mitarbeitergespräche - effiziente Planung und Durchführung | E45: Mit dem Werkzeug „Mitarbeitergespräche – effiziente Planung und Durchführung“ bekommen kleine Unternehmen und Betriebe einen praktischen Leitfaden in die Hand, wie solche Gespräche strukturiert zu führen und zu dokumentieren sind.
A46: Stress-Check - Belastungen erkennen | E46: Die Durchführung eines Stress-Checks in kleinen Betrieben kann dazu beitragen, die Gesundheit, Leistungsfähigkeit und Zufriedenheit sowohl der Geschäftsführung als auch der Mitarbeitenden zu fördern. Mit dem Stress-Check ist es Ihnen möglich, die eigenen Belastungen durch Stress und andererseits den Stressfaktor ihrer Belegschaft einzuschätzen.
A47: Wertschätzungsleitfaden: Kleine Gesten, große Wirkung – Mitarbeitende motivieren und binden durch Wertschätzung | E47: Dieses Werkzeug unterstützt Sie in der Wertschätzung der Mitarbeitenden. Sie erhalten einen Einblick in die unterschiedlichen Stufen der Wertschätzung und bekommen Unterstützung in der Verbesserung der Wertschätzung der Mitarbeitenden.
A49: PERSONALENTWICKLUNG
A50: Mitarbeiterzufriedenheit
A51: Arbeitsplatzbeschreibung (Jobprofil) | E51: Arbeitsplatzbeschreibungen sind ein wichtiges Instrument der Personalarbeit. Sie dienen als Grundlage für eine zu erstellende Kompetenzmatrix sowie für Personalgespräche. Ein Fragebogen zur Analyse von Arbeitsplätzen unterstützt Sie bei der Erstellung und der Beschreibung der entsprechenden Anforderungen.
A52: Büroarbeitsplätze belastungsarm gestalten - Checkliste zur Selbsteinschätzung | E52: Ein Büroarbeitsplatz, der frei von möglichen Belastungen geplant ist, kann die organisationale Resilienz einer Organisation auf mehreren Ebenen stärken: Gesundheit und Wohlbefinden, Flexibilität und Anpassungsfähigkeit, Kommunikation und Zusammenarbeit und Weiterentwicklung und Lernen. Das Werkzeug hilft, den Büroarbeitsplatz systematisch und strukturiert zu überprüfen.
A53: Kompetenzfeststellung (Kompetenzmatrix & Kompetenzradar) | E53: Die Nutzung von Kompetenzmatrix und Kompetenzradar gibt einen Überblick über vorhandene Mitarbeiterkompetenzen, verbessert die Personaleinsatzplanung, schafft Transparenz in der Personalorganisation und zeigt Ihnen den konkreten Qualifizierungsbedarf Ihrer Beschäftigten auf.
A54: Mitarbeitergespräche - effiziente Planung und Durchführung | E54: Mit dem Werkzeug „Mitarbeitergespräche – effiziente Planung und Durchführung“ bekommen kleine Unternehmen und Betriebe einen praktischen Leitfaden in die Hand, wie solche Gespräche strukturiert zu führen und zu dokumentieren sind.
A55: Verbesserungs-Werkstatt - Gemeinsam aus Fehlern lernen | E55: Verbesserungs-Werkstätten bieten den Mitarbeitenden die Möglichkeit, aktiv an Verbesserungsprozessen teilzunehmen. Indem sie ihre Ideen, Vorschläge und Erfahrungen einbringen können, fühlen sie sich stärker in den Betrieb eingebunden und sind mehr engagiert. Dies trägt zu einer positiven Arbeitsatmosphäre bei und fördert das Engagement der Mitarbeitenden gegenüber dem Unternehmen. Der Betrieb wird dadurch insgesamt widerstandsfähiger.
A57: PERSONALENTWICKLUNG
A58: Mitarbeiterengagement
A59: Arbeitssitzungen - strukturiert planen und effizient durchführen | E59: Mit dem Werkzeug „Arbeitssitzungen gut und effizient gestalten“ bekommen die Beschäftigten und die Geschäftsführung kleiner Unternehmen und Betriebe einen Leitfaden an die Hand, wie Arbeitssitzungen zielgerichtet und effizient durchgeführt werden sollten.
A60: Flexible Arbeitszeitgestaltung - Chancen erkennen und nutzen | E60: Die im Werkzeug „Flexible Arbeitszeitgestaltung- Chancen erkennen und nutzen“ vorgesehenen und detailliert beschriebenen 3 Workshops (Schritt 1-3) garantieren eine zielgerichtete Beschäftigung mit dem Thema und führen so mittelfristig zu einer Optimierung der Widerstandsfähigkeit der Organisation durch eine höhere Motivation der Belegschaft.
A61: Kompetenzfeststellung (Kompetenzmatrix & Kompetenzradar) | E61: Die Nutzung von Kompetenzmatrix und Kompetenzradar gibt einen Überblick über vorhandene Mitarbeiterkompetenzen, verbessert die Personaleinsatzplanung, schafft Transparenz in der Personalorganisation und zeigt Ihnen den konkreten Qualifizierungsbedarf Ihrer Beschäftigten auf.
A62: Mitarbeiterbefragung - Förderung des Engagements der Belegschaft | E62: Durch eine Mitarbeiterbefragung können Unternehmen wichtige Erkenntnisse über die Zufriedenheit, Motivation und Bedürfnisse der Belegschaft gewinnen. Im Werkzeug „Mitarbeiterbefragung“ wird die Vorgehensweise bei der Realisierung einer Befragung sowie ein umfangreicher Fragenkatalog vorgestellt.
A63: Verbesserungs-Werkstatt - Gemeinsam aus Fehlern lernen | E63: Verbesserungs-Werkstätten bieten den Mitarbeitenden die Möglichkeit, aktiv an Verbesserungsprozessen teilzunehmen. Indem sie ihre Ideen, Vorschläge und Erfahrungen einbringen können, fühlen sie sich stärker in den Betrieb eingebunden und sind mehr engagiert. Dies trägt zu einer positiven Arbeitsatmosphäre bei und fördert das Engagement der Mitarbeitenden gegenüber dem Unternehmen. Der Betrieb wird dadurch insgesamt widerstandsfähiger.
A65: PERSONALENTWICKLUNG
A66: Qualifizierung & Kompetenz
A67: Arbeitsplatzbeschreibung (Jobprofil) | E67: Arbeitsplatzbeschreibungen sind ein wichtiges Instrument der Personalarbeit. Sie dienen als Grundlage für eine zu erstellende Kompetenzmatrix sowie für Personalgespräche. Ein Fragebogen zur Analyse von Arbeitsplätzen unterstützt Sie bei der Erstellung und der Beschreibung der entsprechenden Anforderungen.
A68: Kompetenzfeststellung (Kompetenzmatrix & Kompetenzradar) | E68: Die Nutzung von Kompetenzmatrix und Kompetenzradar gibt einen Überblick über vorhandene Mitarbeiterkompetenzen, verbessert die Personaleinsatzplanung, schafft Transparenz in der Personalorganisation und zeigt Ihnen den konkreten Qualifizierungsbedarf Ihrer Beschäftigten auf.
A69: Lernerfolge sicherstellen - Seminarerfahrungen auf den Alltag übertragen und anwenden | E69: Mit dem Werkzeug „Lernerfolge sicherstellen – Seminarerfahrungen auf den Alltag übertragen und anwenden“ werden die Beschäftigten, die in Weiterbildungsmaßnahmen ihr Wissen erweitert haben, darin unterstützt dieses neue Wissen am Arbeitsplatz anzuwenden und gleichzeitig auch sicherzustellen, dass weitere Beschäftigte ebenfalls an dem Wissenszuwachs der Seminarteilnehmenden partizipieren.
A70: Mitarbeitergespräche - effiziente Planung und Durchführung | E70: Mit dem Werkzeug „Mitarbeitergespräche – effiziente Planung und Durchführung“ bekommen kleine Unternehmen und Betriebe einen praktischen Leitfaden in die Hand, wie solche Gespräche strukturiert zu führen und zu dokumentieren sind.
A71: Verborgene Fähigkeiten der Mitarbeitenden: Interne Innovation fördern durch das Erkunden verborgener Fähigkeiten | E71: Dieses Werkzeug gibt Ihnen einen Leitfaden für ein Gespräch mit Ihren Mitarbeitenden, in dem Sie mehr über deren verborgene Fähigkeiten erfahren können. Die verborgenen und unbekannten Fähigkeiten der Mitarbeitenden könnten für das Unternehmen sehr wertvoll sein.
A73: ORGANISATIONSKULTUR
A74: Werte & Normen
A75: Mitarbeiterbefragung - Förderung des Engagements der Belegschaft | E75: Durch eine Mitarbeiterbefragung können Unternehmen wichtige Erkenntnisse über die Zufriedenheit, Motivation und Bedürfnisse der Belegschaft gewinnen. Im Werkzeug „Mitarbeiterbefragung“ wird die Vorgehensweise bei der Realisierung einer Befragung sowie ein umfangreicher Fragenkatalog vorgestellt.
A76: Onboarding - Neue Beschäftigte fit machen für den Einstieg | E76: Im Personalmanagement ist "Onboarding" der strukturierte und systematische Prozess, der es möglich macht, dass neue Mitarbeiter*innen sich vom ersten Tag an wohlfühlen. Ein guter Einstieg erleichtert die Mitarbeit im Unternehmen, reduziert das Stresserleben gerade am Anfang, wo alles neu ist, vermeidet Reibungsverluste und mögliche Fehler und erhöht die Zufriedenheit. Das Werkzeug erläutert alle Aspekte, die in den unterschiedlichen Phasen des Onboardings von Bedeutung sind.
A77: WerteWerkstatt - Unternehmenswerte gemeinsam entwickeln | E77: Dieses Werkzeug bietet Ihnen einen Leitfaden für die Durchführung eines Workshops, in dem Sie gemeinsam mit den Mitarbeitenden Unternehmenswerte ausarbeiten.
A78: Wertschätzungsleitfaden: Kleine Gesten, große Wirkung – Mitarbeitende motivieren und binden durch Wertschätzung | E78: Dieses Werkzeug unterstützt Sie in der Wertschätzung der Mitarbeitenden. Sie erhalten einen Einblick in die unterschiedlichen Stufen der Wertschätzung und bekommen Unterstützung in der Verbesserung der Wertschätzung der Mitarbeitenden.
A80: ORGANISATIONSKULTUR
A81: Unternehmenskultur
A82: Arbeitssitzungen - strukturiert planen und effizient durchführen | E82: Mit dem Werkzeug „Arbeitssitzungen gut und effizient gestalten“ bekommen die Beschäftigten und die Geschäftsführung kleiner Unternehmen und Betriebe einen Leitfaden an die Hand, wie Arbeitssitzungen zielgerichtet und effizient durchgeführt werden sollten.
A83: Büroarbeitsplätze belastungsarm gestalten - Checkliste zur Selbsteinschätzung | E83: Ein Büroarbeitsplatz, der frei von möglichen Belastungen geplant ist, kann die organisationale Resilienz einer Organisation auf mehreren Ebenen stärken: Gesundheit und Wohlbefinden, Flexibilität und Anpassungsfähigkeit, Kommunikation und Zusammenarbeit und Weiterentwicklung und Lernen. Das Werkzeug hilft, den Büroarbeitsplatz systematisch und strukturiert zu überprüfen.
A84: Mitarbeiterbefragung - Förderung des Engagements der Belegschaft | E84: Durch eine Mitarbeiterbefragung können Unternehmen wichtige Erkenntnisse über die Zufriedenheit, Motivation und Bedürfnisse der Belegschaft gewinnen. Im Werkzeug „Mitarbeiterbefragung“ wird die Vorgehensweise bei der Realisierung einer Befragung sowie ein umfangreicher Fragenkatalog vorgestellt.
A85: Onboarding - Neue Beschäftigte fit machen für den Einstieg | E85: Im Personalmanagement ist "Onboarding" der strukturierte und systematische Prozess, der es möglich macht, dass neue Mitarbeiter*innen sich vom ersten Tag an wohlfühlen. Ein guter Einstieg erleichtert die Mitarbeit im Unternehmen, reduziert das Stresserleben gerade am Anfang, wo alles neu ist, vermeidet Reibungsverluste und mögliche Fehler und erhöht die Zufriedenheit. Das Werkzeug erläutert alle Aspekte, die in den unterschiedlichen Phasen des Onboardings von Bedeutung sind.
A86: Stress-Check - Belastungen erkennen | E86: Die Durchführung eines Stress-Checks in kleinen Betrieben kann dazu beitragen, die Gesundheit, Leistungsfähigkeit und Zufriedenheit sowohl der Geschäftsführung als auch der Mitarbeitenden zu fördern. Mit dem Stress-Check ist es Ihnen möglich, die eigenen Belastungen durch Stress und andererseits den Stressfaktor ihrer Belegschaft einzuschätzen.
A87: WerteWerkstatt - Unternehmenswerte gemeinsam entwickeln | E87: Dieses Werkzeug bietet Ihnen einen Leitfaden für die Durchführung eines Workshops, in dem Sie gemeinsam mit den Mitarbeitenden Unternehmenswerte ausarbeiten.

Sheet 7. Impressum
A1: #VALUE! | C1: Impressum | M1: #VALUE!
A3: Entwicklung
A4: Der Kurzcheck Organisationale Resilienz wurde im Projekt „HandWerkZeug in KKU“ von den Projektpartnern entwickelt.
A7: Projektbeteiligte
A8: Gemeinsam führen folgende Partnerorganisationen das Projekt „HandWerkZeug für Klein- und Kleinstunternehmen“ durch:
A10: #VALUE! | C10: IHK-Projektgesellschaft mbH Ostbrandenburg:
C11: Sandy Morgen, morgen@ihk-projekt.de
A13: #VALUE! | C13: IBBF - Vereinigung für Betriebliche Bildungsforschung e.V.:
C14: Dr. Evelyn Schmidt-Meergans, evelyn.schmidt@ibbf.berlin
A16: #VALUE! | C16: d-ialogo e.K.:
C17: Hans-Jürgen Dorr, dorr@d-ialogo.de
A20: Förderung
A21: Das INQA-Experimentierraum-Projekt „HandWerkZeug für Klein- und Kleinstunternehmen" wird über einen Zeitraum von zwei Jahren im Rahmen der Initiative Neue Qualität der Arbeit (INQA) sowie der Richtlinie „Unternehmen und Verwaltungen der Zukunft: INQA-Experimentierräume“ des Bundesministeriums für Arbeit und Soziales (BMAS) gefördert sowie durch die Bundesanstalt für Arbeitsschutz und Arbeitsmedizin (BAuA) fachlich begleitet. Das Projekt wird durch die Bundesanstalt für Arbeitsschutz und Arbeitsmedizin (BAuA) fachlich begleitet.
A22: #VALUE!
