{"text_format":"3","workbook":"xlsx","n_sheets":3,"sheets":["Tabelle1","Tabelle2","Tabelle3"],"not_rendered":{"images":1,"defined_names":1},"read":"whole","date_system":"1900"}

{"sheet":"Tabelle1","index":0,"n_rows":34,"n_cols":6,"rows_kept":34,"merged":[[3,0,3,3],[6,0,6,1],[7,0,7,1],[11,0,11,1],[12,0,12,1],[13,0,13,1],[14,0,14,1],[15,0,15,1],[17,0,17,1],[18,0,18,1],[19,0,19,1],[20,0,20,1],[21,0,21,1],[22,0,22,1],[23,0,23,1],[24,0,24,1],[25,0,25,1],[26,0,26,1],[27,0,27,1],[28,0,28,1],[29,0,29,1],[30,0,30,1],[31,0,31,1],[33,0,33,1]]}
[]
[{"$nulls":3},"Datum:"]
[]
["Diese Tabelle dient zur Berechnung des individuellen monatlichen Budgets und ist auf Jugendliche, Lernende und Studierende ausgelegt. Auszufüllen brauchen Sie lediglich die für Sie relevanten Zeilen."]
[]
["Einnahmen ",null,"Netto Einnahmen (jährlich)","Netto Einnahmen (monatlich)"]
["Jugendlohn oder Lohn",null,null,{"$f":"C7/12","v":{"v":0,"d":"0.00"}}]
["«Weitere» (Ämtli, Geldgeschenke, etc.)"]
[{"$nulls":3},{"$f":"SUM((D7:D8))","v":{"v":0,"d":"0.00"}}]
[]
["Ausgaben ",null,"Budgetierte Ausgaben\n(jährlich)","Budgetierte Ausgaben\n(monatlich)"]
["Fixkosten:",{"$nulls":3},{"$f":"IF(#REF!=\"ja\",#REF!,0)","v":{"$error":"#REF!"}},{"$f":"IF(#REF!=\"ja\",D12,0)","v":{"$error":"#REF!"}}]
["Miete inkl. Nebenkosten / Abgaben für Kost und Logis an Eltern",{"$nulls":3},{"$f":"IF(#REF!=\"ja\",#REF!,0)","v":{"$error":"#REF!"}},{"$f":"IF(#REF!=\"ja\",D13,0)","v":{"$error":"#REF!"}}]
["Krankenkasse-Prämie",null,null,{"$f":"C14/12","v":{"v":0,"d":"0.00"}},{"$f":"IF(#REF!=\"ja\",#REF!,0)","v":{"$error":"#REF!"}},{"$f":"IF(#REF!=\"ja\",D14,0)","v":{"$error":"#REF!"}}]
["Steuern",null,null,{"$f":"C15/12","v":{"v":0,"d":"0.00"}},{"$f":"IF(#REF!=\"ja\",#REF!,0)","v":{"$error":"#REF!"}},{"$f":"IF(#REF!=\"ja\",D15,0)","v":{"$error":"#REF!"}}]
["ÖV-Abonnemente ",null,null,{"$f":"C16/12","v":{"v":0,"d":"0.00"}},{"$f":"IF(#REF!=\"ja\",#REF!,0)","v":{"$error":"#REF!"}},{"$f":"IF(#REF!=\"ja\",D16,0)","v":{"$error":"#REF!"}}]
["Handy-Abonnement"]
["Streaming-Angebote: Netflix / Spotify / Apple Music"]
["«Weitere»",{"$nulls":3},{"$f":"IF(#REF!=\"ja\",#REF!,0)","v":{"$error":"#REF!"}},{"$f":"IF(#REF!=\"ja\",D19,0)","v":{"$error":"#REF!"}}]
["Persönliche Ausgaben:",{"$nulls":3},{"$f":"IF(#REF!=\"ja\",#REF!,0)","v":{"$error":"#REF!"}},{"$f":"IF(#REF!=\"ja\",D20,0)","v":{"$error":"#REF!"}}]
["Geld zur freien Verfügung",{"$nulls":3},{"$f":"IF(#REF!=\"ja\",#REF!,0)","v":{"$error":"#REF!"}},{"$f":"IF(#REF!=\"ja\",D21,0)","v":{"$error":"#REF!"}}]
["Auswärtige Verpflegung",{"$nulls":3},{"$f":"IF(#REF!=\"ja\",#REF!,0)","v":{"$error":"#REF!"}},{"$f":"IF(#REF!=\"ja\",D22,0)","v":{"$error":"#REF!"}}]
["Bekleidung (Kleider / Schuhe)",{"$nulls":3},{"$f":"IF(#REF!=\"ja\",#REF!,0)","v":{"$error":"#REF!"}},{"$f":"IF(#REF!=\"ja\",D23,0)","v":{"$error":"#REF!"}}]
["Coiffeur, Körperpflege, Hygiene",{"$nulls":3},{"$f":"IF(#REF!=\"ja\",#REF!,0)","v":{"$error":"#REF!"}},{"$f":"IF(#REF!=\"ja\",D24,0)","v":{"$error":"#REF!"}}]
["Schulmaterial"]
["Hobbys (Yogastunden / Fitnessabo)"]
["«Weitere»"]
["Rückstellungen",{"$nulls":3},{"$f":"IF(#REF!=\"ja\",#REF!,0)","v":{"$error":"#REF!"}},{"$f":"IF(#REF!=\"ja\",D28,0)","v":{"$error":"#REF!"}}]
["Gesundheitskosten (Anteil Krankenkassen-Franchise & Selbstbehalt, Arzt, Zahnarzt, Optiker)",null,null,{"$f":"C29/12","v":{"v":0,"d":"0.00"}}]
["Ersatzbeschaffungen und Reparaturen (z.B. Handy)"]
["Sparen (Ferien / Fahrstunden / eigene Wohnung)"]
["«Weitere» (z.B. Vorsorge Säule 3a)"]
[]
["Total",null,null,{"$f":"D9-(SUM(D13:D32))","v":{"v":0,"d":"0.00"}}]

{"sheet":"Tabelle2","index":1,"n_rows":0,"n_cols":0,"rows_kept":0}

{"sheet":"Tabelle3","index":2,"n_rows":0,"n_cols":0,"rows_kept":0}