Workbook

Sheet Anleitung
A1: Dienstplan – Kurzanleitung
A3: 1) Wechsle zu 'Schichten' und trage deine Codes ein (z.B. FR, SP, NA) sowie Von/Bis-Zeiten und optional Stunden.
A4: 2) Wechsle zu 'Dienstplan': Setze oben Jahr (C1) und Monat (C2).
A5: 3) Trage links die Mitarbeiter ein. Jede Person hat zwei Zeilen: oben der Code, darunter zeigt 'Zeit' automatisch Von–Bis an.
A6: 4) Wähle pro Tag je Mitarbeiter einen Schichtcode über das Dropdown (die Liste kommt aus 'Schichten'!A2:A).
A7: 5) Die Zeit-Zeile unter jedem Mitarbeiter liest die Zeiten per Nachschlagen (VLOOKUP) aus 'Schichten'.
A9: Hinweise:
A10: - Die Datumszeile zeigt nur die Tage des gewählten Monats an (Zellen rechts bleiben leer, wenn der Monat kürzer ist).
A11: - Für Google Sheets: Datei hochladen → 'Mit Google Tabellen öffnen'. Die Dropdowns und Formeln funktionieren dort weiter.
A12: - Du kannst die Anzahl der Mitarbeiter-Blöcke erhöhen, indem du den letzten 2-Zeilen-Block kopierst (Code-Zeile + Zeit-Zeile).

Sheet Schichten
A1: Code | B1: Bezeichnung | C1: Von | D1: Bis | E1: Stunden (optional)
A2: FR | B2: Frühdienst (06–14) | C2: 06:00 | D2: 14:00 | E2: 8
A3: SP | B3: Spätdienst (14–22) | C3: 14:00 | D3: 22:00 | E3: 8
A4: NA | B4: Nachtdienst (22–06) | C4: 22:00 | D4: 06:00 | E4: 8
A5: U | B5: Urlaub | E5: 0
A6: K | B6: Krank | E6: 0
A7: F | B7: Frei | E7: 0

Sheet Dienstplan
A1: Dienstplan (Monatsansicht) | B1: Jahr | C1: 2025
B2: Monat | C2: 9
C3: Datum
A4: Mitarbeiter | B4: Patient | C4: =DATE($C$1,$C$2,1) -> 45901 | D4: =IF(MONTH(C4+1)=$C$2,C4+1,"") -> 45902 | E4: =IF(MONTH(D4+1)=$C$2,D4+1,"") -> 45903 | F4: =IF(MONTH(E4+1)=$C$2,E4+1,"") -> 45904 | G4: =IF(MONTH(F4+1)=$C$2,F4+1,"") -> 45905 | H4: =IF(MONTH(G4+1)=$C$2,G4+1,"") -> 45906 | I4: =IF(MONTH(H4+1)=$C$2,H4+1,"") -> 45907 | J4: =IF(MONTH(I4+1)=$C$2,I4+1,"") -> 45908 | K4: =IF(MONTH(J4+1)=$C$2,J4+1,"") -> 45909 | ... AG4: =IF(MONTH(AF4+1)=$C$2,AF4+1,"")
C5: =IF(C4="","",TEXT(C4,"ddd")) -> Mo. | D5: =IF(D4="","",TEXT(D4,"ddd")) -> Di. | E5: =IF(E4="","",TEXT(E4,"ddd")) -> Mi. | F5: =IF(F4="","",TEXT(F4,"ddd")) -> Do. | G5: =IF(G4="","",TEXT(G4,"ddd")) -> Fr. | H5: =IF(H4="","",TEXT(H4,"ddd")) -> Sa. | I5: =IF(I4="","",TEXT(I4,"ddd")) -> So. | J5: =IF(J4="","",TEXT(J4,"ddd")) -> Mo. | ... AG5: =IF(AG4="","",TEXT(AG4,"ddd"))
A6: Mitarbeiter 1
A7: Zeit | C7: =IF(C6="", "", VLOOKUP(C6,Schichten!$A$2:$D$200,3,FALSE) & "–" & VLOOKUP(C6,Schichten!$A$2:$D$200,4,FALSE)) | D7: =IF(D6="", "", VLOOKUP(D6,Schichten!$A$2:$D$200,3,FALSE) & "–" & VLOOKUP(D6,Schichten!$A$2:$D$200,4,FALSE)) | E7: =IF(E6="", "", VLOOKUP(E6,Schichten!$A$2:$D$200,3,FALSE) & "–" & VLOOKUP(E6,Schichten!$A$2:$D$200,4,FALSE)) | F7: =IF(F6="", "", VLOOKUP(F6,Schichten!$A$2:$D$200,3,FALSE) & "–" & VLOOKUP(F6,Schichten!$A$2:$D$200,4,FALSE)) | G7: =IF(G6="", "", VLOOKUP(G6,Schichten!$A$2:$D$200,3,FALSE) & "–" & VLOOKUP(G6,Schichten!$A$2:$D$200,4,FALSE)) | H7: =IF(H6="", "", VLOOKUP(H6,Schichten!$A$2:$D$200,3,FALSE) & "–" & VLOOKUP(H6,Schichten!$A$2:$D$200,4,FALSE)) | I7: =IF(I6="", "", VLOOKUP(I6,Schichten!$A$2:$D$200,3,FALSE) & "–" & VLOOKUP(I6,Schichten!$A$2:$D$200,4,FALSE)) | J7: =IF(J6="", "", VLOOKUP(J6,Schichten!$A$2:$D$200,3,FALSE) & "–" & VLOOKUP(J6,Schichten!$A$2:$D$200,4,FALSE)) | ... AG7: =IF(AG6="", "", VLOOKUP(AG6,Schichten!$A$2:$D$200,3,FALSE) & "–" & VLOOKUP(AG6,Schichten!$A$2:$D$200,4,FALSE))
A8: Mitarbeiter 2
A9: Zeit | C9: =IF(C8="", "", VLOOKUP(C8,Schichten!$A$2:$D$200,3,FALSE) & "–" & VLOOKUP(C8,Schichten!$A$2:$D$200,4,FALSE)) | D9: =IF(D8="", "", VLOOKUP(D8,Schichten!$A$2:$D$200,3,FALSE) & "–" & VLOOKUP(D8,Schichten!$A$2:$D$200,4,FALSE)) | E9: =IF(E8="", "", VLOOKUP(E8,Schichten!$A$2:$D$200,3,FALSE) & "–" & VLOOKUP(E8,Schichten!$A$2:$D$200,4,FALSE)) | F9: =IF(F8="", "", VLOOKUP(F8,Schichten!$A$2:$D$200,3,FALSE) & "–" & VLOOKUP(F8,Schichten!$A$2:$D$200,4,FALSE)) | G9: =IF(G8="", "", VLOOKUP(G8,Schichten!$A$2:$D$200,3,FALSE) & "–" & VLOOKUP(G8,Schichten!$A$2:$D$200,4,FALSE)) | H9: =IF(H8="", "", VLOOKUP(H8,Schichten!$A$2:$D$200,3,FALSE) & "–" & VLOOKUP(H8,Schichten!$A$2:$D$200,4,FALSE)) | I9: =IF(I8="", "", VLOOKUP(I8,Schichten!$A$2:$D$200,3,FALSE) & "–" & VLOOKUP(I8,Schichten!$A$2:$D$200,4,FALSE)) | J9: =IF(J8="", "", VLOOKUP(J8,Schichten!$A$2:$D$200,3,FALSE) & "–" & VLOOKUP(J8,Schichten!$A$2:$D$200,4,FALSE)) | ... AG9: =IF(AG8="", "", VLOOKUP(AG8,Schichten!$A$2:$D$200,3,FALSE) & "–" & VLOOKUP(AG8,Schichten!$A$2:$D$200,4,FALSE))
A10: Mitarbeiter 3
A11: Zeit | C11: =IF(C10="", "", VLOOKUP(C10,Schichten!$A$2:$D$200,3,FALSE) & "–" & VLOOKUP(C10,Schichten!$A$2:$D$200,4,FALSE)) | D11: =IF(D10="", "", VLOOKUP(D10,Schichten!$A$2:$D$200,3,FALSE) & "–" & VLOOKUP(D10,Schichten!$A$2:$D$200,4,FALSE)) | E11: =IF(E10="", "", VLOOKUP(E10,Schichten!$A$2:$D$200,3,FALSE) & "–" & VLOOKUP(E10,Schichten!$A$2:$D$200,4,FALSE)) | F11: =IF(F10="", "", VLOOKUP(F10,Schichten!$A$2:$D$200,3,FALSE) & "–" & VLOOKUP(F10,Schichten!$A$2:$D$200,4,FALSE)) | G11: =IF(G10="", "", VLOOKUP(G10,Schichten!$A$2:$D$200,3,FALSE) & "–" & VLOOKUP(G10,Schichten!$A$2:$D$200,4,FALSE)) | H11: =IF(H10="", "", VLOOKUP(H10,Schichten!$A$2:$D$200,3,FALSE) & "–" & VLOOKUP(H10,Schichten!$A$2:$D$200,4,FALSE)) | I11: =IF(I10="", "", VLOOKUP(I10,Schichten!$A$2:$D$200,3,FALSE) & "–" & VLOOKUP(I10,Schichten!$A$2:$D$200,4,FALSE)) | J11: =IF(J10="", "", VLOOKUP(J10,Schichten!$A$2:$D$200,3,FALSE) & "–" & VLOOKUP(J10,Schichten!$A$2:$D$200,4,FALSE)) | ... AG11: =IF(AG10="", "", VLOOKUP(AG10,Schichten!$A$2:$D$200,3,FALSE) & "–" & VLOOKUP(AG10,Schichten!$A$2:$D$200,4,FALSE))
A13: Zeit | C13: =IF(C12="", "", VLOOKUP(C12,Schichten!$A$2:$D$200,3,FALSE) & "–" & VLOOKUP(C12,Schichten!$A$2:$D$200,4,FALSE)) | D13: =IF(D12="", "", VLOOKUP(D12,Schichten!$A$2:$D$200,3,FALSE) & "–" & VLOOKUP(D12,Schichten!$A$2:$D$200,4,FALSE)) | E13: =IF(E12="", "", VLOOKUP(E12,Schichten!$A$2:$D$200,3,FALSE) & "–" & VLOOKUP(E12,Schichten!$A$2:$D$200,4,FALSE)) | F13: =IF(F12="", "", VLOOKUP(F12,Schichten!$A$2:$D$200,3,FALSE) & "–" & VLOOKUP(F12,Schichten!$A$2:$D$200,4,FALSE)) | G13: =IF(G12="", "", VLOOKUP(G12,Schichten!$A$2:$D$200,3,FALSE) & "–" & VLOOKUP(G12,Schichten!$A$2:$D$200,4,FALSE)) | H13: =IF(H12="", "", VLOOKUP(H12,Schichten!$A$2:$D$200,3,FALSE) & "–" & VLOOKUP(H12,Schichten!$A$2:$D$200,4,FALSE)) | I13: =IF(I12="", "", VLOOKUP(I12,Schichten!$A$2:$D$200,3,FALSE) & "–" & VLOOKUP(I12,Schichten!$A$2:$D$200,4,FALSE)) | J13: =IF(J12="", "", VLOOKUP(J12,Schichten!$A$2:$D$200,3,FALSE) & "–" & VLOOKUP(J12,Schichten!$A$2:$D$200,4,FALSE)) | ... AG13: =IF(AG12="", "", VLOOKUP(AG12,Schichten!$A$2:$D$200,3,FALSE) & "–" & VLOOKUP(AG12,Schichten!$A$2:$D$200,4,FALSE))
A15: Zeit | C15: =IF(C14="", "", VLOOKUP(C14,Schichten!$A$2:$D$200,3,FALSE) & "–" & VLOOKUP(C14,Schichten!$A$2:$D$200,4,FALSE)) | D15: =IF(D14="", "", VLOOKUP(D14,Schichten!$A$2:$D$200,3,FALSE) & "–" & VLOOKUP(D14,Schichten!$A$2:$D$200,4,FALSE)) | E15: =IF(E14="", "", VLOOKUP(E14,Schichten!$A$2:$D$200,3,FALSE) & "–" & VLOOKUP(E14,Schichten!$A$2:$D$200,4,FALSE)) | F15: =IF(F14="", "", VLOOKUP(F14,Schichten!$A$2:$D$200,3,FALSE) & "–" & VLOOKUP(F14,Schichten!$A$2:$D$200,4,FALSE)) | G15: =IF(G14="", "", VLOOKUP(G14,Schichten!$A$2:$D$200,3,FALSE) & "–" & VLOOKUP(G14,Schichten!$A$2:$D$200,4,FALSE)) | H15: =IF(H14="", "", VLOOKUP(H14,Schichten!$A$2:$D$200,3,FALSE) & "–" & VLOOKUP(H14,Schichten!$A$2:$D$200,4,FALSE)) | I15: =IF(I14="", "", VLOOKUP(I14,Schichten!$A$2:$D$200,3,FALSE) & "–" & VLOOKUP(I14,Schichten!$A$2:$D$200,4,FALSE)) | J15: =IF(J14="", "", VLOOKUP(J14,Schichten!$A$2:$D$200,3,FALSE) & "–" & VLOOKUP(J14,Schichten!$A$2:$D$200,4,FALSE)) | ... AG15: =IF(AG14="", "", VLOOKUP(AG14,Schichten!$A$2:$D$200,3,FALSE) & "–" & VLOOKUP(AG14,Schichten!$A$2:$D$200,4,FALSE))
A17: Zeit | C17: =IF(C16="", "", VLOOKUP(C16,Schichten!$A$2:$D$200,3,FALSE) & "–" & VLOOKUP(C16,Schichten!$A$2:$D$200,4,FALSE)) | D17: =IF(D16="", "", VLOOKUP(D16,Schichten!$A$2:$D$200,3,FALSE) & "–" & VLOOKUP(D16,Schichten!$A$2:$D$200,4,FALSE)) | E17: =IF(E16="", "", VLOOKUP(E16,Schichten!$A$2:$D$200,3,FALSE) & "–" & VLOOKUP(E16,Schichten!$A$2:$D$200,4,FALSE)) | F17: =IF(F16="", "", VLOOKUP(F16,Schichten!$A$2:$D$200,3,FALSE) & "–" & VLOOKUP(F16,Schichten!$A$2:$D$200,4,FALSE)) | G17: =IF(G16="", "", VLOOKUP(G16,Schichten!$A$2:$D$200,3,FALSE) & "–" & VLOOKUP(G16,Schichten!$A$2:$D$200,4,FALSE)) | H17: =IF(H16="", "", VLOOKUP(H16,Schichten!$A$2:$D$200,3,FALSE) & "–" & VLOOKUP(H16,Schichten!$A$2:$D$200,4,FALSE)) | I17: =IF(I16="", "", VLOOKUP(I16,Schichten!$A$2:$D$200,3,FALSE) & "–" & VLOOKUP(I16,Schichten!$A$2:$D$200,4,FALSE)) | J17: =IF(J16="", "", VLOOKUP(J16,Schichten!$A$2:$D$200,3,FALSE) & "–" & VLOOKUP(J16,Schichten!$A$2:$D$200,4,FALSE)) | ... AG17: =IF(AG16="", "", VLOOKUP(AG16,Schichten!$A$2:$D$200,3,FALSE) & "–" & VLOOKUP(AG16,Schichten!$A$2:$D$200,4,FALSE))
A19: Zeit | C19: =IF(C18="", "", VLOOKUP(C18,Schichten!$A$2:$D$200,3,FALSE) & "–" & VLOOKUP(C18,Schichten!$A$2:$D$200,4,FALSE)) | D19: =IF(D18="", "", VLOOKUP(D18,Schichten!$A$2:$D$200,3,FALSE) & "–" & VLOOKUP(D18,Schichten!$A$2:$D$200,4,FALSE)) | E19: =IF(E18="", "", VLOOKUP(E18,Schichten!$A$2:$D$200,3,FALSE) & "–" & VLOOKUP(E18,Schichten!$A$2:$D$200,4,FALSE)) | F19: =IF(F18="", "", VLOOKUP(F18,Schichten!$A$2:$D$200,3,FALSE) & "–" & VLOOKUP(F18,Schichten!$A$2:$D$200,4,FALSE)) | G19: =IF(G18="", "", VLOOKUP(G18,Schichten!$A$2:$D$200,3,FALSE) & "–" & VLOOKUP(G18,Schichten!$A$2:$D$200,4,FALSE)) | H19: =IF(H18="", "", VLOOKUP(H18,Schichten!$A$2:$D$200,3,FALSE) & "–" & VLOOKUP(H18,Schichten!$A$2:$D$200,4,FALSE)) | I19: =IF(I18="", "", VLOOKUP(I18,Schichten!$A$2:$D$200,3,FALSE) & "–" & VLOOKUP(I18,Schichten!$A$2:$D$200,4,FALSE)) | J19: =IF(J18="", "", VLOOKUP(J18,Schichten!$A$2:$D$200,3,FALSE) & "–" & VLOOKUP(J18,Schichten!$A$2:$D$200,4,FALSE)) | ... AG19: =IF(AG18="", "", VLOOKUP(AG18,Schichten!$A$2:$D$200,3,FALSE) & "–" & VLOOKUP(AG18,Schichten!$A$2:$D$200,4,FALSE))
A21: Zeit | C21: =IF(C20="", "", VLOOKUP(C20,Schichten!$A$2:$D$200,3,FALSE) & "–" & VLOOKUP(C20,Schichten!$A$2:$D$200,4,FALSE)) | D21: =IF(D20="", "", VLOOKUP(D20,Schichten!$A$2:$D$200,3,FALSE) & "–" & VLOOKUP(D20,Schichten!$A$2:$D$200,4,FALSE)) | E21: =IF(E20="", "", VLOOKUP(E20,Schichten!$A$2:$D$200,3,FALSE) & "–" & VLOOKUP(E20,Schichten!$A$2:$D$200,4,FALSE)) | F21: =IF(F20="", "", VLOOKUP(F20,Schichten!$A$2:$D$200,3,FALSE) & "–" & VLOOKUP(F20,Schichten!$A$2:$D$200,4,FALSE)) | G21: =IF(G20="", "", VLOOKUP(G20,Schichten!$A$2:$D$200,3,FALSE) & "–" & VLOOKUP(G20,Schichten!$A$2:$D$200,4,FALSE)) | H21: =IF(H20="", "", VLOOKUP(H20,Schichten!$A$2:$D$200,3,FALSE) & "–" & VLOOKUP(H20,Schichten!$A$2:$D$200,4,FALSE)) | I21: =IF(I20="", "", VLOOKUP(I20,Schichten!$A$2:$D$200,3,FALSE) & "–" & VLOOKUP(I20,Schichten!$A$2:$D$200,4,FALSE)) | J21: =IF(J20="", "", VLOOKUP(J20,Schichten!$A$2:$D$200,3,FALSE) & "–" & VLOOKUP(J20,Schichten!$A$2:$D$200,4,FALSE)) | ... AG21: =IF(AG20="", "", VLOOKUP(AG20,Schichten!$A$2:$D$200,3,FALSE) & "–" & VLOOKUP(AG20,Schichten!$A$2:$D$200,4,FALSE))
A23: Zeit | C23: =IF(C22="", "", VLOOKUP(C22,Schichten!$A$2:$D$200,3,FALSE) & "–" & VLOOKUP(C22,Schichten!$A$2:$D$200,4,FALSE)) | D23: =IF(D22="", "", VLOOKUP(D22,Schichten!$A$2:$D$200,3,FALSE) & "–" & VLOOKUP(D22,Schichten!$A$2:$D$200,4,FALSE)) | E23: =IF(E22="", "", VLOOKUP(E22,Schichten!$A$2:$D$200,3,FALSE) & "–" & VLOOKUP(E22,Schichten!$A$2:$D$200,4,FALSE)) | F23: =IF(F22="", "", VLOOKUP(F22,Schichten!$A$2:$D$200,3,FALSE) & "–" & VLOOKUP(F22,Schichten!$A$2:$D$200,4,FALSE)) | G23: =IF(G22="", "", VLOOKUP(G22,Schichten!$A$2:$D$200,3,FALSE) & "–" & VLOOKUP(G22,Schichten!$A$2:$D$200,4,FALSE)) | H23: =IF(H22="", "", VLOOKUP(H22,Schichten!$A$2:$D$200,3,FALSE) & "–" & VLOOKUP(H22,Schichten!$A$2:$D$200,4,FALSE)) | I23: =IF(I22="", "", VLOOKUP(I22,Schichten!$A$2:$D$200,3,FALSE) & "–" & VLOOKUP(I22,Schichten!$A$2:$D$200,4,FALSE)) | J23: =IF(J22="", "", VLOOKUP(J22,Schichten!$A$2:$D$200,3,FALSE) & "–" & VLOOKUP(J22,Schichten!$A$2:$D$200,4,FALSE)) | ... AG23: =IF(AG22="", "", VLOOKUP(AG22,Schichten!$A$2:$D$200,3,FALSE) & "–" & VLOOKUP(AG22,Schichten!$A$2:$D$200,4,FALSE))
A25: Zeit | C25: =IF(C24="", "", VLOOKUP(C24,Schichten!$A$2:$D$200,3,FALSE) & "–" & VLOOKUP(C24,Schichten!$A$2:$D$200,4,FALSE)) | D25: =IF(D24="", "", VLOOKUP(D24,Schichten!$A$2:$D$200,3,FALSE) & "–" & VLOOKUP(D24,Schichten!$A$2:$D$200,4,FALSE)) | E25: =IF(E24="", "", VLOOKUP(E24,Schichten!$A$2:$D$200,3,FALSE) & "–" & VLOOKUP(E24,Schichten!$A$2:$D$200,4,FALSE)) | F25: =IF(F24="", "", VLOOKUP(F24,Schichten!$A$2:$D$200,3,FALSE) & "–" & VLOOKUP(F24,Schichten!$A$2:$D$200,4,FALSE)) | G25: =IF(G24="", "", VLOOKUP(G24,Schichten!$A$2:$D$200,3,FALSE) & "–" & VLOOKUP(G24,Schichten!$A$2:$D$200,4,FALSE)) | H25: =IF(H24="", "", VLOOKUP(H24,Schichten!$A$2:$D$200,3,FALSE) & "–" & VLOOKUP(H24,Schichten!$A$2:$D$200,4,FALSE)) | I25: =IF(I24="", "", VLOOKUP(I24,Schichten!$A$2:$D$200,3,FALSE) & "–" & VLOOKUP(I24,Schichten!$A$2:$D$200,4,FALSE)) | J25: =IF(J24="", "", VLOOKUP(J24,Schichten!$A$2:$D$200,3,FALSE) & "–" & VLOOKUP(J24,Schichten!$A$2:$D$200,4,FALSE)) | ... AG25: =IF(AG24="", "", VLOOKUP(AG24,Schichten!$A$2:$D$200,3,FALSE) & "–" & VLOOKUP(AG24,Schichten!$A$2:$D$200,4,FALSE))
A27: Zeit | C27: =IF(C26="", "", VLOOKUP(C26,Schichten!$A$2:$D$200,3,FALSE) & "–" & VLOOKUP(C26,Schichten!$A$2:$D$200,4,FALSE)) | D27: =IF(D26="", "", VLOOKUP(D26,Schichten!$A$2:$D$200,3,FALSE) & "–" & VLOOKUP(D26,Schichten!$A$2:$D$200,4,FALSE)) | E27: =IF(E26="", "", VLOOKUP(E26,Schichten!$A$2:$D$200,3,FALSE) & "–" & VLOOKUP(E26,Schichten!$A$2:$D$200,4,FALSE)) | F27: =IF(F26="", "", VLOOKUP(F26,Schichten!$A$2:$D$200,3,FALSE) & "–" & VLOOKUP(F26,Schichten!$A$2:$D$200,4,FALSE)) | G27: =IF(G26="", "", VLOOKUP(G26,Schichten!$A$2:$D$200,3,FALSE) & "–" & VLOOKUP(G26,Schichten!$A$2:$D$200,4,FALSE)) | H27: =IF(H26="", "", VLOOKUP(H26,Schichten!$A$2:$D$200,3,FALSE) & "–" & VLOOKUP(H26,Schichten!$A$2:$D$200,4,FALSE)) | I27: =IF(I26="", "", VLOOKUP(I26,Schichten!$A$2:$D$200,3,FALSE) & "–" & VLOOKUP(I26,Schichten!$A$2:$D$200,4,FALSE)) | J27: =IF(J26="", "", VLOOKUP(J26,Schichten!$A$2:$D$200,3,FALSE) & "–" & VLOOKUP(J26,Schichten!$A$2:$D$200,4,FALSE)) | ... AG27: =IF(AG26="", "", VLOOKUP(AG26,Schichten!$A$2:$D$200,3,FALSE) & "–" & VLOOKUP(AG26,Schichten!$A$2:$D$200,4,FALSE))
A29: Zeit | C29: =IF(C28="", "", VLOOKUP(C28,Schichten!$A$2:$D$200,3,FALSE) & "–" & VLOOKUP(C28,Schichten!$A$2:$D$200,4,FALSE)) | D29: =IF(D28="", "", VLOOKUP(D28,Schichten!$A$2:$D$200,3,FALSE) & "–" & VLOOKUP(D28,Schichten!$A$2:$D$200,4,FALSE)) | E29: =IF(E28="", "", VLOOKUP(E28,Schichten!$A$2:$D$200,3,FALSE) & "–" & VLOOKUP(E28,Schichten!$A$2:$D$200,4,FALSE)) | F29: =IF(F28="", "", VLOOKUP(F28,Schichten!$A$2:$D$200,3,FALSE) & "–" & VLOOKUP(F28,Schichten!$A$2:$D$200,4,FALSE)) | G29: =IF(G28="", "", VLOOKUP(G28,Schichten!$A$2:$D$200,3,FALSE) & "–" & VLOOKUP(G28,Schichten!$A$2:$D$200,4,FALSE)) | H29: =IF(H28="", "", VLOOKUP(H28,Schichten!$A$2:$D$200,3,FALSE) & "–" & VLOOKUP(H28,Schichten!$A$2:$D$200,4,FALSE)) | I29: =IF(I28="", "", VLOOKUP(I28,Schichten!$A$2:$D$200,3,FALSE) & "–" & VLOOKUP(I28,Schichten!$A$2:$D$200,4,FALSE)) | J29: =IF(J28="", "", VLOOKUP(J28,Schichten!$A$2:$D$200,3,FALSE) & "–" & VLOOKUP(J28,Schichten!$A$2:$D$200,4,FALSE)) | ... AG29: =IF(AG28="", "", VLOOKUP(AG28,Schichten!$A$2:$D$200,3,FALSE) & "–" & VLOOKUP(AG28,Schichten!$A$2:$D$200,4,FALSE))
A31: Zeit | C31: =IF(C30="", "", VLOOKUP(C30,Schichten!$A$2:$D$200,3,FALSE) & "–" & VLOOKUP(C30,Schichten!$A$2:$D$200,4,FALSE)) | D31: =IF(D30="", "", VLOOKUP(D30,Schichten!$A$2:$D$200,3,FALSE) & "–" & VLOOKUP(D30,Schichten!$A$2:$D$200,4,FALSE)) | E31: =IF(E30="", "", VLOOKUP(E30,Schichten!$A$2:$D$200,3,FALSE) & "–" & VLOOKUP(E30,Schichten!$A$2:$D$200,4,FALSE)) | F31: =IF(F30="", "", VLOOKUP(F30,Schichten!$A$2:$D$200,3,FALSE) & "–" & VLOOKUP(F30,Schichten!$A$2:$D$200,4,FALSE)) | G31: =IF(G30="", "", VLOOKUP(G30,Schichten!$A$2:$D$200,3,FALSE) & "–" & VLOOKUP(G30,Schichten!$A$2:$D$200,4,FALSE)) | H31: =IF(H30="", "", VLOOKUP(H30,Schichten!$A$2:$D$200,3,FALSE) & "–" & VLOOKUP(H30,Schichten!$A$2:$D$200,4,FALSE)) | I31: =IF(I30="", "", VLOOKUP(I30,Schichten!$A$2:$D$200,3,FALSE) & "–" & VLOOKUP(I30,Schichten!$A$2:$D$200,4,FALSE)) | J31: =IF(J30="", "", VLOOKUP(J30,Schichten!$A$2:$D$200,3,FALSE) & "–" & VLOOKUP(J30,Schichten!$A$2:$D$200,4,FALSE)) | ... AG31: =IF(AG30="", "", VLOOKUP(AG30,Schichten!$A$2:$D$200,3,FALSE) & "–" & VLOOKUP(AG30,Schichten!$A$2:$D$200,4,FALSE))
A33: Zeit | C33: =IF(C32="", "", VLOOKUP(C32,Schichten!$A$2:$D$200,3,FALSE) & "–" & VLOOKUP(C32,Schichten!$A$2:$D$200,4,FALSE)) | D33: =IF(D32="", "", VLOOKUP(D32,Schichten!$A$2:$D$200,3,FALSE) & "–" & VLOOKUP(D32,Schichten!$A$2:$D$200,4,FALSE)) | E33: =IF(E32="", "", VLOOKUP(E32,Schichten!$A$2:$D$200,3,FALSE) & "–" & VLOOKUP(E32,Schichten!$A$2:$D$200,4,FALSE)) | F33: =IF(F32="", "", VLOOKUP(F32,Schichten!$A$2:$D$200,3,FALSE) & "–" & VLOOKUP(F32,Schichten!$A$2:$D$200,4,FALSE)) | G33: =IF(G32="", "", VLOOKUP(G32,Schichten!$A$2:$D$200,3,FALSE) & "–" & VLOOKUP(G32,Schichten!$A$2:$D$200,4,FALSE)) | H33: =IF(H32="", "", VLOOKUP(H32,Schichten!$A$2:$D$200,3,FALSE) & "–" & VLOOKUP(H32,Schichten!$A$2:$D$200,4,FALSE)) | I33: =IF(I32="", "", VLOOKUP(I32,Schichten!$A$2:$D$200,3,FALSE) & "–" & VLOOKUP(I32,Schichten!$A$2:$D$200,4,FALSE)) | J33: =IF(J32="", "", VLOOKUP(J32,Schichten!$A$2:$D$200,3,FALSE) & "–" & VLOOKUP(J32,Schichten!$A$2:$D$200,4,FALSE)) | ... AG33: =IF(AG32="", "", VLOOKUP(AG32,Schichten!$A$2:$D$200,3,FALSE) & "–" & VLOOKUP(AG32,Schichten!$A$2:$D$200,4,FALSE))
A35: Zeit | C35: =IF(C34="", "", VLOOKUP(C34,Schichten!$A$2:$D$200,3,FALSE) & "–" & VLOOKUP(C34,Schichten!$A$2:$D$200,4,FALSE)) | D35: =IF(D34="", "", VLOOKUP(D34,Schichten!$A$2:$D$200,3,FALSE) & "–" & VLOOKUP(D34,Schichten!$A$2:$D$200,4,FALSE)) | E35: =IF(E34="", "", VLOOKUP(E34,Schichten!$A$2:$D$200,3,FALSE) & "–" & VLOOKUP(E34,Schichten!$A$2:$D$200,4,FALSE)) | F35: =IF(F34="", "", VLOOKUP(F34,Schichten!$A$2:$D$200,3,FALSE) & "–" & VLOOKUP(F34,Schichten!$A$2:$D$200,4,FALSE)) | G35: =IF(G34="", "", VLOOKUP(G34,Schichten!$A$2:$D$200,3,FALSE) & "–" & VLOOKUP(G34,Schichten!$A$2:$D$200,4,FALSE)) | H35: =IF(H34="", "", VLOOKUP(H34,Schichten!$A$2:$D$200,3,FALSE) & "–" & VLOOKUP(H34,Schichten!$A$2:$D$200,4,FALSE)) | I35: =IF(I34="", "", VLOOKUP(I34,Schichten!$A$2:$D$200,3,FALSE) & "–" & VLOOKUP(I34,Schichten!$A$2:$D$200,4,FALSE)) | J35: =IF(J34="", "", VLOOKUP(J34,Schichten!$A$2:$D$200,3,FALSE) & "–" & VLOOKUP(J34,Schichten!$A$2:$D$200,4,FALSE)) | ... AG35: =IF(AG34="", "", VLOOKUP(AG34,Schichten!$A$2:$D$200,3,FALSE) & "–" & VLOOKUP(AG34,Schichten!$A$2:$D$200,4,FALSE))
