Workbook

Sheet Übersicht
A1: Vermögensaufstellung
A2: Art | B2: Haben / Soll
A3: Konten | B3: =Konten!B11 -> 16000
A4: Tresor | B4: =Tresor!B13 -> 21900
A5: Aktien & Anleihen | B5: ='Aktien & Anleihen'!D37 -> 18128
A6: Gold & Silber | B6: ='Gold & Silber'!C31 -> 24947
A7: Immobilien | B7: =Immobilien!G13 -> 200000
A8: Krypto | B8: =Krypto!F31 -> 16856
A9: Sonstiges | B9: =Sonstiges!D12 -> 430
A10: Summe | B10: =SUM(B3:B9) -> 298261

Sheet Konten
A1: Konten
A2: Art | B2: Betrag
A3: Giro-Konto 1 | B3: 1000
A4: Giro-Konto 2 | B4: 5000
A5: Giro-Konto 3
A6: Giro-Konto 4
A7: Festgeld-Konto 1 | B7: 10000
A8: Festgeld-Konto 2
A9: Festgeld-Konto 3
A10: Festgeld-Konto 4
A11: Summe | B11: =SUM(B3:B10) -> 16000

Sheet Tresor
A1: Tresor
A2: Inhalt | B2: Wert
A3: Uhr 1 | B3: 2500
A4: Uhr 2 | B4: 8000
A5: Uhr 3 | B5: 9000
A6: Uhr 4 | B6: 800
A7: Briefmarke x | B7: 100
A8: Diamant-Ring | B8: 1500
A13: Summe | B13: =SUM(B3:B12) -> 21900

Sheet Aktien & Anleihen
A1: Aktien & Anleihen
A2: Depot 1 bei comdirect
A3: Inhalt | B3: Stück | C3: Kurs | D3: Wert | E3: Kaufkurs | F3: Gewinn/Verlust
A4: Apple | B4: 10 | C4: 335 | D4: =B4*C4 -> 3350 | E4: 210 | F4: =D4-(E4*B4) -> 1250
A5: Amazon | B5: 2 | C5: 2597 | D5: =B5*C5 -> 5194 | E5: 1867 | F5: =D5-(E5*B5) -> 1460
A6: BASF | B6: 10 | C6: 52 | D6: =B6*C6 -> 520 | E6: 64 | F6: =D6-(E6*B6) -> -120
D7: =B7*C7 -> 0 | F7: =D7-(E7*B7) -> 0
D8: =B8*C8 -> 0 | F8: =D8-(E8*B8) -> 0
D9: =B9*C9 -> 0 | F9: =D9-(E9*B9) -> 0
D10: =B10*C10 -> 0 | F10: =D10-(E10*B10) -> 0
D11: =B11*C11 -> 0 | F11: =D11-(E11*B11) -> 0
D12: =B12*C12 -> 0 | F12: =D12-(E12*B12) -> 0
D13: =B13*C13 -> 0 | F13: =D13-(E13*B13) -> 0
C14: Summe | D14: =SUM(D4:D13) -> 9064 | F14: =SUM(F4:F13) -> 2590
A22: Depot 2 bei Consors
A23: Inhalt | B23: Stück | C23: Kurs | D23: Wert | E23: Kaufkurs | F23: Gewinn/Verlust
A24: Apple | B24: 10 | C24: 335 | D24: =B24*C24 -> 3350 | E24: 210 | F24: =D24-(E24*B24) -> 1250
A25: Amazon | B25: 2 | C25: 2597 | D25: =B25*C25 -> 5194 | E25: 1867 | F25: =D25-(E25*B25) -> 1460
A26: BASF | B26: 10 | C26: 52 | D26: =B26*C26 -> 520 | E26: 64 | F26: =D26-(E26*B26) -> -120
D27: =B27*C27 -> 0 | F27: =D27-(E27*B27) -> 0
D28: =B28*C28 -> 0 | F28: =D28-(E28*B28) -> 0
D29: =B29*C29 -> 0 | F29: =D29-(E29*B29) -> 0
D30: =B30*C30 -> 0 | F30: =D30-(E30*B30) -> 0
D31: =B31*C31 -> 0 | F31: =D31-(E31*B31) -> 0
D32: =B32*C32 -> 0 | F32: =D32-(E32*B32) -> 0
D33: =B33*C33 -> 0 | F33: =D33-(E33*B33) -> 0
C34: Summe | D34: =SUM(D24:D33) -> 9064 | F34: =SUM(F24:F33) -> 2590
C37: Gesamtsumme | D37: =D14+D34 -> 18128

Sheet Gold & Silber
A1: Gold
A2: Goldkurs: | B2: 1581
A3: Verwahrungsort | B3: Unzen | C3: Wert
A4: Schliessfach 1 | B4: 5 | C4: =$B$2*B4 -> 7905
A5: Schliessfach 2 | C5: =$B$2*B5 -> 0
A6: Tresor* | C6: =$B$2*B6 -> 0
A7: goldsilber.org** | B7: 10 | C7: =$B$2*B7 -> 15810
C8: =$B$2*B8 -> 0
C9: =$B$2*B9 -> 0
C10: =$B$2*B10 -> 0
C11: =$B$2*B11 -> 0
C12: =$B$2*B12 -> 0
C13: =$B$2*B13 -> 0
B14: Summe | C14: =SUM(C4:C13) -> 23715
A16: Silber
A17: Silberkurs: | B17: 17.6
A18: Verwahrungsort | B18: Unzen | C18: Wert
A19: Schliessfach 1 | B19: 20 | C19: =$B$17*B19 -> 352
A20: Schliessfach 2 | C20: =$B$17*B20 -> 0
A21: Tresor* | C21: =$B$17*B21 -> 0
A22: goldsilber.org** | B22: 50 | C22: =$B$17*B22 -> 880
C23: =$B$17*B23 -> 0
C24: =$B$17*B24 -> 0
C25: =$B$17*B25 -> 0
C26: =$B$17*B26 -> 0
C27: =$B$17*B27 -> 0
C28: =$B$17*B28 -> 0
B29: Summe | C29: =SUM(C19:C28) -> 1232
B31: Gesamt | C31: =C29+C14 -> 24947
A33: * Bitte keine Mehrfachnennung / Arbeitsblatt "Tresor" beachten
A35: ** meine präferierte Verwahrungsform:
A36: https://www.goldsilber.org/bonusprogramm.php

Sheet Immobilien
A1: Immobilien
A2: Art | B2: Adresse | C2: Wert | D2: Kredit 1 | E2: Kredit 2 | F2: Hypothek | G2: Wert abzgl. Verbindlichkeiten
A3: Wohnung | B3: xyz München | C3: 1200000 | D3: 500000 | F3: 500000 | G3: =C3-D3-E3-F3 -> 200000
F13: Summe | G13: =SUM(G3:G12) -> 200000

Sheet Krypto
A1: Krypto-Währung
A2: Depot 1 bei bitcoin.de
A3: Inhalt | B3: Stück | C3: Kurs | D3: Wert | E3: Kaufkurs | F3: Gewinn/Verlust
A4: Bitcoin | B4: 1 | C4: 8012 | D4: =B4*C4 -> 8012 | E4: 5010 | F4: =D4-(E4*B4) -> 3002
A5: Ethereum | B5: 2 | C5: 208 | D5: =B5*C5 -> 416 | E5: 290 | F5: =D5-(E5*B5) -> -164
D6: =B6*C6 -> 0 | F6: =D6-(E6*B6) -> 0
D7: =B7*C7 -> 0 | F7: =D7-(E7*B7) -> 0
D8: =B8*C8 -> 0 | F8: =D8-(E8*B8) -> 0
D9: =B9*C9 -> 0 | F9: =D9-(E9*B9) -> 0
D10: =B10*C10 -> 0 | F10: =D10-(E10*B10) -> 0
D11: =B11*C11 -> 0 | F11: =D11-(E11*B11) -> 0
D12: =B12*C12 -> 0 | F12: =D12-(E12*B12) -> 0
C13: Summe | D13: =SUM(D4:D12) -> 8428 | F13: =SUM(F4:F12) -> 2838
A17: Depot 2 bei…
A18: Inhalt | B18: Stück | C18: Kurs | D18: Wert | E18: Kaufkurs | F18: Gewinn/Verlust
A19: Bitcoin | B19: 1 | C19: 8012 | D19: =B19*C19 -> 8012 | E19: 5010 | F19: =D19-(E19*B19) -> 3002
A20: Ethereum | B20: 2 | C20: 208 | D20: =B20*C20 -> 416 | E20: 290 | F20: =D20-(E20*B20) -> -164
D21: =B21*C21 -> 0 | F21: =D21-(E21*B21) -> 0
D22: =B22*C22 -> 0 | F22: =D22-(E22*B22) -> 0
D23: =B23*C23 -> 0 | F23: =D23-(E23*B23) -> 0
D24: =B24*C24 -> 0 | F24: =D24-(E24*B24) -> 0
D25: =B25*C25 -> 0 | F25: =D25-(E25*B25) -> 0
D26: =B26*C26 -> 0 | F26: =D26-(E26*B26) -> 0
D27: =B27*C27 -> 0 | F27: =D27-(E27*B27) -> 0
C28: Summe | D28: =SUM(D19:D27) -> 8428 | F28: =SUM(F19:F27) -> 2838
E31: Gesamt | F31: =D28+D13 -> 16856

Sheet Sonstiges
A1: Sonstiges
A2: Inhalt | B2: Stück | C2: Kurs | D2: Wert | E2: Kaufkurs | F2: Gewinn/Verlust
A3: Whiskey | B3: 1 | C3: 350 | D3: =C3*B3 -> 350 | E3: 300 | F3: =D3-(E3*B3) -> 50
A4: Whiskey | B4: 1 | C4: 80 | D4: =C4*B4 -> 80 | E4: 70 | F4: =D4-(E4*B4) -> 10
C12: Summe | D12: =SUM(D3:D11) -> 430 | F12: =SUM(F3:F11) -> 60
