Workbook
Name Excel_BuiltIn_Print_Area: 'Minijob 10'!$A$30:$D$59
Name Excel_BuiltIn_Print_Area: 'Minijob 2'!$A$32:$D$59
Name Excel_BuiltIn_Print_Area: 'Minijob 3'!$A$30:$D$59
Name Excel_BuiltIn_Print_Area: 'Minijob 4'!$A$30:$D$59
Name Excel_BuiltIn_Print_Area: 'Minijob 5'!$A$30:$D$59
Name Excel_BuiltIn_Print_Area: 'Minijob 6'!$A$30:$D$59
Name Excel_BuiltIn_Print_Area: 'Minijob 7'!$A$30:$D$59
Name Excel_BuiltIn_Print_Area: 'Minijob 8'!$A$30:$D$59
Name Excel_BuiltIn_Print_Area: 'Minijob 9'!$A$30:$D$59

Sheet Minijob 1
A1: Der Minijob-Rechner
A2: Der Minijob-Rechner bietet Ihnen die Möglichkeit, die Beiträge von bis zu zehn Minijobbern zu berechnen. Auf dem Tabellenblatt "Gesamt Abgabenberechnung" erfolgt die Zusammenrechnung.
A3: Hinweis: Ist die beschäftigte Person Mitglied eines berufsständischen Versorgungswerkes, ist der Minijob-Rechner zur Beitragsberechnung nicht geeignet.
A4: Das Tabellenblatt "Minijob 1" enthält drei untereinander angeordnete Tabellen. Die ersten beiden Tabellen werden für die Berechnung benötigt. Unter der Beitragsberechnung folgt eine Druckansicht.
A5: In der folgenden Tabelle "Minijob_1_Grunddaten" (zwei Spalten) werden grundsätzliche Angaben für die Berechnung und für den ersten Beschäftigten erfragt. Die Daten werden in Spalte B hinterlegt.
A6: Abfrage der Grunddaten zur Berechnung | B6: Ihre Angaben
A7: Geben Sie bitte Ihre Betriebsnummer an.
A8: Bitte wählen Sie den Zeitraum, in dem der Monat liegt für den Sie die Beiträge berechnen wollen. (Drop-Down-Feld) | B8: ab Januar 2025
A9: Geben Sie bitte Monat und Jahr an, für welchen die Beiträge berechnet werden sollen.
A10: Geben Sie bitte den Namen für Minijob 1 an.
A11: Hier können Sie das Geburtsdatum für Minijob 1 angeben.
A12: Hier können Sie die Sozialversicherungsnummer für Minijob 1 angeben.
A13: Geben Sie bitte den monatlichen Verdienst für Minijob 1 an. Das ist das vereinbarte Bruttoentgelt, also der Betrag vor Abzug von eventuell einbehaltenen Steuern und des Beitragsanteils der Minijobberin oder des Minijobbers bei Rentenversicherungspflicht. Minijobber und Minijobberinnen dürfen durchschnittlich im Monat nicht mehr als bis zur jeweils gültigen Minijob-Verdienstgrenze verdienen. Sofern der Verdienst monatlich schwankt oder Sonderzahlungen wie z. B. Weihnachts- oder Urlaubsgeld anfallen, geben Sie hier bitte den durchschnittlichen Monatsverdienst ein. | B13: 0
A14: In der folgenden Tabelle "Minijob_1_Beitragsrechtliches" (zwei Spalten) werden beitragsrelevante Aussagen aufgestellt, welche in Spalte B mit einem X bestätigt werden können, sofern diese zutreffend sind. (ähnlich einer Checkbox)
A15: beitragsrelevante Aussagen | B15: Aussage trifft zu
A16: Die beschäftigte Person ist nicht gesetzlich krankenversichert. Bitte ankreuzen, wenn die Minijobberin oder der Minijobber nicht gesetzlich krankenversichert ist. Das ist der Fall, wenn eine private Krankenversicherung vorliegt oder kein Krankenversicherungsschutz besteht. | D16: X
A17: Die beschäftigte Person hat die Befreiung von der Rentenversicherungspflicht beantragt oder ist versicherungsfrei. Minijobberinnen und Minijobber sind vor dem Erreichen der Regelaltersgrenze versicherungspflichtig in der Rentenversicherung. Sie können jedoch die Befreiung von der Rentenversicherungspflicht beantragen. Nach dem Erreichen der Regelaltersgrenze sind sie versicherungsfrei. In diesen Fällen zahlt nur die Arbeitgeberin oder der Arbeitgeber 15 Prozent des monatlichen Verdienstes.
A18: Die Mindestbeitragsbemessungsgrundlage muss beachtet werden. Bitte ankreuzen, wenn der monatliche Verdienst der Minijobberin oder des Minijobbers (auch mit mehreren Minijobs zusammen) unter 175 Euro liegt und keine rentenversicherungspflichtige Hauptbeschäftigung ausgeübt wird. Für rentenversicherungspflichtige Minijobberinnen und Minijobber wird bei der Berechnung des Rentenversicherungsbeitrags mindestens ein Verdienst von 175 Euro zugrunde gelegt. Der Beitrag des Arbeitgebers oder der Arbeitgeberin beträgt auch in einem solchen Fall 15 Prozent des tatsächlichen Verdienstes. Die Minijobberin oder der Minijobber übernimmt die Differenz zum vollen Pflichtbeitrag.
A19: Für meinen Betrieb besteht keine Umlagepflicht zum Ausgleichsverfahren U1. Am Ausgleichsverfahren der Arbeitgeberaufwendungen im Krankheitsfall U1 nehmen alle Unternehmen teil, die regelmäßig nicht mehr als 30 Arbeitnehmerinnen oder Arbeitnehmer beschäftigen. Alle Informationen zur Umlagepflicht finden Sie auf der Internetseite der Arbeitgeberversicherung der KBS. Link: https://www.arbeitgeberversicherung.de Dort finden Sie auch den Rechner Umlagepflicht, mit dem Sie schnell und einfach feststellen, ob Ihr Unternehmen am Ausgleichsverfahren teilnimmt. (Menü => Rechner)
A20: Ich bin von der Abführung der Insolvenzgeldumlage befreit. Die Insolvenzgeldumlage sichert Arbeitnehmerinnen und Arbeitnehmern im Fall einer Insolvenz ihres Arbeitgebers finanziell ab. Arbeitgeberinnen und Arbeitgeber, die Arbeitnehmer im Inland beschäftigen, sind zur Zahlung der Insolvenzgeldumlage verpflichtet. Welche Arbeitgeberinnen und Arbeitgeber von der Zahlung der Insolvenzgeldumlage ausgenommen sind, können Sie auf unserer Internetseite nachlesen. Link: https://www.minijob-zentrale.de =>Für Gewerbetreibende => Abgaben & Steuern
A21: Anstelle der einheitlichen Pauschsteuer soll die individuelle Einkommensteuer abgeführt werden. Der Verdienst von Minijobberinnen und Minijobbern ist stets steuerpflichtig. Die Lohnsteuer kann pauschal mit zwei Prozent oder nach den individuellen Lohnsteuermerkmalen erhoben werden.
A22: In der folgenden Tabelle "Minijob_1_Beitragsberechnung" (drei Spalten) werden Ihre Angaben ausgewertet und die Beiträge für Minijob 1 berechnet.
A23: Abgabenart und Beitragsgruppe | B23: Höhe der Abgaben in Prozent | C23: Beträge in Euro
A24: zur Krankenversicherung (Beitragsgruppe 6000) | B24: =Beitragssätze!C5*100 -> 13 | C24: ='Minijob 1'!C52 -> 0
A25: voller Beitrag zur Rentenversicherung (Beitragsgruppe 0100) | B25: =Beitragssätze!C6*100 -> 18.6 | C25: ='Minijob 1'!C53 -> 0
A26: zur Rentenversicherung (Beitragsgruppe 0500) | B26: =Beitragssätze!C7*100 -> 15 | C26: ='Minijob 1'!C54 -> 0
A27: Umlage 1 (Beitragsgruppe U1) | B27: =Beitragssätze!C8*100 -> 1.1 | C27: ='Minijob 1'!C55 -> 0
A28: Umlage 2 (Beitragsgruppe U2) | B28: =Beitragssätze!C9*100 -> 0.22 | C28: ='Minijob 1'!C56 -> 0
A29: Insolvenzgeldumlage (Beitragsgruppe INSO) | B29: =Beitragssätze!C10*100 -> 0.15 | C29: ='Minijob 1'!C57 -> 0
A30: einheitliche Pauschsteuer (Beitragsgruppe ST) | B30: =Beitragssätze!C11*100 -> 2 | C30: ='Minijob 1'!C58 -> 0
A31: Summe der Gesamtabgaben: | C31: ='Minijob 1'!C59 -> 0
A32: Arbeitnehmeranteil bei Zahlung des vollen Beitrages zur Rentenversicherung (vom Verdienst einzubehalten): | C32: ='Minijob 1'!C60 -> 0
A33: Der nachfolgende Bereich zeigt die Druckansicht für die Beitragsberechnung von Minijob 1.
A34: =Beitragssätze!A30 -> Minijob-Rechner (Excel) Version 1.2 barrierefrei (Stand 5. Mai 2025)
A35: Monatsabrechnung
A36: 1. Allgemeine Angaben
A38: Monat: | B38: =IF('Minijob 1'!B9=0,"",'Minijob 1'!B9)
A40: Name: | B40: =IF('Minijob 1'!B10=0,"",'Minijob 1'!B10)
A42: Geburtsdatum: | B42: =IF('Minijob 1'!B11=0,"",'Minijob 1'!B11)
A44: Versicherungsnummer: | B44: =IF('Minijob 1'!B12=0,"",'Minijob 1'!B12)
...

Sheet Minijob 2
A1: Das Tabellenblatt "Minijob 2" enthält drei untereinander angeordnete Tabellen. Die ersten beiden Tabellen werden für die Berechnung benötigt. Unter der Beitragsberechnung folgt eine Druckansicht.
A2: In der folgenden Tabelle "Minijob_2_Grunddaten" (zwei Spalten) werden grundsätzliche Angaben für die Berechnung und den zweiten Beschäftigten erfragt. Die Daten werden in Spalte B hinterlegt.
A3: Abfrage der Grunddaten zur Berechnung | B3: Ihre Angaben
A4: Ihre Betriebsnummer | B4: =IF('Minijob 1'!B7="","",'Minijob 1'!B7)
A5: Von Minijob 1 wird der Zeitraum der gültigen Beitragssätze übernommen. | B5: ='Minijob 1'!B8 -> ab Januar 2025
A6: Von Minijob 1 wird Monat und Jahr der aktuellen Berechnung übernommen. | B6: =IF('Minijob 1'!B9="","",'Minijob 1'!B9)
A7: Geben Sie bitte den Namen für Minijob 2 an.
A8: Hier können Sie das Geburtsdatum für Minijob 2 angeben.
A9: Hier können Sie die Sozialversicherungsnummer für Minijob 2 angeben.
A10: Geben Sie bitte den monatlichen Verdienst für Minijob 2 an. Das ist das vereinbarte Bruttoentgelt, also der Betrag vor Abzug von eventuell einbehaltenen Steuern und des Beitragsanteils der Minijobberin oder des Minijobbers bei Rentenversicherungspflicht. Minijobber und Minijobberinnen dürfen durchschnittlich im Monat nicht mehr als bis zur jeweils gültigen Minijob-Verdienstgrenze verdienen. Sofern der Verdienst monatlich schwankt oder Sonderzahlungen wie z. B. Weihnachts- oder Urlaubsgeld anfallen, geben Sie hier bitte den durchschnittlichen Monatsverdienst ein. | B10: 0
A11: In der folgenden Tabelle "Minijob_2_Beitragsrechtliches" (zwei Spalten) werden beitragsrelevante Aussagen aufgestellt, welche in Spalte B mit einem X bestätigt werden können, sofern diese zutreffend sind. (ähnlich einer Checkbox)
A12: beitragsrelevante Aussagen | B12: Aussage trifft zu
A13: Die beschäftigte Person ist nicht gesetzlich krankenversichert. Bitte ankreuzen, wenn die Minijobberin oder der Minijobber nicht gesetzlich krankenversichert ist. Das ist der Fall, wenn eine private Krankenversicherung vorliegt oder kein Krankenversicherungsschutz besteht. | D13: X
A14: Die beschäftigte Person hat die Befreiung von der Rentenversicherungspflicht beantragt oder ist versicherungsfrei. Minijobberinnen und Minijobber sind vor dem Erreichen der Regelaltersgrenze versicherungspflichtig in der Rentenversicherung. Sie können jedoch die Befreiung von der Rentenversicherungspflicht beantragen. Nach dem Erreichen der Regelaltersgrenze sind sie versicherungsfrei. In diesen Fällen zahlt nur die Arbeitgeberin oder der Arbeitgeber 15 Prozent des monatlichen Verdienstes.
A15: Die Mindestbeitragsbemessungsgrundlage muss beachtet werden. Bitte ankreuzen, wenn der monatliche Verdienst der Minijobberin oder des Minijobbers (auch mit mehreren Minijobs zusammen) unter 175 Euro liegt und keine rentenversicherungspflichtige Hauptbeschäftigung ausgeübt wird. Für rentenversicherungspflichtige Minijobberinnen und Minijobber wird bei der Berechnung des Rentenversicherungsbeitrags mindestens ein Verdienst von 175 Euro zugrunde gelegt. Der Beitrag des Arbeitgebers oder der Arbeitgeberin beträgt auch in einem solchen Fall 15 Prozent des tatsächlichen Verdienstes. Die Minijobberin oder der Minijobber übernimmt die Differenz zum vollen Pflichtbeitrag.
A16: Für meinen Betrieb besteht keine Umlagepflicht zum Ausgleichsverfahren U1. Am Ausgleichsverfahren der Arbeitgeberaufwendungen im Krankheitsfall U1 nehmen alle Unternehmen teil, die regelmäßig nicht mehr als 30 Arbeitnehmerinnen oder Arbeitnehmer beschäftigen. Alle Informationen zur Umlagepflicht finden Sie auf der Internetseite der Arbeitgeberversicherung der KBS. Link: https://www.arbeitgeberversicherung.de Dort finden Sie auch den Rechner Umlagepflicht, mit dem Sie schnell und einfach feststellen, ob Ihr Unternehmen am Ausgleichsverfahren teilnimmt. (Menü => Rechner) | B16: =IF('Minijob 1'!B19="","",'Minijob 1'!B19)
A17: Ich bin von der Abführung der Insolvenzgeldumlage befreit. Die Insolvenzgeldumlage sichert Arbeitnehmerinnen und Arbeitnehmern im Fall einer Insolvenz ihres Arbeitgebers finanziell ab. Arbeitgeberinnen und Arbeitgeber, die Arbeitnehmer im Inland beschäftigen, sind zur Zahlung der Insolvenzgeldumlage verpflichtet. Welche Arbeitgeberinnen und Arbeitgeber von der Zahlung der Insolvenzgeldumlage ausgenommen sind, können Sie auf unserer Internetseite nachlesen. Link: https://www.minijob-zentrale.de =>Für Gewerbetreibende => Abgaben & Steuern | B17: =IF('Minijob 1'!B20="","",'Minijob 1'!B20)
A18: Anstelle der einheitlichen Pauschsteuer soll die individuelle Einkommensteuer abgeführt werden. Der Verdienst von Minijobberinnen und Minijobbern ist stets steuerpflichtig. Die Lohnsteuer kann pauschal mit zwei Prozent oder nach den individuellen Lohnsteuermerkmalen erhoben werden.
A19: In der folgenden Tabelle "Minijob_2_Beitragsberechnung" (drei Spalten) werden Ihre Angaben ausgewertet und die Beiträge für Minijob 2 berechnet.
A20: Abgabenart und Beitragsgruppe | B20: Höhe der Abgaben in Prozent | C20: Beträge in Euro
A21: zur Krankenversicherung (Beitragsgruppe 6000) | B21: =Beitragssätze!C5*100 -> 13 | C21: =C49 -> 0
A22: voller Beitrag zur Rentenversicherung (Beitragsgruppe 0100) | B22: =Beitragssätze!C6*100 -> 18.6 | C22: =C50 -> 0
A23: zur Rentenversicherung (Beitragsgruppe 0500) | B23: =Beitragssätze!C7*100 -> 15 | C23: =C51 -> 0
A24: Umlage 1 (Beitragsgruppe U1) | B24: =Beitragssätze!C8*100 -> 1.1 | C24: =C52 -> 0
A25: Umlage 2 (Beitragsgruppe U2) | B25: =Beitragssätze!C9*100 -> 0.22 | C25: =C53 -> 0
A26: Insolvenzgeldumlage (Beitragsgruppe INSO) | B26: =Beitragssätze!C10*100 -> 0.15 | C26: =C54 -> 0
A27: einheitliche Pauschsteuer (Beitragsgruppe ST) | B27: =Beitragssätze!C11*100 -> 2 | C27: =C55 -> 0
A28: Summe der Gesamtabgaben: | C28: =C56 -> 0
A29: Arbeitnehmeranteil bei Zahlung des vollen Beitrages zur Rentenversicherung (vom Verdienst einzubehalten): | C29: =C57 -> 0
A30: Der nachfolgende Bereich zeigt die Druckansicht für die Beitragsberechnung von Minijob 2.
A31: =Beitragssätze!A30 -> Minijob-Rechner (Excel) Version 1.2 barrierefrei (Stand 5. Mai 2025)
A32: Monatsabrechnung
A33: 1. Allgemeine Angaben
A35: Monat: | B35: ='Minijob 1'!B38
A37: Name: | B37: =IF(B7="","",B7)
A39: Geburtsdatum: | B39: =IF(B8="","",B8)
A41: Versicherungsnummer: | B41: =IF(B9="","",B9)
A43: Betriebsnummer: | B43: =IF(B4="","",B4)
A45: monatlicher Verdienst: | B45: =B10 -> 0
A46: 2. Beitragsberechnung
...

Sheet Minijob 3
A1: Das Tabellenblatt "Minijob 3" enthält drei untereinander angeordnete Tabellen. Die ersten beiden Tabellen werden für die Berechnung benötigt. Unter der Beitragsberechnung folgt eine Druckansicht.
A2: In der folgenden Tabelle "Minijob_3_Grunddaten" (zwei Spalten) werden grundsätzliche Angaben für die Berechnung und den dritten Beschäftigten erfragt. Die Daten werden in Spalte B hinterlegt.
A3: Abfrage der Grunddaten zur Berechnung | B3: Ihre Angaben
A4: Ihre Betriebsnummer | B4: =IF('Minijob 1'!B7="","",'Minijob 1'!B7)
A5: Von Minijob 1 wird der Zeitraum der gültigen Beitragssätze übernommen. | B5: ='Minijob 1'!B8 -> ab Januar 2025
A6: Von Minijob 1 wird Monat und Jahr der aktuellen Berechnung übernommen. | B6: =IF('Minijob 1'!B9="","",'Minijob 1'!B9)
A7: Geben Sie bitte den Namen für Minijob 3 an.
A8: Hier können Sie das Geburtsdatum für Minijob 3 angeben.
A9: Hier können Sie die Sozialversicherungsnummer für Minijob 3 angeben.
A10: Geben Sie bitte den monatlichen Verdienst für Minijob 3 an. Das ist das vereinbarte Bruttoentgelt, also der Betrag vor Abzug von eventuell einbehaltenen Steuern und des Beitragsanteils der Minijobberin oder des Minijobbers bei Rentenversicherungspflicht. Minijobber und Minijobberinnen dürfen durchschnittlich im Monat nicht mehr als bis zur jeweils gültigen Minijob-Verdienstgrenze verdienen. Sofern der Verdienst monatlich schwankt oder Sonderzahlungen wie z. B. Weihnachts- oder Urlaubsgeld anfallen, geben Sie hier bitte den durchschnittlichen Monatsverdienst ein. | B10: 0
A11: In der folgenden Tabelle "Minijob_3_Beitragsrechtliches" (zwei Spalten) werden beitragsrelevante Aussagen aufgestellt, welche in Spalte B mit einem X bestätigt werden können, sofern diese zutreffend sind. (ähnlich einer Checkbox)
A12: beitragsrelevante Aussagen | B12: Aussage trifft zu
A13: Die beschäftigte Person ist nicht gesetzlich krankenversichert. Bitte ankreuzen, wenn die Minijobberin oder der Minijobber nicht gesetzlich krankenversichert ist. Das ist der Fall, wenn eine private Krankenversicherung vorliegt oder kein Krankenversicherungsschutz besteht. | D13: X
A14: Die beschäftigte Person hat die Befreiung von der Rentenversicherungspflicht beantragt oder ist versicherungsfrei. Minijobberinnen und Minijobber sind vor dem Erreichen der Regelaltersgrenze versicherungspflichtig in der Rentenversicherung. Sie können jedoch die Befreiung von der Rentenversicherungspflicht beantragen. Nach dem Erreichen der Regelaltersgrenze sind sie versicherungsfrei. In diesen Fällen zahlt nur die Arbeitgeberin oder der Arbeitgeber 15 Prozent des monatlichen Verdienstes.
A15: Die Mindestbeitragsbemessungsgrundlage muss beachtet werden. Bitte ankreuzen, wenn der monatliche Verdienst der Minijobberin oder des Minijobbers (auch mit mehreren Minijobs zusammen) unter 175 Euro liegt und keine rentenversicherungspflichtige Hauptbeschäftigung ausgeübt wird. Für rentenversicherungspflichtige Minijobberinnen und Minijobber wird bei der Berechnung des Rentenversicherungsbeitrags mindestens ein Verdienst von 175 Euro zugrunde gelegt. Der Beitrag des Arbeitgebers oder der Arbeitgeberin beträgt auch in einem solchen Fall 15 Prozent des tatsächlichen Verdienstes. Die Minijobberin oder der Minijobber übernimmt die Differenz zum vollen Pflichtbeitrag.
A16: Für meinen Betrieb besteht keine Umlagepflicht zum Ausgleichsverfahren U1. Am Ausgleichsverfahren der Arbeitgeberaufwendungen im Krankheitsfall U1 nehmen alle Unternehmen teil, die regelmäßig nicht mehr als 30 Arbeitnehmerinnen oder Arbeitnehmer beschäftigen. Alle Informationen zur Umlagepflicht finden Sie auf der Internetseite der Arbeitgeberversicherung der KBS. Link: https://www.arbeitgeberversicherung.de Dort finden Sie auch den Rechner Umlagepflicht, mit dem Sie schnell und einfach feststellen, ob Ihr Unternehmen am Ausgleichsverfahren teilnimmt. (Menü => Rechner) | B16: =IF('Minijob 1'!B19="","",'Minijob 1'!B19)
A17: Ich bin von der Abführung der Insolvenzgeldumlage befreit. Die Insolvenzgeldumlage sichert Arbeitnehmerinnen und Arbeitnehmern im Fall einer Insolvenz ihres Arbeitgebers finanziell ab. Arbeitgeberinnen und Arbeitgeber, die Arbeitnehmer im Inland beschäftigen, sind zur Zahlung der Insolvenzgeldumlage verpflichtet. Welche Arbeitgeberinnen und Arbeitgeber von der Zahlung der Insolvenzgeldumlage ausgenommen sind, können Sie auf unserer Internetseite nachlesen. Link: https://www.minijob-zentrale.de =>Für Gewerbetreibende => Abgaben & Steuern | B17: =IF('Minijob 1'!B20="","",'Minijob 1'!B20)
A18: Anstelle der einheitlichen Pauschsteuer soll die individuelle Einkommensteuer abgeführt werden. Der Verdienst von Minijobberinnen und Minijobbern ist stets steuerpflichtig. Die Lohnsteuer kann pauschal mit zwei Prozent oder nach den individuellen Lohnsteuermerkmalen erhoben werden.
A19: In der folgenden Tabelle "Minijob_3_Beitragsberechnung" (drei Spalten) werden Ihre Angaben ausgewertet und die Beiträge für Minijob 3 berechnet.
A20: Abgabenart und Beitragsgruppe | B20: Höhe der Abgaben in Prozent | C20: Beträge in Euro
A21: zur Krankenversicherung (Beitragsgruppe 6000) | B21: =Beitragssätze!C5*100 -> 13 | C21: =C49 -> 0
A22: voller Beitrag zur Rentenversicherung (Beitragsgruppe 0100) | B22: =Beitragssätze!C6*100 -> 18.6 | C22: =C50 -> 0
A23: zur Rentenversicherung (Beitragsgruppe 0500) | B23: =Beitragssätze!C7*100 -> 15 | C23: =C51 -> 0
A24: Umlage 1 (Beitragsgruppe U1) | B24: =Beitragssätze!C8*100 -> 1.1 | C24: =C52 -> 0
A25: Umlage 2 (Beitragsgruppe U2) | B25: =Beitragssätze!C9*100 -> 0.22 | C25: =C53 -> 0
A26: Insolvenzgeldumlage (Beitragsgruppe INSO) | B26: =Beitragssätze!C10*100 -> 0.15 | C26: =C54 -> 0
A27: einheitliche Pauschsteuer (Beitragsgruppe ST) | B27: =Beitragssätze!C11*100 -> 2 | C27: =C55 -> 0
A28: Summe der Gesamtabgaben: | C28: =C56 -> 0
A29: Arbeitnehmeranteil bei Zahlung des vollen Beitrages zur Rentenversicherung (vom Verdienst einzubehalten): | C29: =C57 -> 0
A30: Der nachfolgende Bereich zeigt die Druckansicht für die Beitragsberechnung von Minijob 3.
A31: =Beitragssätze!A30 -> Minijob-Rechner (Excel) Version 1.2 barrierefrei (Stand 5. Mai 2025)
A32: Monatsabrechnung
A33: 1. Allgemeine Angaben
A35: Monat: | B35: ='Minijob 1'!B38
A37: Name: | B37: =IF(B7="","",B7)
A39: Geburtsdatum: | B39: =IF(B8="","",B8)
A41: Versicherungsnummer: | B41: =IF(B9="","",B9)
A43: Betriebsnummer: | B43: =IF(B4="","",B4)
A45: monatlicher Verdienst: | B45: =B10 -> 0
A46: 2. Beitragsberechnung
...

Sheet Minijob 4
A1: Das Tabellenblatt "Minijob 4" enthält drei untereinander angeordnete Tabellen. Die ersten beiden Tabellen werden für die Berechnung benötigt. Unter der Beitragsberechnung folgt eine Druckansicht.
A2: In der folgenden Tabelle "Minijob_4_Grunddaten" (zwei Spalten) werden grundsätzliche Angaben für die Berechnung und den vierten Beschäftigten erfragt. Die Daten werden in Spalte B hinterlegt.
A3: Abfrage der Grunddaten zur Berechnung | B3: Ihre Angaben
A4: Ihre Betriebsnummer | B4: =IF('Minijob 1'!B7="","",'Minijob 1'!B7)
A5: Von Minijob 1 wird der Zeitraum der gültigen Beitragssätze übernommen. | B5: ='Minijob 1'!B8 -> ab Januar 2025
A6: Von Minijob 1 wird Monat und Jahr der aktuellen Berechnung übernommen. | B6: =IF('Minijob 1'!B9="","",'Minijob 1'!B9)
A7: Geben Sie bitte den Namen für Minijob 4 an.
A8: Hier können Sie das Geburtsdatum für Minijob 4 angeben.
A9: Hier können Sie die Sozialversicherungsnummer für Minijob 4 angeben.
A10: Geben Sie bitte den monatlichen Verdienst für Minijob 4 an. Das ist das vereinbarte Bruttoentgelt, also der Betrag vor Abzug von eventuell einbehaltenen Steuern und des Beitragsanteils der Minijobberin oder des Minijobbers bei Rentenversicherungspflicht. Minijobber und Minijobberinnen dürfen durchschnittlich im Monat nicht mehr als bis zur jeweils gültigen Minijob-Verdienstgrenze verdienen. Sofern der Verdienst monatlich schwankt oder Sonderzahlungen wie z. B. Weihnachts- oder Urlaubsgeld anfallen, geben Sie hier bitte den durchschnittlichen Monatsverdienst ein. | B10: 0
A11: In der folgenden Tabelle "Minijob_4_Beitragsrechtliches" (zwei Spalten) werden beitragsrelevante Aussagen aufgestellt, welche in Spalte B mit einem X bestätigt werden können, sofern diese zutreffend sind. (ähnlich einer Checkbox)
A12: beitragsrelevante Aussagen | B12: Aussage trifft zu
A13: Die beschäftigte Person ist nicht gesetzlich krankenversichert. Bitte ankreuzen, wenn die Minijobberin oder der Minijobber nicht gesetzlich krankenversichert ist. Das ist der Fall, wenn eine private Krankenversicherung vorliegt oder kein Krankenversicherungsschutz besteht. | D13: X
A14: Die beschäftigte Person hat die Befreiung von der Rentenversicherungspflicht beantragt oder ist versicherungsfrei. Minijobberinnen und Minijobber sind vor dem Erreichen der Regelaltersgrenze versicherungspflichtig in der Rentenversicherung. Sie können jedoch die Befreiung von der Rentenversicherungspflicht beantragen. Nach dem Erreichen der Regelaltersgrenze sind sie versicherungsfrei. In diesen Fällen zahlt nur die Arbeitgeberin oder der Arbeitgeber 15 Prozent des monatlichen Verdienstes.
A15: Die Mindestbeitragsbemessungsgrundlage muss beachtet werden. Bitte ankreuzen, wenn der monatliche Verdienst der Minijobberin oder des Minijobbers (auch mit mehreren Minijobs zusammen) unter 175 Euro liegt und keine rentenversicherungspflichtige Hauptbeschäftigung ausgeübt wird. Für rentenversicherungspflichtige Minijobberinnen und Minijobber wird bei der Berechnung des Rentenversicherungsbeitrags mindestens ein Verdienst von 175 Euro zugrunde gelegt. Der Beitrag des Arbeitgebers oder der Arbeitgeberin beträgt auch in einem solchen Fall 15 Prozent des tatsächlichen Verdienstes. Die Minijobberin oder der Minijobber übernimmt die Differenz zum vollen Pflichtbeitrag.
A16: Für meinen Betrieb besteht keine Umlagepflicht zum Ausgleichsverfahren U1. Am Ausgleichsverfahren der Arbeitgeberaufwendungen im Krankheitsfall U1 nehmen alle Unternehmen teil, die regelmäßig nicht mehr als 30 Arbeitnehmerinnen oder Arbeitnehmer beschäftigen. Alle Informationen zur Umlagepflicht finden Sie auf der Internetseite der Arbeitgeberversicherung der KBS. Link: https://www.arbeitgeberversicherung.de Dort finden Sie auch den Rechner Umlagepflicht, mit dem Sie schnell und einfach feststellen, ob Ihr Unternehmen am Ausgleichsverfahren teilnimmt. (Menü => Rechner) | B16: =IF('Minijob 1'!B19="","",'Minijob 1'!B19)
A17: Ich bin von der Abführung der Insolvenzgeldumlage befreit. Die Insolvenzgeldumlage sichert Arbeitnehmerinnen und Arbeitnehmern im Fall einer Insolvenz ihres Arbeitgebers finanziell ab. Arbeitgeberinnen und Arbeitgeber, die Arbeitnehmer im Inland beschäftigen, sind zur Zahlung der Insolvenzgeldumlage verpflichtet. Welche Arbeitgeberinnen und Arbeitgeber von der Zahlung der Insolvenzgeldumlage ausgenommen sind, können Sie auf unserer Internetseite nachlesen. Link: https://www.minijob-zentrale.de =>Für Gewerbetreibende => Abgaben & Steuern | B17: =IF('Minijob 1'!B20="","",'Minijob 1'!B20)
A18: Anstelle der einheitlichen Pauschsteuer soll die individuelle Einkommensteuer abgeführt werden. Der Verdienst von Minijobberinnen und Minijobbern ist stets steuerpflichtig. Die Lohnsteuer kann pauschal mit zwei Prozent oder nach den individuellen Lohnsteuermerkmalen erhoben werden.
A19: In der folgenden Tabelle "Minijob_4_Beitragsberechnung" (drei Spalten) werden Ihre Angaben ausgewertet und die Beiträge für Minijob 4 berechnet.
A20: Abgabenart und Beitragsgruppe | B20: Höhe der Abgaben in Prozent | C20: Beträge in Euro
A21: zur Krankenversicherung (Beitragsgruppe 6000) | B21: =Beitragssätze!C5*100 -> 13 | C21: =C49 -> 0
A22: voller Beitrag zur Rentenversicherung (Beitragsgruppe 0100) | B22: =Beitragssätze!C6*100 -> 18.6 | C22: =C50 -> 0
A23: zur Rentenversicherung (Beitragsgruppe 0500) | B23: =Beitragssätze!C7*100 -> 15 | C23: =C51 -> 0
A24: Umlage 1 (Beitragsgruppe U1) | B24: =Beitragssätze!C8*100 -> 1.1 | C24: =C52 -> 0
A25: Umlage 2 (Beitragsgruppe U2) | B25: =Beitragssätze!C9*100 -> 0.22 | C25: =C53 -> 0
A26: Insolvenzgeldumlage (Beitragsgruppe INSO) | B26: =Beitragssätze!C10*100 -> 0.15 | C26: =C54 -> 0
A27: einheitliche Pauschsteuer (Beitragsgruppe ST) | B27: =Beitragssätze!C11*100 -> 2 | C27: =C55 -> 0
A28: Summe der Gesamtabgaben: | C28: =C56 -> 0
A29: Arbeitnehmeranteil bei Zahlung des vollen Beitrages zur Rentenversicherung (vom Verdienst einzubehalten): | C29: =C57 -> 0
A30: Der nachfolgende Bereich zeigt die Druckansicht für die Beitragsberechnung von Minijob 4.
A31: =Beitragssätze!A30 -> Minijob-Rechner (Excel) Version 1.2 barrierefrei (Stand 5. Mai 2025)
A32: Monatsabrechnung
A33: 1. Allgemeine Angaben
A35: Monat: | B35: =IF('Minijob 1'!B38:D38="","",'Minijob 1'!B38:D38)
A37: Name: | B37: =IF(B7="","",B7)
A39: Geburtsdatum: | B39: =IF(B8="","",B8)
A41: Versicherungsnummer: | B41: =IF(B9="","",B9)
A43: Betriebsnummer: | B43: =IF(B4="","",B4)
A45: monatlicher Verdienst: | B45: =B10 -> 0
A46: 2. Beitragsberechnung
...

Sheet Minijob 5
A1: Das Tabellenblatt "Minijob 5" enthält drei untereinander angeordnete Tabellen. Die ersten beiden Tabellen werden für die Berechnung benötigt. Unter der Beitragsberechnung folgt eine Druckansicht.
A2: In der folgenden Tabelle "Minijob_5_Grunddaten" (zwei Spalten) werden grundsätzliche Angaben für die Berechnung und den fünften Beschäftigten erfragt. Die Daten werden in Spalte B hinterlegt.
A3: Abfrage der Grunddaten zur Berechnung | B3: Ihre Angaben
A4: Ihre Betriebsnummer | B4: =IF('Minijob 1'!B7="","",'Minijob 1'!B7)
A5: Von Minijob 1 wird der Zeitraum der gültigen Beitragssätze übernommen. | B5: ='Minijob 1'!B8 -> ab Januar 2025
A6: Von Minijob 1 wird Monat und Jahr der aktuellen Berechnung übernommen. | B6: =IF('Minijob 1'!B9="","",'Minijob 1'!B9)
A7: Geben Sie bitte den Namen für Minijob 5 an.
A8: Hier können Sie das Geburtsdatum für Minijob 5 angeben.
A9: Hier können Sie die Sozialversicherungsnummer für Minijob 5 angeben.
A10: Geben Sie bitte den monatlichen Verdienst für Minijob 5 an. Das ist das vereinbarte Bruttoentgelt, also der Betrag vor Abzug von eventuell einbehaltenen Steuern und des Beitragsanteils der Minijobberin oder des Minijobbers bei Rentenversicherungspflicht. Minijobber und Minijobberinnen dürfen durchschnittlich im Monat nicht mehr als bis zur jeweils gültigen Minijob-Verdienstgrenze verdienen. Sofern der Verdienst monatlich schwankt oder Sonderzahlungen wie z. B. Weihnachts- oder Urlaubsgeld anfallen, geben Sie hier bitte den durchschnittlichen Monatsverdienst ein. | B10: 0
A11: In der folgenden Tabelle "Minijob_5_Beitragsrechtliches" (zwei Spalten) werden beitragsrelevante Aussagen aufgestellt, welche in Spalte B mit einem X bestätigt werden können, sofern diese zutreffend sind. (ähnlich einer Checkbox)
A12: beitragsrelevante Aussagen | B12: Aussage trifft zu
A13: Die beschäftigte Person ist nicht gesetzlich krankenversichert. Bitte ankreuzen, wenn die Minijobberin oder der Minijobber nicht gesetzlich krankenversichert ist. Das ist der Fall, wenn eine private Krankenversicherung vorliegt oder kein Krankenversicherungsschutz besteht. | D13: X
A14: Die beschäftigte Person hat die Befreiung von der Rentenversicherungspflicht beantragt oder ist versicherungsfrei. Minijobberinnen und Minijobber sind vor dem Erreichen der Regelaltersgrenze versicherungspflichtig in der Rentenversicherung. Sie können jedoch die Befreiung von der Rentenversicherungspflicht beantragen. Nach dem Erreichen der Regelaltersgrenze sind sie versicherungsfrei. In diesen Fällen zahlt nur die Arbeitgeberin oder der Arbeitgeber 15 Prozent des monatlichen Verdienstes.
A15: Die Mindestbeitragsbemessungsgrundlage muss beachtet werden. Bitte ankreuzen, wenn der monatliche Verdienst der Minijobberin oder des Minijobbers (auch mit mehreren Minijobs zusammen) unter 175 Euro liegt und keine rentenversicherungspflichtige Hauptbeschäftigung ausgeübt wird. Für rentenversicherungspflichtige Minijobberinnen und Minijobber wird bei der Berechnung des Rentenversicherungsbeitrags mindestens ein Verdienst von 175 Euro zugrunde gelegt. Der Beitrag des Arbeitgebers oder der Arbeitgeberin beträgt auch in einem solchen Fall 15 Prozent des tatsächlichen Verdienstes. Die Minijobberin oder der Minijobber übernimmt die Differenz zum vollen Pflichtbeitrag.
A16: Für meinen Betrieb besteht keine Umlagepflicht zum Ausgleichsverfahren U1. Am Ausgleichsverfahren der Arbeitgeberaufwendungen im Krankheitsfall U1 nehmen alle Unternehmen teil, die regelmäßig nicht mehr als 30 Arbeitnehmerinnen oder Arbeitnehmer beschäftigen. Alle Informationen zur Umlagepflicht finden Sie auf der Internetseite der Arbeitgeberversicherung der KBS. Link: https://www.arbeitgeberversicherung.de Dort finden Sie auch den Rechner Umlagepflicht, mit dem Sie schnell und einfach feststellen, ob Ihr Unternehmen am Ausgleichsverfahren teilnimmt. (Menü => Rechner) | B16: =IF('Minijob 1'!B19="","",'Minijob 1'!B19)
A17: Ich bin von der Abführung der Insolvenzgeldumlage befreit. Die Insolvenzgeldumlage sichert Arbeitnehmerinnen und Arbeitnehmern im Fall einer Insolvenz ihres Arbeitgebers finanziell ab. Arbeitgeberinnen und Arbeitgeber, die Arbeitnehmer im Inland beschäftigen, sind zur Zahlung der Insolvenzgeldumlage verpflichtet. Welche Arbeitgeberinnen und Arbeitgeber von der Zahlung der Insolvenzgeldumlage ausgenommen sind, können Sie auf unserer Internetseite nachlesen. Link: https://www.minijob-zentrale.de =>Für Gewerbetreibende => Abgaben & Steuern | B17: =IF('Minijob 1'!B20="","",'Minijob 1'!B20)
A18: Anstelle der einheitlichen Pauschsteuer soll die individuelle Einkommensteuer abgeführt werden. Der Verdienst von Minijobberinnen und Minijobbern ist stets steuerpflichtig. Die Lohnsteuer kann pauschal mit zwei Prozent oder nach den individuellen Lohnsteuermerkmalen erhoben werden.
A19: In der folgenden Tabelle "Minijob_5_Beitragsberechnung" (drei Spalten) werden Ihre Angaben ausgewertet und die Beiträge für Minijob 5 berechnet.
A20: Abgabenart und Beitragsgruppe | B20: Höhe der Abgaben in Prozent | C20: Beträge in Euro
A21: zur Krankenversicherung (Beitragsgruppe 6000) | B21: =Beitragssätze!C5*100 -> 13 | C21: =C49 -> 0
A22: voller Beitrag zur Rentenversicherung (Beitragsgruppe 0100) | B22: =Beitragssätze!C6*100 -> 18.6 | C22: =C50 -> 0
A23: zur Rentenversicherung (Beitragsgruppe 0500) | B23: =Beitragssätze!C7*100 -> 15 | C23: =C51 -> 0
A24: Umlage 1 (Beitragsgruppe U1) | B24: =Beitragssätze!C8*100 -> 1.1 | C24: =C52 -> 0
A25: Umlage 2 (Beitragsgruppe U2) | B25: =Beitragssätze!C9*100 -> 0.22 | C25: =C53 -> 0
A26: Insolvenzgeldumlage (Beitragsgruppe INSO) | B26: =Beitragssätze!C10*100 -> 0.15 | C26: =C54 -> 0
A27: einheitliche Pauschsteuer (Beitragsgruppe ST) | B27: =Beitragssätze!C11*100 -> 2 | C27: =C55 -> 0
A28: Summe der Gesamtabgaben: | C28: =C56 -> 0
A29: Arbeitnehmeranteil bei Zahlung des vollen Beitrages zur Rentenversicherung (vom Verdienst einzubehalten): | C29: =C57 -> 0
A30: Der nachfolgende Bereich zeigt die Druckansicht für die Beitragsberechnung von Minijob 5.
A31: =Beitragssätze!A30 -> Minijob-Rechner (Excel) Version 1.2 barrierefrei (Stand 5. Mai 2025)
A32: Monatsabrechnung
A33: 1. Allgemeine Angaben
A35: Monat: | B35: =IF('Minijob 1'!B38:D38="","",'Minijob 1'!B38:D38)
A37: Name: | B37: =IF(B7="","",B7)
A39: Geburtsdatum:
A41: Versicherungsnummer: | B41: =IF(B9="","",B9)
A43: Betriebsnummer: | B43: =IF(B4="","",B4)
A45: monatlicher Verdienst: | B45: =B10 -> 0
A46: 2. Beitragsberechnung
...

Sheet Minijob 6
A1: Das Tabellenblatt "Minijob 6" enthält drei untereinander angeordnete Tabellen. Die ersten beiden Tabellen werden für die Berechnung benötigt. Unter der Beitragsberechnung folgt eine Druckansicht.
A2: In der folgenden Tabelle "Minijob_6_Grunddaten" (zwei Spalten) werden grundsätzliche Angaben für die Berechnung und den sechsten Beschäftigten erfragt. Die Daten werden in Spalte B hinterlegt.
A3: Abfrage der Grunddaten zur Berechnung | B3: Ihre Angaben
A4: Ihre Betriebsnummer | B4: =IF('Minijob 1'!B7="","",'Minijob 1'!B7)
A5: Von Minijob 1 wird der Zeitraum der gültigen Beitragssätze übernommen. | B5: ='Minijob 1'!B8 -> ab Januar 2025
A6: Von Minijob 1 wird Monat und Jahr der aktuellen Berechnung übernommen. | B6: =IF('Minijob 1'!B9="","",'Minijob 1'!B9)
A7: Geben Sie bitte den Namen für Minijob 6 an.
A8: Hier können Sie das Geburtsdatum für Minijob 6 angeben.
A9: Hier können Sie die Sozialversicherungsnummer für Minijob 6 angeben.
A10: Geben Sie bitte den monatlichen Verdienst für Minijob 6 an. Das ist das vereinbarte Bruttoentgelt, also der Betrag vor Abzug von eventuell einbehaltenen Steuern und des Beitragsanteils der Minijobberin oder des Minijobbers bei Rentenversicherungspflicht. Minijobber und Minijobberinnen dürfen durchschnittlich im Monat nicht mehr als bis zur jeweils gültigen Minijob-Verdienstgrenze verdienen. Sofern der Verdienst monatlich schwankt oder Sonderzahlungen wie z. B. Weihnachts- oder Urlaubsgeld anfallen, geben Sie hier bitte den durchschnittlichen Monatsverdienst ein. | B10: 0
A11: In der folgenden Tabelle "Minijob_6_Beitragsrechtliches" (zwei Spalten) werden beitragsrelevante Aussagen aufgestellt, welche in Spalte B mit einem X bestätigt werden können, sofern diese zutreffend sind. (ähnlich einer Checkbox)
A12: beitragsrelevante Aussagen | B12: Aussage trifft zu
A13: Die beschäftigte Person ist nicht gesetzlich krankenversichert. Bitte ankreuzen, wenn die Minijobberin oder der Minijobber nicht gesetzlich krankenversichert ist. Das ist der Fall, wenn eine private Krankenversicherung vorliegt oder kein Krankenversicherungsschutz besteht. | D13: X
A14: Die beschäftigte Person hat die Befreiung von der Rentenversicherungspflicht beantragt oder ist versicherungsfrei. Minijobberinnen und Minijobber sind vor dem Erreichen der Regelaltersgrenze versicherungspflichtig in der Rentenversicherung. Sie können jedoch die Befreiung von der Rentenversicherungspflicht beantragen. Nach dem Erreichen der Regelaltersgrenze sind sie versicherungsfrei. In diesen Fällen zahlt nur die Arbeitgeberin oder der Arbeitgeber 15 Prozent des monatlichen Verdienstes.
A15: Die Mindestbeitragsbemessungsgrundlage muss beachtet werden. Bitte ankreuzen, wenn der monatliche Verdienst der Minijobberin oder des Minijobbers (auch mit mehreren Minijobs zusammen) unter 175 Euro liegt und keine rentenversicherungspflichtige Hauptbeschäftigung ausgeübt wird. Für rentenversicherungspflichtige Minijobberinnen und Minijobber wird bei der Berechnung des Rentenversicherungsbeitrags mindestens ein Verdienst von 175 Euro zugrunde gelegt. Der Beitrag des Arbeitgebers oder der Arbeitgeberin beträgt auch in einem solchen Fall 15 Prozent des tatsächlichen Verdienstes. Die Minijobberin oder der Minijobber übernimmt die Differenz zum vollen Pflichtbeitrag.
A16: Für meinen Betrieb besteht keine Umlagepflicht zum Ausgleichsverfahren U1. Am Ausgleichsverfahren der Arbeitgeberaufwendungen im Krankheitsfall U1 nehmen alle Unternehmen teil, die regelmäßig nicht mehr als 30 Arbeitnehmerinnen oder Arbeitnehmer beschäftigen. Alle Informationen zur Umlagepflicht finden Sie auf der Internetseite der Arbeitgeberversicherung der KBS. Link: https://www.arbeitgeberversicherung.de Dort finden Sie auch den Rechner Umlagepflicht, mit dem Sie schnell und einfach feststellen, ob Ihr Unternehmen am Ausgleichsverfahren teilnimmt. (Menü => Rechner) | B16: =IF('Minijob 1'!B19="","",'Minijob 1'!B19)
A17: Ich bin von der Abführung der Insolvenzgeldumlage befreit. Die Insolvenzgeldumlage sichert Arbeitnehmerinnen und Arbeitnehmern im Fall einer Insolvenz ihres Arbeitgebers finanziell ab. Arbeitgeberinnen und Arbeitgeber, die Arbeitnehmer im Inland beschäftigen, sind zur Zahlung der Insolvenzgeldumlage verpflichtet. Welche Arbeitgeberinnen und Arbeitgeber von der Zahlung der Insolvenzgeldumlage ausgenommen sind, können Sie auf unserer Internetseite nachlesen. Link: https://www.minijob-zentrale.de =>Für Gewerbetreibende => Abgaben & Steuern | B17: =IF('Minijob 1'!B20="","",'Minijob 1'!B20)
A18: Anstelle der einheitlichen Pauschsteuer soll die individuelle Einkommensteuer abgeführt werden. Der Verdienst von Minijobberinnen und Minijobbern ist stets steuerpflichtig. Die Lohnsteuer kann pauschal mit zwei Prozent oder nach den individuellen Lohnsteuermerkmalen erhoben werden.
A19: In der folgenden Tabelle "Minijob_6_Beitragsberechnung" (drei Spalten) werden Ihre Angaben ausgewertet und die Beiträge für Minijob 6 berechnet.
A20: Abgabenart und Beitragsgruppe | B20: Höhe der Abgaben in Prozent | C20: Beträge in Euro
A21: zur Krankenversicherung (Beitragsgruppe 6000) | B21: =Beitragssätze!C5*100 -> 13 | C21: =C49 -> 0
A22: voller Beitrag zur Rentenversicherung (Beitragsgruppe 0100) | B22: =Beitragssätze!C6*100 -> 18.6 | C22: =C50 -> 0
A23: zur Rentenversicherung (Beitragsgruppe 0500) | B23: =Beitragssätze!C7*100 -> 15 | C23: =C51 -> 0
A24: Umlage 1 (Beitragsgruppe U1) | B24: =Beitragssätze!C8*100 -> 1.1 | C24: =C52 -> 0
A25: Umlage 2 (Beitragsgruppe U2) | B25: =Beitragssätze!C9*100 -> 0.22 | C25: =C53 -> 0
A26: Insolvenzgeldumlage (Beitragsgruppe INSO) | B26: =Beitragssätze!C10*100 -> 0.15 | C26: =C54 -> 0
A27: einheitliche Pauschsteuer (Beitragsgruppe ST) | B27: =Beitragssätze!C11*100 -> 2 | C27: =C55 -> 0
A28: Summe der Gesamtabgaben: | C28: =C56 -> 0
A29: Arbeitnehmeranteil bei Zahlung des vollen Beitrages zur Rentenversicherung (vom Verdienst einzubehalten): | C29: =C57 -> 0
A30: Der nachfolgende Bereich zeigt die Druckansicht für die Beitragsberechnung von Minijob 6.
A31: =Beitragssätze!A30 -> Minijob-Rechner (Excel) Version 1.2 barrierefrei (Stand 5. Mai 2025)
A32: Monatsabrechnung
A33: 1. Allgemeine Angaben
A35: Monat: | B35: =IF('Minijob 1'!B38:D38="","",'Minijob 1'!B38:D38)
A37: Name: | B37: =IF(B7="","",B7)
A39: Geburtsdatum: | B39: =IF(B8="","",B8)
A41: Versicherungsnummer: | B41: =IF(B9="","",B9)
A43: Betriebsnummer: | B43: =IF(B4="","",B4)
A45: monatlicher Verdienst: | B45: =B10 -> 0
A46: 2. Beitragsberechnung
...

Sheet Minijob 7
A1: Das Tabellenblatt "Minijob 7" enthält drei untereinander angeordnete Tabellen. Die ersten beiden Tabellen werden für die Berechnung benötigt. Unter der Beitragsberechnung folgt eine Druckansicht.
A2: In der folgenden Tabelle "Minijob_7_Grunddaten" (zwei Spalten) werden grundsätzliche Angaben für die Berechnung und den siebten Beschäftigten erfragt. Die Daten werden in Spalte B hinterlegt.
A3: Abfrage der Grunddaten zur Berechnung | B3: Ihre Angaben
A4: Ihre Betriebsnummer | B4: =IF('Minijob 1'!B7="","",'Minijob 1'!B7)
A5: Von Minijob 1 wird der Zeitraum der gültigen Beitragssätze übernommen. | B5: ='Minijob 1'!B8 -> ab Januar 2025
A6: Von Minijob 1 wird Monat und Jahr der aktuellen Berechnung übernommen. | B6: =IF('Minijob 1'!B9="","",'Minijob 1'!B9)
A7: Geben Sie bitte den Namen für Minijob 7 an.
A8: Hier können Sie das Geburtsdatum für Minijob 7 angeben.
A9: Hier können Sie die Sozialversicherungsnummer für Minijob 7 angeben.
A10: Geben Sie bitte den monatlichen Verdienst für Minijob 7 an. Das ist das vereinbarte Bruttoentgelt, also der Betrag vor Abzug von eventuell einbehaltenen Steuern und des Beitragsanteils der Minijobberin oder des Minijobbers bei Rentenversicherungspflicht. Minijobber und Minijobberinnen dürfen durchschnittlich im Monat nicht mehr als bis zur jeweils gültigen Minijob-Verdienstgrenze verdienen. Sofern der Verdienst monatlich schwankt oder Sonderzahlungen wie z. B. Weihnachts- oder Urlaubsgeld anfallen, geben Sie hier bitte den durchschnittlichen Monatsverdienst ein. | B10: 0
A11: In der folgenden Tabelle "Minijob_7_Beitragsrechtliches" (zwei Spalten) werden beitragsrelevante Aussagen aufgestellt, welche in Spalte B mit einem X bestätigt werden können, sofern diese zutreffend sind. (ähnlich einer Checkbox)
A12: beitragsrelevante Aussagen | B12: Aussage trifft zu
A13: Die beschäftigte Person ist nicht gesetzlich krankenversichert. Bitte ankreuzen, wenn die Minijobberin oder der Minijobber nicht gesetzlich krankenversichert ist. Das ist der Fall, wenn eine private Krankenversicherung vorliegt oder kein Krankenversicherungsschutz besteht. | D13: X
A14: Die beschäftigte Person hat die Befreiung von der Rentenversicherungspflicht beantragt oder ist versicherungsfrei. Minijobberinnen und Minijobber sind vor dem Erreichen der Regelaltersgrenze versicherungspflichtig in der Rentenversicherung. Sie können jedoch die Befreiung von der Rentenversicherungspflicht beantragen. Nach dem Erreichen der Regelaltersgrenze sind sie versicherungsfrei. In diesen Fällen zahlt nur die Arbeitgeberin oder der Arbeitgeber 15 Prozent des monatlichen Verdienstes.
A15: Die Mindestbeitragsbemessungsgrundlage muss beachtet werden. Bitte ankreuzen, wenn der monatliche Verdienst der Minijobberin oder des Minijobbers (auch mit mehreren Minijobs zusammen) unter 175 Euro liegt und keine rentenversicherungspflichtige Hauptbeschäftigung ausgeübt wird. Für rentenversicherungspflichtige Minijobberinnen und Minijobber wird bei der Berechnung des Rentenversicherungsbeitrags mindestens ein Verdienst von 175 Euro zugrunde gelegt. Der Beitrag des Arbeitgebers oder der Arbeitgeberin beträgt auch in einem solchen Fall 15 Prozent des tatsächlichen Verdienstes. Die Minijobberin oder der Minijobber übernimmt die Differenz zum vollen Pflichtbeitrag.
A16: Für meinen Betrieb besteht keine Umlagepflicht zum Ausgleichsverfahren U1. Am Ausgleichsverfahren der Arbeitgeberaufwendungen im Krankheitsfall U1 nehmen alle Unternehmen teil, die regelmäßig nicht mehr als 30 Arbeitnehmerinnen oder Arbeitnehmer beschäftigen. Alle Informationen zur Umlagepflicht finden Sie auf der Internetseite der Arbeitgeberversicherung der KBS. Link: https://www.arbeitgeberversicherung.de Dort finden Sie auch den Rechner Umlagepflicht, mit dem Sie schnell und einfach feststellen, ob Ihr Unternehmen am Ausgleichsverfahren teilnimmt. (Menü => Rechner) | B16: =IF('Minijob 1'!B19="","",'Minijob 1'!B19)
A17: Ich bin von der Abführung der Insolvenzgeldumlage befreit. Die Insolvenzgeldumlage sichert Arbeitnehmerinnen und Arbeitnehmern im Fall einer Insolvenz ihres Arbeitgebers finanziell ab. Arbeitgeberinnen und Arbeitgeber, die Arbeitnehmer im Inland beschäftigen, sind zur Zahlung der Insolvenzgeldumlage verpflichtet. Welche Arbeitgeberinnen und Arbeitgeber von der Zahlung der Insolvenzgeldumlage ausgenommen sind, können Sie auf unserer Internetseite nachlesen. Link: https://www.minijob-zentrale.de =>Für Gewerbetreibende => Abgaben & Steuern | B17: =IF('Minijob 1'!B20="","",'Minijob 1'!B20)
A18: Anstelle der einheitlichen Pauschsteuer soll die individuelle Einkommensteuer abgeführt werden. Der Verdienst von Minijobberinnen und Minijobbern ist stets steuerpflichtig. Die Lohnsteuer kann pauschal mit zwei Prozent oder nach den individuellen Lohnsteuermerkmalen erhoben werden.
A19: In der folgenden Tabelle "Minijob_7_Beitragsberechnung" (drei Spalten) werden Ihre Angaben ausgewertet und die Beiträge für Minijob 7 berechnet.
A20: Abgabenart und Beitragsgruppe | B20: Höhe der Abgaben in Prozent | C20: Beträge in Euro
A21: zur Krankenversicherung (Beitragsgruppe 6000) | B21: =Beitragssätze!C5*100 -> 13 | C21: =C49 -> 0
A22: voller Beitrag zur Rentenversicherung (Beitragsgruppe 0100) | B22: =Beitragssätze!C6*100 -> 18.6 | C22: =C50 -> 0
A23: zur Rentenversicherung (Beitragsgruppe 0500) | B23: =Beitragssätze!C7*100 -> 15 | C23: =C51 -> 0
A24: Umlage 1 (Beitragsgruppe U1) | B24: =Beitragssätze!C8*100 -> 1.1 | C24: =C52 -> 0
A25: Umlage 2 (Beitragsgruppe U2) | B25: =Beitragssätze!C9*100 -> 0.22 | C25: =C53 -> 0
A26: Insolvenzgeldumlage (Beitragsgruppe INSO) | B26: =Beitragssätze!C10*100 -> 0.15 | C26: =C54 -> 0
A27: einheitliche Pauschsteuer (Beitragsgruppe ST) | B27: =Beitragssätze!C11*100 -> 2 | C27: =C55 -> 0
A28: Summe der Gesamtabgaben: | C28: =C56 -> 0
A29: Arbeitnehmeranteil bei Zahlung des vollen Beitrages zur Rentenversicherung (vom Verdienst einzubehalten): | C29: =C57 -> 0
A30: Der nachfolgende Bereich zeigt die Druckansicht für die Beitragsberechnung von Minijob 7.
A31: =Beitragssätze!A30 -> Minijob-Rechner (Excel) Version 1.2 barrierefrei (Stand 5. Mai 2025)
A32: Monatsabrechnung
A33: 1. Allgemeine Angaben
A35: Monat: | B35: =IF('Minijob 1'!$B$38:$D$38="","",'Minijob 1'!$B$38:$D$38)
A37: Name: | B37: =IF(B7="","",B7)
A39: Geburtsdatum: | B39: =IF(B8="","",B8)
A41: Versicherungsnummer: | B41: =IF(B9="","",B9)
A43: Betriebsnummer: | B43: =IF(B4="","",B4)
A45: monatlicher Verdienst: | B45: =B10 -> 0
A46: 2. Beitragsberechnung
...

Sheet Minijob 8
A1: Das Tabellenblatt "Minijob 8" enthält drei untereinander angeordnete Tabellen. Die ersten beiden Tabellen werden für die Berechnung benötigt. Unter der Beitragsberechnung folgt eine Druckansicht.
A2: In der folgenden Tabelle "Minijob_8_Grunddaten" (zwei Spalten) werden grundsätzliche Angaben für die Berechnung und den achten Beschäftigten erfragt. Die Daten werden in Spalte B hinterlegt.
A3: Abfrage der Grunddaten zur Berechnung | B3: Ihre Angaben
A4: Ihre Betriebsnummer | B4: =IF('Minijob 1'!B7="","",'Minijob 1'!B7)
A5: Von Minijob 1 wird der Zeitraum der gültigen Beitragssätze übernommen. | B5: ='Minijob 1'!B8 -> ab Januar 2025
A6: Von Minijob 1 wird Monat und Jahr der aktuellen Berechnung übernommen. | B6: =IF('Minijob 1'!B9="","",'Minijob 1'!B9)
A7: Geben Sie bitte den Namen für Minijob 8 an.
A8: Hier können Sie das Geburtsdatum für Minijob 8 angeben.
A9: Hier können Sie die Sozialversicherungsnummer für Minijob 8 angeben.
A10: Geben Sie bitte den monatlichen Verdienst für Minijob 8 an. Das ist das vereinbarte Bruttoentgelt, also der Betrag vor Abzug von eventuell einbehaltenen Steuern und des Beitragsanteils der Minijobberin oder des Minijobbers bei Rentenversicherungspflicht. Minijobber und Minijobberinnen dürfen durchschnittlich im Monat nicht mehr als bis zur jeweils gültigen Minijob-Verdienstgrenze verdienen. Sofern der Verdienst monatlich schwankt oder Sonderzahlungen wie z. B. Weihnachts- oder Urlaubsgeld anfallen, geben Sie hier bitte den durchschnittlichen Monatsverdienst ein. | B10: 0
A11: In der folgenden Tabelle "Minijob_8_Beitragsrechtliches" (zwei Spalten) werden beitragsrelevante Aussagen aufgestellt, welche in Spalte B mit einem X bestätigt werden können, sofern diese zutreffend sind. (ähnlich einer Checkbox)
A12: beitragsrelevante Aussagen | B12: Aussage trifft zu
A13: Die beschäftigte Person ist nicht gesetzlich krankenversichert. Bitte ankreuzen, wenn die Minijobberin oder der Minijobber nicht gesetzlich krankenversichert ist. Das ist der Fall, wenn eine private Krankenversicherung vorliegt oder kein Krankenversicherungsschutz besteht. | D13: X
A14: Die beschäftigte Person hat die Befreiung von der Rentenversicherungspflicht beantragt oder ist versicherungsfrei. Minijobberinnen und Minijobber sind vor dem Erreichen der Regelaltersgrenze versicherungspflichtig in der Rentenversicherung. Sie können jedoch die Befreiung von der Rentenversicherungspflicht beantragen. Nach dem Erreichen der Regelaltersgrenze sind sie versicherungsfrei. In diesen Fällen zahlt nur die Arbeitgeberin oder der Arbeitgeber 15 Prozent des monatlichen Verdienstes.
A15: Die Mindestbeitragsbemessungsgrundlage muss beachtet werden. Bitte ankreuzen, wenn der monatliche Verdienst der Minijobberin oder des Minijobbers (auch mit mehreren Minijobs zusammen) unter 175 Euro liegt und keine rentenversicherungspflichtige Hauptbeschäftigung ausgeübt wird. Für rentenversicherungspflichtige Minijobberinnen und Minijobber wird bei der Berechnung des Rentenversicherungsbeitrags mindestens ein Verdienst von 175 Euro zugrunde gelegt. Der Beitrag des Arbeitgebers oder der Arbeitgeberin beträgt auch in einem solchen Fall 15 Prozent des tatsächlichen Verdienstes. Die Minijobberin oder der Minijobber übernimmt die Differenz zum vollen Pflichtbeitrag.
A16: Für meinen Betrieb besteht keine Umlagepflicht zum Ausgleichsverfahren U1. Am Ausgleichsverfahren der Arbeitgeberaufwendungen im Krankheitsfall U1 nehmen alle Unternehmen teil, die regelmäßig nicht mehr als 30 Arbeitnehmerinnen oder Arbeitnehmer beschäftigen. Alle Informationen zur Umlagepflicht finden Sie auf der Internetseite der Arbeitgeberversicherung der KBS. Link: https://www.arbeitgeberversicherung.de Dort finden Sie auch den Rechner Umlagepflicht, mit dem Sie schnell und einfach feststellen, ob Ihr Unternehmen am Ausgleichsverfahren teilnimmt. (Menü => Rechner) | B16: =IF('Minijob 1'!B19="","",'Minijob 1'!B19)
A17: Ich bin von der Abführung der Insolvenzgeldumlage befreit. Die Insolvenzgeldumlage sichert Arbeitnehmerinnen und Arbeitnehmern im Fall einer Insolvenz ihres Arbeitgebers finanziell ab. Arbeitgeberinnen und Arbeitgeber, die Arbeitnehmer im Inland beschäftigen, sind zur Zahlung der Insolvenzgeldumlage verpflichtet. Welche Arbeitgeberinnen und Arbeitgeber von der Zahlung der Insolvenzgeldumlage ausgenommen sind, können Sie auf unserer Internetseite nachlesen. Link: https://www.minijob-zentrale.de =>Für Gewerbetreibende => Abgaben & Steuern | B17: =IF('Minijob 1'!B20="","",'Minijob 1'!B20)
A18: Anstelle der einheitlichen Pauschsteuer soll die individuelle Einkommensteuer abgeführt werden. Der Verdienst von Minijobberinnen und Minijobbern ist stets steuerpflichtig. Die Lohnsteuer kann pauschal mit zwei Prozent oder nach den individuellen Lohnsteuermerkmalen erhoben werden.
A19: In der folgenden Tabelle "Minijob_8_Beitragsberechnung" (drei Spalten) werden Ihre Angaben ausgewertet und die Beiträge für Minijob 8 berechnet.
A20: Abgabenart und Beitragsgruppe | B20: Höhe der Abgaben in Prozent | C20: Beträge in Euro
A21: zur Krankenversicherung (Beitragsgruppe 6000) | B21: =Beitragssätze!C5*100 -> 13 | C21: =C49 -> 0
A22: voller Beitrag zur Rentenversicherung (Beitragsgruppe 0100) | B22: =Beitragssätze!C6*100 -> 18.6 | C22: =C50 -> 0
A23: zur Rentenversicherung (Beitragsgruppe 0500) | B23: =Beitragssätze!C7*100 -> 15 | C23: =C51 -> 0
A24: Umlage 1 (Beitragsgruppe U1) | B24: =Beitragssätze!C8*100 -> 1.1 | C24: =C52 -> 0
A25: Umlage 2 (Beitragsgruppe U2) | B25: =Beitragssätze!C9*100 -> 0.22 | C25: =C53 -> 0
A26: Insolvenzgeldumlage (Beitragsgruppe INSO) | B26: =Beitragssätze!C10*100 -> 0.15 | C26: =C54 -> 0
A27: einheitliche Pauschsteuer (Beitragsgruppe ST) | B27: =Beitragssätze!C11*100 -> 2 | C27: =C55 -> 0
A28: Summe der Gesamtabgaben: | C28: =C56 -> 0
A29: Arbeitnehmeranteil bei Zahlung des vollen Beitrages zur Rentenversicherung (vom Verdienst einzubehalten): | C29: =C57 -> 0
A30: Der nachfolgende Bereich zeigt die Druckansicht für die Beitragsberechnung von Minijob 8.
A31: =Beitragssätze!A30 -> Minijob-Rechner (Excel) Version 1.2 barrierefrei (Stand 5. Mai 2025)
A32: Monatsabrechnung
A33: 1. Allgemeine Angaben
A35: Monat: | B35: =IF('Minijob 1'!$B$38:$D$38="","",'Minijob 1'!$B$38:$D$38)
A37: Name: | B37: =IF(B7="","",B7)
A39: Geburtsdatum: | B39: =IF(B8="","",B8)
A41: Versicherungsnummer: | B41: =IF(B9="","",B9)
A43: Betriebsnummer: | B43: =IF(B4="","",B4)
A45: monatlicher Verdienst: | B45: =B10 -> 0
A46: 2. Beitragsberechnung
...

Sheet Minijob 9
A1: Das Tabellenblatt "Minijob 9" enthält drei untereinander angeordnete Tabellen. Die ersten beiden Tabellen werden für die Berechnung benötigt. Unter der Beitragsberechnung folgt eine Druckansicht.
A2: In der folgenden Tabelle "Minijob_9_Grunddaten" (zwei Spalten) werden grundsätzliche Angaben für die Berechnung und den neunten Beschäftigten erfragt. Die Daten werden in Spalte B hinterlegt.
A3: Abfrage der Grunddaten zur Berechnung | B3: Ihre Angaben
A4: Ihre Betriebsnummer | B4: =IF('Minijob 1'!B7="","",'Minijob 1'!B7)
A5: Von Minijob 1 wird der Zeitraum der gültigen Beitragssätze übernommen. | B5: ='Minijob 1'!B8 -> ab Januar 2025
A6: Von Minijob 1 wird Monat und Jahr der aktuellen Berechnung übernommen. | B6: =IF('Minijob 1'!B9="","",'Minijob 1'!B9)
A7: Geben Sie bitte den Namen für Minijob 9 an.
A8: Hier können Sie das Geburtsdatum für Minijob 9 angeben.
A9: Hier können Sie die Sozialversicherungsnummer für Minijob 9 angeben.
A10: Geben Sie bitte den monatlichen Verdienst für Minijob 9 an. Das ist das vereinbarte Bruttoentgelt, also der Betrag vor Abzug von eventuell einbehaltenen Steuern und des Beitragsanteils der Minijobberin oder des Minijobbers bei Rentenversicherungspflicht. Minijobber und Minijobberinnen dürfen durchschnittlich im Monat nicht mehr als bis zur jeweils gültigen Minijob-Verdienstgrenze verdienen. Sofern der Verdienst monatlich schwankt oder Sonderzahlungen wie z. B. Weihnachts- oder Urlaubsgeld anfallen, geben Sie hier bitte den durchschnittlichen Monatsverdienst ein. | B10: 0
A11: In der folgenden Tabelle "Minijob_9_Beitragsrechtliches" (zwei Spalten) werden beitragsrelevante Aussagen aufgestellt, welche in Spalte B mit einem X bestätigt werden können, sofern diese zutreffend sind. (ähnlich einer Checkbox)
A12: beitragsrelevante Aussagen | B12: Aussage trifft zu
A13: Die beschäftigte Person ist nicht gesetzlich krankenversichert. Bitte ankreuzen, wenn die Minijobberin oder der Minijobber nicht gesetzlich krankenversichert ist. Das ist der Fall, wenn eine private Krankenversicherung vorliegt oder kein Krankenversicherungsschutz besteht. | D13: X
A14: Die beschäftigte Person hat die Befreiung von der Rentenversicherungspflicht beantragt oder ist versicherungsfrei. Minijobberinnen und Minijobber sind vor dem Erreichen der Regelaltersgrenze versicherungspflichtig in der Rentenversicherung. Sie können jedoch die Befreiung von der Rentenversicherungspflicht beantragen. Nach dem Erreichen der Regelaltersgrenze sind sie versicherungsfrei. In diesen Fällen zahlt nur die Arbeitgeberin oder der Arbeitgeber 15 Prozent des monatlichen Verdienstes.
A15: Die Mindestbeitragsbemessungsgrundlage muss beachtet werden. Bitte ankreuzen, wenn der monatliche Verdienst der Minijobberin oder des Minijobbers (auch mit mehreren Minijobs zusammen) unter 175 Euro liegt und keine rentenversicherungspflichtige Hauptbeschäftigung ausgeübt wird. Für rentenversicherungspflichtige Minijobberinnen und Minijobber wird bei der Berechnung des Rentenversicherungsbeitrags mindestens ein Verdienst von 175 Euro zugrunde gelegt. Der Beitrag des Arbeitgebers oder der Arbeitgeberin beträgt auch in einem solchen Fall 15 Prozent des tatsächlichen Verdienstes. Die Minijobberin oder der Minijobber übernimmt die Differenz zum vollen Pflichtbeitrag.
A16: Für meinen Betrieb besteht keine Umlagepflicht zum Ausgleichsverfahren U1. Am Ausgleichsverfahren der Arbeitgeberaufwendungen im Krankheitsfall U1 nehmen alle Unternehmen teil, die regelmäßig nicht mehr als 30 Arbeitnehmerinnen oder Arbeitnehmer beschäftigen. Alle Informationen zur Umlagepflicht finden Sie auf der Internetseite der Arbeitgeberversicherung der KBS. Link: https://www.arbeitgeberversicherung.de Dort finden Sie auch den Rechner Umlagepflicht, mit dem Sie schnell und einfach feststellen, ob Ihr Unternehmen am Ausgleichsverfahren teilnimmt. (Menü => Rechner) | B16: =IF('Minijob 1'!B19="","",'Minijob 1'!B19)
A17: Ich bin von der Abführung der Insolvenzgeldumlage befreit. Die Insolvenzgeldumlage sichert Arbeitnehmerinnen und Arbeitnehmern im Fall einer Insolvenz ihres Arbeitgebers finanziell ab. Arbeitgeberinnen und Arbeitgeber, die Arbeitnehmer im Inland beschäftigen, sind zur Zahlung der Insolvenzgeldumlage verpflichtet. Welche Arbeitgeberinnen und Arbeitgeber von der Zahlung der Insolvenzgeldumlage ausgenommen sind, können Sie auf unserer Internetseite nachlesen. Link: https://www.minijob-zentrale.de =>Für Gewerbetreibende => Abgaben & Steuern | B17: =IF('Minijob 1'!B20="","",'Minijob 1'!B20)
A18: Anstelle der einheitlichen Pauschsteuer soll die individuelle Einkommensteuer abgeführt werden. Der Verdienst von Minijobberinnen und Minijobbern ist stets steuerpflichtig. Die Lohnsteuer kann pauschal mit zwei Prozent oder nach den individuellen Lohnsteuermerkmalen erhoben werden.
A19: In der folgenden Tabelle "Minijob_9_Beitragsberechnung" (drei Spalten) werden Ihre Angaben ausgewertet und die Beiträge für Minijob 9 berechnet.
A20: Abgabenart und Beitragsgruppe | B20: Höhe der Abgaben in Prozent | C20: Beträge in Euro
A21: zur Krankenversicherung (Beitragsgruppe 6000) | B21: =Beitragssätze!C5*100 -> 13 | C21: =C49 -> 0
A22: voller Beitrag zur Rentenversicherung (Beitragsgruppe 0100) | B22: =Beitragssätze!C6*100 -> 18.6 | C22: =C50 -> 0
A23: zur Rentenversicherung (Beitragsgruppe 0500) | B23: =Beitragssätze!C7*100 -> 15 | C23: =C51 -> 0
A24: Umlage 1 (Beitragsgruppe U1) | B24: =Beitragssätze!C8*100 -> 1.1 | C24: =C52 -> 0
A25: Umlage 2 (Beitragsgruppe U2) | B25: =Beitragssätze!C9*100 -> 0.22 | C25: =C53 -> 0
A26: Insolvenzgeldumlage (Beitragsgruppe INSO) | B26: =Beitragssätze!C10*100 -> 0.15 | C26: =C54 -> 0
A27: einheitliche Pauschsteuer (Beitragsgruppe ST) | B27: =Beitragssätze!C11*100 -> 2 | C27: =C55 -> 0
A28: Summe der Gesamtabgaben: | C28: =C56 -> 0
A29: Arbeitnehmeranteil bei Zahlung des vollen Beitrages zur Rentenversicherung (vom Verdienst einzubehalten): | C29: =C57 -> 0
A30: Der nachfolgende Bereich zeigt die Druckansicht für die Beitragsberechnung von Minijob 9.
A31: =Beitragssätze!A30 -> Minijob-Rechner (Excel) Version 1.2 barrierefrei (Stand 5. Mai 2025)
A32: Monatsabrechnung
A33: 1. Allgemeine Angaben
A35: Monat: | B35: =IF('Minijob 1'!$B$38:$D$38="","",'Minijob 1'!$B$38:$D$38)
A37: Name: | B37: =IF(B7="","",B7)
A39: Geburtsdatum: | B39: =IF(B8="","",B8)
A41: Versicherungsnummer: | B41: =IF(B9="","",B9)
A43: Betriebsnummer: | B43: =IF(B4="","",B4)
A45: monatlicher Verdienst: | B45: =B10 -> 0
A46: 2. Beitragsberechnung
...

Sheet Minijob 10
A1: Das Tabellenblatt "Minijob 10" enthält drei untereinander angeordnete Tabellen. Die ersten beiden Tabellen werden für die Berechnung benötigt. Unter der Beitragsberechnung folgt eine Druckansicht.
A2: In der folgenden Tabelle "Minijob_10_Grunddaten" (zwei Spalten) werden grundsätzliche Angaben für die Berechnung und den zehnten Beschäftigten erfragt. Die Daten werden in Spalte B hinterlegt.
A3: Abfrage der Grunddaten zur Berechnung | B3: Ihre Angaben
A4: Ihre Betriebsnummer | B4: =IF('Minijob 1'!B7="","",'Minijob 1'!B7)
A5: Von Minijob 1 wird der Zeitraum der gültigen Beitragssätze übernommen. | B5: ='Minijob 1'!B8 -> ab Januar 2025
