Workbook
Name Excel_BuiltIn_Print_Area: 'Minijob 10'!$A$30:$D$59
Name Excel_BuiltIn_Print_Area: 'Minijob 2'!$A$32:$D$59
Name Excel_BuiltIn_Print_Area: 'Minijob 3'!$A$30:$D$59
Name Excel_BuiltIn_Print_Area: 'Minijob 4'!$A$30:$D$59
Name Excel_BuiltIn_Print_Area: 'Minijob 5'!$A$30:$D$59
Name Excel_BuiltIn_Print_Area: 'Minijob 6'!$A$30:$D$59
Name Excel_BuiltIn_Print_Area: 'Minijob 7'!$A$30:$D$59
Name Excel_BuiltIn_Print_Area: 'Minijob 8'!$A$30:$D$59
Name Excel_BuiltIn_Print_Area: 'Minijob 9'!$A$30:$D$59

Sheet Minijob 1
A1: Der Minijob-Rechner
A2: Der Minijob-Rechner bietet Ihnen die Möglichkeit, die Beiträge von bis zu zehn Minijobbern zu berechnen. Auf dem Tabellenblatt "Gesamt Abgabenberechnung" erfolgt die Zusammenrechnung.
A3: Hinweis: Ist die beschäftigte Person Mitglied eines berufsständischen Versorgungswerkes, ist der Minijob-Rechner zur Beitragsberechnung nicht geeignet.
A4: Das Tabellenblatt "Minijob 1" enthält drei untereinander angeordnete Tabellen. Die ersten beiden Tabellen werden für die Berechnung benötigt. Unter der Beitragsberechnung folgt eine Druckansicht.
A5: In der folgenden Tabelle "Minijob_1_Grunddaten" (zwei Spalten) werden grundsätzliche Angaben für die Berechnung und für den ersten Beschäftigten erfragt. Die Daten werden in Spalte B hinterlegt.
A6: Abfrage der Grunddaten zur Berechnung | B6: Ihre Angaben
A7: Geben Sie bitte Ihre Betriebsnummer an.
A8: Bitte wählen Sie den Zeitraum, in dem der Monat liegt für den Sie die Beiträge berechnen wollen. (Drop-Down-Feld) | B8: ab Januar 2025
A9: Geben Sie bitte Monat und Jahr an, für welchen die Beiträge berechnet werden sollen.
A10: Geben Sie bitte den Namen für Minijob 1 an.
A11: Hier können Sie das Geburtsdatum für Minijob 1 angeben.
A12: Hier können Sie die Sozialversicherungsnummer für Minijob 1 angeben.
A13: Geben Sie bitte den monatlichen Verdienst für Minijob 1 an. Das ist das vereinbarte Bruttoentgelt, also der Betrag vor Abzug von eventuell einbehaltenen Steuern und des Beitragsanteils der Minijobberin oder des Minijobbers bei Rentenversicherungspflicht. Minijobber und Minijobberinnen dürfen durchschnittlich im Monat nicht mehr als bis zur jeweils gültigen Minijob-Verdienstgrenze verdienen. Sofern der Verdienst monatlich schwankt oder Sonderzahlungen wie z. B. Weihnachts- oder Urlaubsgeld anfallen, geben Sie hier bitte den durchschnittlichen Monatsverdienst ein. | B13: 0
A14: In der folgenden Tabelle "Minijob_1_Beitragsrechtliches" (zwei Spalten) werden beitragsrelevante Aussagen aufgestellt, welche in Spalte B mit einem X bestätigt werden können, sofern diese zutreffend sind. (ähnlich einer Checkbox)
A15: beitragsrelevante Aussagen | B15: Aussage trifft zu
A16: Die beschäftigte Person ist nicht gesetzlich krankenversichert. Bitte ankreuzen, wenn die Minijobberin oder der Minijobber nicht gesetzlich krankenversichert ist. Das ist der Fall, wenn eine private Krankenversicherung vorliegt oder kein Krankenversicherungsschutz besteht. | D16: X
A17: Die beschäftigte Person hat die Befreiung von der Rentenversicherungspflicht beantragt oder ist versicherungsfrei. Minijobberinnen und Minijobber sind vor dem Erreichen der Regelaltersgrenze versicherungspflichtig in der Rentenversicherung. Sie können jedoch die Befreiung von der Rentenversicherungspflicht beantragen. Nach dem Erreichen der Regelaltersgrenze sind sie versicherungsfrei. In diesen Fällen zahlt nur die Arbeitgeberin oder der Arbeitgeber 15 Prozent des monatlichen Verdienstes.
A18: Die Mindestbeitragsbemessungsgrundlage muss beachtet werden. Bitte ankreuzen, wenn der monatliche Verdienst der Minijobberin oder des Minijobbers (auch mit mehreren Minijobs zusammen) unter 175 Euro liegt und keine rentenversicherungspflichtige Hauptbeschäftigung ausgeübt wird. Für rentenversicherungspflichtige Minijobberinnen und Minijobber wird bei der Berechnung des Rentenversicherungsbeitrags mindestens ein Verdienst von 175 Euro zugrunde gelegt. Der Beitrag des Arbeitgebers oder der Arbeitgeberin beträgt auch in einem solchen Fall 15 Prozent des tatsächlichen Verdienstes. Die Minijobberin oder der Minijobber übernimmt die Differenz zum vollen Pflichtbeitrag.
A19: Für meinen Betrieb besteht keine Umlagepflicht zum Ausgleichsverfahren U1. Am Ausgleichsverfahren der Arbeitgeberaufwendungen im Krankheitsfall U1 nehmen alle Unternehmen teil, die regelmäßig nicht mehr als 30 Arbeitnehmerinnen oder Arbeitnehmer beschäftigen. Alle Informationen zur Umlagepflicht finden Sie auf der Internetseite der Arbeitgeberversicherung der KBS. Link: https://www.arbeitgeberversicherung.de Dort finden Sie auch den Rechner Umlagepflicht, mit dem Sie schnell und einfach feststellen, ob Ihr Unternehmen am Ausgleichsverfahren teilnimmt. (Menü => Rechner)
A20: Ich bin von der Abführung der Insolvenzgeldumlage befreit. Die Insolvenzgeldumlage sichert Arbeitnehmerinnen und Arbeitnehmern im Fall einer Insolvenz ihres Arbeitgebers finanziell ab. Arbeitgeberinnen und Arbeitgeber, die Arbeitnehmer im Inland beschäftigen, sind zur Zahlung der Insolvenzgeldumlage verpflichtet. Welche Arbeitgeberinnen und Arbeitgeber von der Zahlung der Insolvenzgeldumlage ausgenommen sind, können Sie auf unserer Internetseite nachlesen. Link: https://www.minijob-zentrale.de =>Für Gewerbetreibende => Abgaben & Steuern
A21: Anstelle der einheitlichen Pauschsteuer soll die individuelle Einkommensteuer abgeführt werden. Der Verdienst von Minijobberinnen und Minijobbern ist stets steuerpflichtig. Die Lohnsteuer kann pauschal mit zwei Prozent oder nach den individuellen Lohnsteuermerkmalen erhoben werden.
A22: In der folgenden Tabelle "Minijob_1_Beitragsberechnung" (drei Spalten) werden Ihre Angaben ausgewertet und die Beiträge für Minijob 1 berechnet.
A23: Abgabenart und Beitragsgruppe | B23: Höhe der Abgaben in Prozent | C23: Beträge in Euro
A24: zur Krankenversicherung (Beitragsgruppe 6000) | B24: =Beitragssätze!C5*100 -> 13 | C24: ='Minijob 1'!C52 -> 0
A25: voller Beitrag zur Rentenversicherung (Beitragsgruppe 0100) | B25: =Beitragssätze!C6*100 -> 18.6 | C25: ='Minijob 1'!C53 -> 0
A26: zur Rentenversicherung (Beitragsgruppe 0500) | B26: =Beitragssätze!C7*100 -> 15 | C26: ='Minijob 1'!C54 -> 0
A27: Umlage 1 (Beitragsgruppe U1) | B27: =Beitragssätze!C8*100 -> 1.1 | C27: ='Minijob 1'!C55 -> 0
A28: Umlage 2 (Beitragsgruppe U2) | B28: =Beitragssätze!C9*100 -> 0.22 | C28: ='Minijob 1'!C56 -> 0
A29: Insolvenzgeldumlage (Beitragsgruppe INSO) | B29: =Beitragssätze!C10*100 -> 0.15 | C29: ='Minijob 1'!C57 -> 0
A30: einheitliche Pauschsteuer (Beitragsgruppe ST) | B30: =Beitragssätze!C11*100 -> 2 | C30: ='Minijob 1'!C58 -> 0
A31: Summe der Gesamtabgaben: | C31: ='Minijob 1'!C59 -> 0
A32: Arbeitnehmeranteil bei Zahlung des vollen Beitrages zur Rentenversicherung (vom Verdienst einzubehalten): | C32: ='Minijob 1'!C60 -> 0
A33: Der nachfolgende Bereich zeigt die Druckansicht für die Beitragsberechnung von Minijob 1.
A34: =Beitragssätze!A30 -> Minijob-Rechner (Excel) Version 1.2 barrierefrei (Stand 5. Mai 2025)
A35: Monatsabrechnung
A36: 1. Allgemeine Angaben
A38: Monat: | B38: =IF('Minijob 1'!B9=0,"",'Minijob 1'!B9)
A40: Name: | B40: =IF('Minijob 1'!B10=0,"",'Minijob 1'!B10)
A42: Geburtsdatum: | B42: =IF('Minijob 1'!B11=0,"",'Minijob 1'!B11)
A44: Versicherungsnummer: | B44: =IF('Minijob 1'!B12=0,"",'Minijob 1'!B12)
A46: Betriebsnummer: | B46: =IF('Minijob 1'!B7=0,"",'Minijob 1'!B7)
A48: monatlicher Verdienst: | B48: =B13 -> 0
A49: 2. Beitragsberechnung
A50: =Beitragssätze!A2 -> Der gewählte Zeitraum, für den die Berechnung gültig ist: ab Januar 2025
A51: Abgabenart | B51: Höhe der Abgaben in Prozent | C51: Beträge in Euro
A52: zur Krankenversicherung (Beitragsgruppe 6000) | B52: =Beitragssätze!C5*100 -> 13 | C52: =ROUND(D69,2) -> 0 | D52: =IF('Minijob 1'!B16="X",TRUE,FALSE) -> FALSE
A53: voller Beitrag zur Rentenversicherung (Beitragsgruppe 0100) | B53: =Beitragssätze!C6*100 -> 18.6 | C53: =ROUND(D71,2) -> 0 | D53: =IF('Minijob 1'!B17="X",TRUE,FALSE) -> FALSE
A54: zur Rentenversicherung (Beitragsgruppe 0500) | B54: =Beitragssätze!C7*100 -> 15 | C54: =ROUND(D70,2) -> 0 | D54: =IF('Minijob 1'!B18="X",TRUE,FALSE) -> FALSE
A55: Umlage 1 (Beitragsgruppe U1) | B55: =Beitragssätze!C8*100 -> 1.1 | C55: =ROUND(D72,2) -> 0 | D55: =IF('Minijob 1'!B19="X",TRUE,FALSE) -> FALSE
A56: Umlage 2 (Beitragsgruppe U2) | B56: =Beitragssätze!C9*100 -> 0.22 | C56: =ROUND(D74,2) -> 0 | D56: =FALSE -> FALSE
A57: Insolvenzgeldumlage (Beitragsgruppe INSO) | B57: =Beitragssätze!C10*100 -> 0.15 | C57: =ROUND(D75,2) -> 0 | D57: =IF('Minijob 1'!B20="X",TRUE,FALSE) -> FALSE
A58: einheitliche Pauschsteuer (Beitragsgruppe ST) | B58: =Beitragssätze!C11*100 -> 2 | C58: =TRUNC(D73,2) -> 0 | D58: =IF('Minijob 1'!B21="X",TRUE,FALSE) -> FALSE
A59: Summe der Gesamtabgaben: | C59: =SUM(C52:C58) -> 0 | D59: =IF('Minijob 1'!B22="X",TRUE,FALSE) -> FALSE
A60: Arbeitnehmeranteil bei Zahlung des vollen Beitrages zur Rentenversicherung (vom Verdienst einzubehalten): | C60: =IF(D66=FALSE,0,D66) -> 0
A61: Minijob-Zentrale, 45115 Essen • Service-Center: 0355 2902-70799 • Fax: 0201 384-979797 • minijob-zentrale.de
D66: =IF(D53,0,(IF(D46,(IF(AND(D46,D54=TRUE,D46<D76),IF(D53,0,D46*D77)+(D76-D46)*Beitragssätze!C6,D46*D77)),IF(B48,(IF(AND(B48,D54=TRUE,B48<D76),IF(D53,0,(ROUND(D76*Beitragssätze!C6,2))-(ROUND(B48*Beitragssätze!C7,2))),B48*D77)))))) -> FALSE
D69: =IF(D46,IF(D52,0,D46*Beitragssätze!C5),IF(D52,0,B48*Beitragssätze!C5)) -> 0
D70: =IF(D53,IF(D46,D46*Beitragssätze!C7,B48*Beitragssätze!C7)) -> FALSE
D71: =IF(D46,(IF(D53=TRUE,0,D46*Beitragssätze!C7+C60)),IF(D53=TRUE,0,IF(B48=0,0,B48*Beitragssätze!C7+C60))) -> 0
D72: =IF(D46,IF(D55,0,D46*Beitragssätze!C8),IF(D55,0,B48*Beitragssätze!C8)) -> 0
D73: =IF(D46,IF(D58,0,D46*Beitragssätze!C11),IF(D58,0,B48*Beitragssätze!C11)) -> 0
D74: =IF(D46,IF(D56,0,D46*Beitragssätze!C9),IF(D56,0,B48*Beitragssätze!C9)) -> 0
D75: =IF(D46,IF(D57,0,D46*Beitragssätze!C10),IF(D57,0,B48*Beitragssätze!C10)) -> 0
D76: =Beitragssätze!B14 -> 175
D77: =Beitragssätze!B15 -> 0.036

Sheet Minijob 2
A1: Das Tabellenblatt "Minijob 2" enthält drei untereinander angeordnete Tabellen. Die ersten beiden Tabellen werden für die Berechnung benötigt. Unter der Beitragsberechnung folgt eine Druckansicht.
A2: In der folgenden Tabelle "Minijob_2_Grunddaten" (zwei Spalten) werden grundsätzliche Angaben für die Berechnung und den zweiten Beschäftigten erfragt. Die Daten werden in Spalte B hinterlegt.
A3: Abfrage der Grunddaten zur Berechnung | B3: Ihre Angaben
A4: Ihre Betriebsnummer | B4: =IF('Minijob 1'!B7="","",'Minijob 1'!B7)
A5: Von Minijob 1 wird der Zeitraum der gültigen Beitragssätze übernommen. | B5: ='Minijob 1'!B8 -> ab Januar 2025
A6: Von Minijob 1 wird Monat und Jahr der aktuellen Berechnung übernommen. | B6: =IF('Minijob 1'!B9="","",'Minijob 1'!B9)
A7: Geben Sie bitte den Namen für Minijob 2 an.
A8: Hier können Sie das Geburtsdatum für Minijob 2 angeben.
A9: Hier können Sie die Sozialversicherungsnummer für Minijob 2 angeben.
A10: Geben Sie bitte den monatlichen Verdienst für Minijob 2 an. Das ist das vereinbarte Bruttoentgelt, also der Betrag vor Abzug von eventuell einbehaltenen Steuern und des Beitragsanteils der Minijobberin oder des Minijobbers bei Rentenversicherungspflicht. Minijobber und Minijobberinnen dürfen durchschnittlich im Monat nicht mehr als bis zur jeweils gültigen Minijob-Verdienstgrenze verdienen. Sofern der Verdienst monatlich schwankt oder Sonderzahlungen wie z. B. Weihnachts- oder Urlaubsgeld anfallen, geben Sie hier bitte den durchschnittlichen Monatsverdienst ein. | B10: 0
A11: In der folgenden Tabelle "Minijob_2_Beitragsrechtliches" (zwei Spalten) werden beitragsrelevante Aussagen aufgestellt, welche in Spalte B mit einem X bestätigt werden können, sofern diese zutreffend sind. (ähnlich einer Checkbox)
A12: beitragsrelevante Aussagen | B12: Aussage trifft zu
A13: Die beschäftigte Person ist nicht gesetzlich krankenversichert. Bitte ankreuzen, wenn die Minijobberin oder der Minijobber nicht gesetzlich krankenversichert ist. Das ist der Fall, wenn eine private Krankenversicherung vorliegt oder kein Krankenversicherungsschutz besteht. | D13: X
A14: Die beschäftigte Person hat die Befreiung von der Rentenversicherungspflicht beantragt oder ist versicherungsfrei. Minijobberinnen und Minijobber sind vor dem Erreichen der Regelaltersgrenze versicherungspflichtig in der Rentenversicherung. Sie können jedoch die Befreiung von der Rentenversicherungspflicht beantragen. Nach dem Erreichen der Regelaltersgrenze sind sie versicherungsfrei. In diesen Fällen zahlt nur die Arbeitgeberin oder der Arbeitgeber 15 Prozent des monatlichen Verdienstes.
A15: Die Mindestbeitragsbemessungsgrundlage muss beachtet werden. Bitte ankreuzen, wenn der monatliche Verdienst der Minijobberin oder des Minijobbers (auch mit mehreren Minijobs zusammen) unter 175 Euro liegt und keine rentenversicherungspflichtige Hauptbeschäftigung ausgeübt wird. Für rentenversicherungspflichtige Minijobberinnen und Minijobber wird bei der Berechnung des Rentenversicherungsbeitrags mindestens ein Verdienst von 175 Euro zugrunde gelegt. Der Beitrag des Arbeitgebers oder der Arbeitgeberin beträgt auch in einem solchen Fall 15 Prozent des tatsächlichen Verdienstes. Die Minijobberin oder der Minijobber übernimmt die Differenz zum vollen Pflichtbeitrag.
A16: Für meinen Betrieb besteht keine Umlagepflicht zum Ausgleichsverfahren U1. Am Ausgleichsverfahren der Arbeitgeberaufwendungen im Krankheitsfall U1 nehmen alle Unternehmen teil, die regelmäßig nicht mehr als 30 Arbeitnehmerinnen oder Arbeitnehmer beschäftigen. Alle Informationen zur Umlagepflicht finden Sie auf der Internetseite der Arbeitgeberversicherung der KBS. Link: https://www.arbeitgeberversicherung.de Dort finden Sie auch den Rechner Umlagepflicht, mit dem Sie schnell und einfach feststellen, ob Ihr Unternehmen am Ausgleichsverfahren teilnimmt. (Menü => Rechner) | B16: =IF('Minijob 1'!B19="","",'Minijob 1'!B19)
A17: Ich bin von der Abführung der Insolvenzgeldumlage befreit. Die Insolvenzgeldumlage sichert Arbeitnehmerinnen und Arbeitnehmern im Fall einer Insolvenz ihres Arbeitgebers finanziell ab. Arbeitgeberinnen und Arbeitgeber, die Arbeitnehmer im Inland beschäftigen, sind zur Zahlung der Insolvenzgeldumlage verpflichtet. Welche Arbeitgeberinnen und Arbeitgeber von der Zahlung der Insolvenzgeldumlage ausgenommen sind, können Sie auf unserer Internetseite nachlesen. Link: https://www.minijob-zentrale.de =>Für Gewerbetreibende => Abgaben & Steuern | B17: =IF('Minijob 1'!B20="","",'Minijob 1'!B20)
A18: Anstelle der einheitlichen Pauschsteuer soll die individuelle Einkommensteuer abgeführt werden. Der Verdienst von Minijobberinnen und Minijobbern ist stets steuerpflichtig. Die Lohnsteuer kann pauschal mit zwei Prozent oder nach den individuellen Lohnsteuermerkmalen erhoben werden.
A19: In der folgenden Tabelle "Minijob_2_Beitragsberechnung" (drei Spalten) werden Ihre Angaben ausgewertet und die Beiträge für Minijob 2 berechnet.
A20: Abgabenart und Beitragsgruppe | B20: Höhe der Abgaben in Prozent | C20: Beträge in Euro
A21: zur Krankenversicherung (Beitragsgruppe 6000) | B21: =Beitragssätze!C5*100 -> 13 | C21: =C49 -> 0
A22: voller Beitrag zur Rentenversicherung (Beitragsgruppe 0100) | B22: =Beitragssätze!C6*100 -> 18.6 | C22: =C50 -> 0
A23: zur Rentenversicherung (Beitragsgruppe 0500) | B23: =Beitragssätze!C7*100 -> 15 | C23: =C51 -> 0
A24: Umlage 1 (Beitragsgruppe U1) | B24: =Beitragssätze!C8*100 -> 1.1 | C24: =C52 -> 0
A25: Umlage 2 (Beitragsgruppe U2) | B25: =Beitragssätze!C9*100 -> 0.22 | C25: =C53 -> 0
A26: Insolvenzgeldumlage (Beitragsgruppe INSO) | B26: =Beitragssätze!C10*100 -> 0.15 | C26: =C54 -> 0
A27: einheitliche Pauschsteuer (Beitragsgruppe ST) | B27: =Beitragssätze!C11*100 -> 2 | C27: =C55 -> 0
A28: Summe der Gesamtabgaben: | C28: =C56 -> 0
A29: Arbeitnehmeranteil bei Zahlung des vollen Beitrages zur Rentenversicherung (vom Verdienst einzubehalten): | C29: =C57 -> 0
A30: Der nachfolgende Bereich zeigt die Druckansicht für die Beitragsberechnung von Minijob 2.
A31: =Beitragssätze!A30 -> Minijob-Rechner (Excel) Version 1.2 barrierefrei (Stand 5. Mai 2025)
A32: Monatsabrechnung
A33: 1. Allgemeine Angaben
A35: Monat: | B35: ='Minijob 1'!B38
A37: Name: | B37: =IF(B7="","",B7)
A39: Geburtsdatum: | B39: =IF(B8="","",B8)
A41: Versicherungsnummer: | B41: =IF(B9="","",B9)
A43: Betriebsnummer: | B43: =IF(B4="","",B4)
A45: monatlicher Verdienst: | B45: =B10 -> 0
A46: 2. Beitragsberechnung
A47: =Beitragssätze!A2 -> Der gewählte Zeitraum, für den die Berechnung gültig ist: ab Januar 2025
A48: Abgabenart | B48: Höhe der Abgaben in Prozent | C48: Beträge in Euro
A49: zur Krankenversicherung (Beitragsgruppe 6000) | B49: =Beitragssätze!C5*100 -> 13 | C49: =ROUND(D66,2) -> 0 | D49: =IF(B13="X",TRUE,FALSE) -> FALSE
A50: voller Beitrag zur Rentenversicherung (Beitragsgruppe 0100) | B50: =Beitragssätze!C6*100 -> 18.6 | C50: =ROUND(D68,2) -> 0 | D50: =IF(B14="X",TRUE,FALSE) -> FALSE
A51: zur Rentenversicherung (Beitragsgruppe 0500) | B51: =Beitragssätze!C7*100 -> 15 | C51: =ROUND(D67,2) -> 0 | D51: =IF(B15="X",TRUE,FALSE) -> FALSE
A52: Umlage 1 (Beitragsgruppe U1) | B52: =Beitragssätze!C8*100 -> 1.1 | C52: =ROUND(D69,2) -> 0 | D52: =IF(B16="X",TRUE,FALSE) -> FALSE
A53: Umlage 2 (Beitragsgruppe U2) | B53: =Beitragssätze!C9*100 -> 0.22 | C53: =ROUND(D71,2) -> 0 | D53: =FALSE -> FALSE
A54: Insolvenzgeldumlage (Beitragsgruppe INSO) | B54: =Beitragssätze!C10*100 -> 0.15 | C54: =ROUND(D72,2) -> 0 | D54: =IF(B17="X",TRUE,FALSE) -> FALSE
A55: einheitliche Pauschsteuer (Beitragsgruppe ST) | B55: =Beitragssätze!C11*100 -> 2 | C55: =TRUNC(D70,2) -> 0 | D55: =IF(B18="X",TRUE,FALSE) -> FALSE
A56: Summe der Gesamtabgaben: | C56: =SUM(C49:C55) -> 0 | D56: =IF(B19="X",TRUE,FALSE) -> FALSE
A57: Arbeitnehmeranteil bei Zahlung des vollen Beitrages zur Rentenversicherung (vom Verdienst einzubehalten): | C57: =IF(D63=FALSE,0,D63) -> 0
A58: Minijob-Zentrale, 45115 Essen • Service-Center: 0355 2902-70799 • Fax: 0201 384-979797 • minijob-zentrale.de
D63: =IF(D50,0,(IF(D43,(IF(AND(D43,D51=TRUE,D43<D73),IF(D50,0,D43*D74)+(D73-D43)*Beitragssätze!C6,D43*D74)),IF(B45,(IF(AND(B45,D51=TRUE,B45<D73),IF(D50,0,(ROUND(D73*Beitragssätze!C6,2))-(ROUND(B45*Beitragssätze!C7,2))),B45*D74)))))) -> FALSE
D66: =IF(D43,IF(D49,0,D43*Beitragssätze!C5),IF(D49,0,B45*Beitragssätze!C5)) -> 0
D67: =IF(D50,IF(D43,D43*Beitragssätze!C7,B45*Beitragssätze!C7)) -> FALSE
D68: =IF(D43,(IF(D50=TRUE,0,D43*Beitragssätze!C7+C57)),IF(D50=TRUE,0,IF(B45=0,0,B45*Beitragssätze!C7+C57))) -> 0
D69: =IF(D43,IF(D52,0,D43*Beitragssätze!C8),IF(D52,0,B45*Beitragssätze!C8)) -> 0
D70: =IF(D43,IF(D55,0,D43*Beitragssätze!C11),IF(D55,0,B45*Beitragssätze!C11)) -> 0
D71: =IF(D43,IF(D53,0,D43*Beitragssätze!C9),IF(D53,0,B45*Beitragssätze!C9)) -> 0
D72: =IF(D43,IF(D54,0,D43*Beitragssätze!C10),IF(D54,0,B45*Beitragssätze!C10)) -> 0
D73: =Beitragssätze!B14 -> 175
D74: =Beitragssätze!B15 -> 0.036

Sheet Minijob 3
A1: Das Tabellenblatt "Minijob 3" enthält drei untereinander angeordnete Tabellen. Die ersten beiden Tabellen werden für die Berechnung benötigt. Unter der Beitragsberechnung folgt eine Druckansicht.
A2: In der folgenden Tabelle "Minijob_3_Grunddaten" (zwei Spalten) werden grundsätzliche Angaben für die Berechnung und den dritten Beschäftigten erfragt. Die Daten werden in Spalte B hinterlegt.
A3: Abfrage der Grunddaten zur Berechnung | B3: Ihre Angaben
A4: Ihre Betriebsnummer | B4: =IF('Minijob 1'!B7="","",'Minijob 1'!B7)
A5: Von Minijob 1 wird der Zeitraum der gültigen Beitragssätze übernommen. | B5: ='Minijob 1'!B8 -> ab Januar 2025
A6: Von Minijob 1 wird Monat und Jahr der aktuellen Berechnung übernommen. | B6: =IF('Minijob 1'!B9="","",'Minijob 1'!B9)
A7: Geben Sie bitte den Namen für Minijob 3 an.
A8: Hier können Sie das Geburtsdatum für Minijob 3 angeben.
A9: Hier können Sie die Sozialversicherungsnummer für Minijob 3 angeben.
A10: Geben Sie bitte den monatlichen Verdienst für Minijob 3 an. Das ist das vereinbarte Bruttoentgelt, also der Betrag vor Abzug von eventuell einbehaltenen Steuern und des Beitragsanteils der Minijobberin oder des Minijobbers bei Rentenversicherungspflicht. Minijobber und Minijobberinnen dürfen durchschnittlich im Monat nicht mehr als bis zur jeweils gültigen Minijob-Verdienstgrenze verdienen. Sofern der Verdienst monatlich schwankt oder Sonderzahlungen wie z. B. Weihnachts- oder Urlaubsgeld anfallen, geben Sie hier bitte den durchschnittlichen Monatsverdienst ein. | B10: 0
A11: In der folgenden Tabelle "Minijob_3_Beitragsrechtliches" (zwei Spalten) werden beitragsrelevante Aussagen aufgestellt, welche in Spalte B mit einem X bestätigt werden können, sofern diese zutreffend sind. (ähnlich einer Checkbox)
A12: beitragsrelevante Aussagen | B12: Aussage trifft zu
A13: Die beschäftigte Person ist nicht gesetzlich krankenversichert. Bitte ankreuzen, wenn die Minijobberin oder der Minijobber nicht gesetzlich krankenversichert ist. Das ist der Fall, wenn eine private Krankenversicherung vorliegt oder kein Krankenversicherungsschutz besteht. | D13: X
A14: Die beschäftigte Person hat die Befreiung von der Rentenversicherungspflicht beantragt oder ist versicherungsfrei. Minijobberinnen und Minijobber sind vor dem Erreichen der Regelaltersgrenze versicherungspflichtig in der Rentenversicherung. Sie können jedoch die Befreiung von der Rentenversicherungspflicht beantragen. Nach dem Erreichen der Regelaltersgrenze sind sie versicherungsfrei. In diesen Fällen zahlt nur die Arbeitgeberin oder der Arbeitgeber 15 Prozent des monatlichen Verdienstes.
A15: Die Mindestbeitragsbemessungsgrundlage muss beachtet werden. Bitte ankreuzen, wenn der monatliche Verdienst der Minijobberin oder des Minijobbers (auch mit mehreren Minijobs zusammen) unter 175 Euro liegt und keine rentenversicherungspflichtige Hauptbeschäftigung ausgeübt wird. Für rentenversicherungspflichtige Minijobberinnen und Minijobber wird bei der Berechnung des Rentenversicherungsbeitrags mindestens ein Verdienst von 175 Euro zugrunde gelegt. Der Beitrag des Arbeitgebers oder der Arbeitgeberin beträgt auch in einem solchen Fall 15 Prozent des tatsächlichen Verdienstes. Die Minijobberin oder der Minijobber übernimmt die Differenz zum vollen Pflichtbeitrag.
A16: Für meinen Betrieb besteht keine Umlagepflicht zum Ausgleichsverfahren U1. Am Ausgleichsverfahren der Arbeitgeberaufwendungen im Krankheitsfall U1 nehmen alle Unternehmen teil, die regelmäßig nicht mehr als 30 Arbeitnehmerinnen oder Arbeitnehmer beschäftigen. Alle Informationen zur Umlagepflicht finden Sie auf der Internetseite der Arbeitgeberversicherung der KBS. Link: https://www.arbeitgeberversicherung.de Dort finden Sie auch den Rechner Umlagepflicht, mit dem Sie schnell und einfach feststellen, ob Ihr Unternehmen am Ausgleichsverfahren teilnimmt. (Menü => Rechner) | B16: =IF('Minijob 1'!B19="","",'Minijob 1'!B19)
A17: Ich bin von der Abführung der Insolvenzgeldumlage befreit. Die Insolvenzgeldumlage sichert Arbeitnehmerinnen und Arbeitnehmern im Fall einer Insolvenz ihres Arbeitgebers finanziell ab. Arbeitgeberinnen und Arbeitgeber, die Arbeitnehmer im Inland beschäftigen, sind zur Zahlung der Insolvenzgeldumlage verpflichtet. Welche Arbeitgeberinnen und Arbeitgeber von der Zahlung der Insolvenzgeldumlage ausgenommen sind, können Sie auf unserer Internetseite nachlesen. Link: https://www.minijob-zentrale.de =>Für Gewerbetreibende => Abgaben & Steuern | B17: =IF('Minijob 1'!B20="","",'Minijob 1'!B20)
A18: Anstelle der einheitlichen Pauschsteuer soll die individuelle Einkommensteuer abgeführt werden. Der Verdienst von Minijobberinnen und Minijobbern ist stets steuerpflichtig. Die Lohnsteuer kann pauschal mit zwei Prozent oder nach den individuellen Lohnsteuermerkmalen erhoben werden.
A19: In der folgenden Tabelle "Minijob_3_Beitragsberechnung" (drei Spalten) werden Ihre Angaben ausgewertet und die Beiträge für Minijob 3 berechnet.
A20: Abgabenart und Beitragsgruppe | B20: Höhe der Abgaben in Prozent | C20: Beträge in Euro
A21: zur Krankenversicherung (Beitragsgruppe 6000) | B21: =Beitragssätze!C5*100 -> 13 | C21: =C49 -> 0
A22: voller Beitrag zur Rentenversicherung (Beitragsgruppe 0100) | B22: =Beitragssätze!C6*100 -> 18.6 | C22: =C50 -> 0
A23: zur Rentenversicherung (Beitragsgruppe 0500) | B23: =Beitragssätze!C7*100 -> 15 | C23: =C51 -> 0
A24: Umlage 1 (Beitragsgruppe U1) | B24: =Beitragssätze!C8*100 -> 1.1 | C24: =C52 -> 0
A25: Umlage 2 (Beitragsgruppe U2) | B25: =Beitragssätze!C9*100 -> 0.22 | C25: =C53 -> 0
A26: Insolvenzgeldumlage (Beitragsgruppe INSO) | B26: =Beitragssätze!C10*100 -> 0.15 | C26: =C54 -> 0
A27: einheitliche Pauschsteuer (Beitragsgruppe ST) | B27: =Beitragssätze!C11*100 -> 2 | C27: =C55 -> 0
A28: Summe der Gesamtabgaben: | C28: =C56 -> 0
A29: Arbeitnehmeranteil bei Zahlung des vollen Beitrages zur Rentenversicherung (vom Verdienst einzubehalten): | C29: =C57 -> 0
A30: Der nachfolgende Bereich zeigt die Druckansicht für die Beitragsberechnung von Minijob 3.
A31: =Beitragssätze!A30 -> Minijob-Rechner (Excel) Version 1.2 barrierefrei (Stand 5. Mai 2025)
A32: Monatsabrechnung
A33: 1. Allgemeine Angaben
A35: Monat: | B35: ='Minijob 1'!B38
A37: Name: | B37: =IF(B7="","",B7)
A39: Geburtsdatum: | B39: =IF(B8="","",B8)
A41: Versicherungsnummer: | B41: =IF(B9="","",B9)
A43: Betriebsnummer: | B43: =IF(B4="","",B4)
A45: monatlicher Verdienst: | B45: =B10 -> 0
A46: 2. Beitragsberechnung
A47: =Beitragssätze!A2 -> Der gewählte Zeitraum, für den die Berechnung gültig ist: ab Januar 2025
A48: Abgabenart | B48: Höhe der Abgaben in Prozent | C48: Beträge in Euro
A49: zur Krankenversicherung (Beitragsgruppe 6000) | B49: =Beitragssätze!C5*100 -> 13 | C49: =ROUND(D66,2) -> 0 | D49: =IF(B13="X",TRUE,FALSE) -> FALSE
A50: voller Beitrag zur Rentenversicherung (Beitragsgruppe 0100) | B50: =Beitragssätze!C6*100 -> 18.6 | C50: =ROUND(D68,2) -> 0 | D50: =IF(B14="X",TRUE,FALSE) -> FALSE
A51: zur Rentenversicherung (Beitragsgruppe 0500) | B51: =Beitragssätze!C7*100 -> 15 | C51: =ROUND(D67,2) -> 0 | D51: =IF(B15="X",TRUE,FALSE) -> FALSE
A52: Umlage 1 (Beitragsgruppe U1) | B52: =Beitragssätze!C8*100 -> 1.1 | C52: =ROUND(D69,2) -> 0 | D52: =IF(B16="X",TRUE,FALSE) -> FALSE
A53: Umlage 2 (Beitragsgruppe U2) | B53: =Beitragssätze!C9*100 -> 0.22 | C53: =ROUND(D71,2) -> 0 | D53: =FALSE -> FALSE
A54: Insolvenzgeldumlage (Beitragsgruppe INSO) | B54: =Beitragssätze!C10*100 -> 0.15 | C54: =ROUND(D72,2) -> 0 | D54: =IF(B17="X",TRUE,FALSE) -> FALSE
A55: einheitliche Pauschsteuer (Beitragsgruppe ST) | B55: =Beitragssätze!C11*100 -> 2 | C55: =TRUNC(D70,2) -> 0 | D55: =IF(B18="X",TRUE,FALSE) -> FALSE
A56: Summe der Gesamtabgaben: | C56: =SUM(C49:C55) -> 0 | D56: =IF(B19="X",TRUE,FALSE) -> FALSE
A57: Arbeitnehmeranteil bei Zahlung des vollen Beitrages zur Rentenversicherung (vom Verdienst einzubehalten): | C57: =IF(D63=FALSE,0,D63) -> 0
A58: Minijob-Zentrale, 45115 Essen • Service-Center: 0355 2902 70799 • Fax: 0201 384 979797 • minijob-zentrale.de
D63: =IF(D50,0,(IF(D43,(IF(AND(D43,D51=TRUE,D43<D73),IF(D50,0,D43*D74)+(D73-D43)*Beitragssätze!C6,D43*D74)),IF(B45,(IF(AND(B45,D51=TRUE,B45<D73),IF(D50,0,(ROUND(D73*Beitragssätze!C6,2))-(ROUND(B45*Beitragssätze!C7,2))),B45*D74)))))) -> FALSE
D66: =IF(D43,IF(D49,0,D43*Beitragssätze!C5),IF(D49,0,B45*Beitragssätze!C5)) -> 0
D67: =IF(D50,IF(D43,D43*Beitragssätze!C7,B45*Beitragssätze!C7)) -> FALSE
D68: =IF(D43,(IF(D50=TRUE,0,D43*Beitragssätze!C7+C57)),IF(D50=TRUE,0,IF(B45=0,0,B45*Beitragssätze!C7+C57))) -> 0
D69: =IF(D43,IF(D52,0,D43*Beitragssätze!C8),IF(D52,0,B45*Beitragssätze!C8)) -> 0
D70: =IF(D43,IF(D55,0,D43*Beitragssätze!C11),IF(D55,0,B45*Beitragssätze!C11)) -> 0
D71: =IF(D43,IF(D53,0,D43*Beitragssätze!C9),IF(D53,0,B45*Beitragssätze!C9)) -> 0
D72: =IF(D43,IF(D54,0,D43*Beitragssätze!C10),IF(D54,0,B45*Beitragssätze!C10)) -> 0
D73: =Beitragssätze!B14 -> 175
D74: =Beitragssätze!B15 -> 0.036

Sheet Minijob 4
A1: Das Tabellenblatt "Minijob 4" enthält drei untereinander angeordnete Tabellen. Die ersten beiden Tabellen werden für die Berechnung benötigt. Unter der Beitragsberechnung folgt eine Druckansicht.
A2: In der folgenden Tabelle "Minijob_4_Grunddaten" (zwei Spalten) werden grundsätzliche Angaben für die Berechnung und den vierten Beschäftigten erfragt. Die Daten werden in Spalte B hinterlegt.
A3: Abfrage der Grunddaten zur Berechnung | B3: Ihre Angaben
A4: Ihre Betriebsnummer | B4: =IF('Minijob 1'!B7="","",'Minijob 1'!B7)
A5: Von Minijob 1 wird der Zeitraum der gültigen Beitragssätze übernommen. | B5: ='Minijob 1'!B8 -> ab Januar 2025
A6: Von Minijob 1 wird Monat und Jahr der aktuellen Berechnung übernommen. | B6: =IF('Minijob 1'!B9="","",'Minijob 1'!B9)
A7: Geben Sie bitte den Namen für Minijob 4 an.
A8: Hier können Sie das Geburtsdatum für Minijob 4 angeben.
A9: Hier können Sie die Sozialversicherungsnummer für Minijob 4 angeben.
A10: Geben Sie bitte den monatlichen Verdienst für Minijob 4 an. Das ist das vereinbarte Bruttoentgelt, also der Betrag vor Abzug von eventuell einbehaltenen Steuern und des Beitragsanteils der Minijobberin oder des Minijobbers bei Rentenversicherungspflicht. Minijobber und Minijobberinnen dürfen durchschnittlich im Monat nicht mehr als bis zur jeweils gültigen Minijob-Verdienstgrenze verdienen. Sofern der Verdienst monatlich schwankt oder Sonderzahlungen wie z. B. Weihnachts- oder Urlaubsgeld anfallen, geben Sie hier bitte den durchschnittlichen Monatsverdienst ein. | B10: 0
A11: In der folgenden Tabelle "Minijob_4_Beitragsrechtliches" (zwei Spalten) werden beitragsrelevante Aussagen aufgestellt, welche in Spalte B mit einem X bestätigt werden können, sofern diese zutreffend sind. (ähnlich einer Checkbox)
A12: beitragsrelevante Aussagen | B12: Aussage trifft zu
A13: Die beschäftigte Person ist nicht gesetzlich krankenversichert. Bitte ankreuzen, wenn die Minijobberin oder der Minijobber nicht gesetzlich krankenversichert ist. Das ist der Fall, wenn eine private Krankenversicherung vorliegt oder kein Krankenversicherungsschutz besteht. | D13: X
A14: Die beschäftigte Person hat die Befreiung von der Rentenversicherungspflicht beantragt oder ist versicherungsfrei. Minijobberinnen und Minijobber sind vor dem Erreichen der Regelaltersgrenze versicherungspflichtig in der Rentenversicherung. Sie können jedoch die Befreiung von der Rentenversicherungspflicht beantragen. Nach dem Erreichen der Regelaltersgrenze sind sie versicherungsfrei. In diesen Fällen zahlt nur die Arbeitgeberin oder der Arbeitgeber 15 Prozent des monatlichen Verdienstes.
A15: Die Mindestbeitragsbemessungsgrundlage muss beachtet werden. Bitte ankreuzen, wenn der monatliche Verdienst der Minijobberin oder des Minijobbers (auch mit mehreren Minijobs zusammen) unter 175 Euro liegt und keine rentenversicherungspflichtige Hauptbeschäftigung ausgeübt wird. Für rentenversicherungspflichtige Minijobberinnen und Minijobber wird bei der Berechnung des Rentenversicherungsbeitrags mindestens ein Verdienst von 175 Euro zugrunde gelegt. Der Beitrag des Arbeitgebers oder der Arbeitgeberin beträgt auch in einem solchen Fall 15 Prozent des tatsächlichen Verdienstes. Die Minijobberin oder der Minijobber übernimmt die Differenz zum vollen Pflichtbeitrag.
A16: Für meinen Betrieb besteht keine Umlagepflicht zum Ausgleichsverfahren U1. Am Ausgleichsverfahren der Arbeitgeberaufwendungen im Krankheitsfall U1 nehmen alle Unternehmen teil, die regelmäßig nicht mehr als 30 Arbeitnehmerinnen oder Arbeitnehmer beschäftigen. Alle Informationen zur Umlagepflicht finden Sie auf der Internetseite der Arbeitgeberversicherung der KBS. Link: https://www.arbeitgeberversicherung.de Dort finden Sie auch den Rechner Umlagepflicht, mit dem Sie schnell und einfach feststellen, ob Ihr Unternehmen am Ausgleichsverfahren teilnimmt. (Menü => Rechner) | B16: =IF('Minijob 1'!B19="","",'Minijob 1'!B19)
A17: Ich bin von der Abführung der Insolvenzgeldumlage befreit. Die Insolvenzgeldumlage sichert Arbeitnehmerinnen und Arbeitnehmern im Fall einer Insolvenz ihres Arbeitgebers finanziell ab. Arbeitgeberinnen und Arbeitgeber, die Arbeitnehmer im Inland beschäftigen, sind zur Zahlung der Insolvenzgeldumlage verpflichtet. Welche Arbeitgeberinnen und Arbeitgeber von der Zahlung der Insolvenzgeldumlage ausgenommen sind, können Sie auf unserer Internetseite nachlesen. Link: https://www.minijob-zentrale.de =>Für Gewerbetreibende => Abgaben & Steuern | B17: =IF('Minijob 1'!B20="","",'Minijob 1'!B20)
A18: Anstelle der einheitlichen Pauschsteuer soll die individuelle Einkommensteuer abgeführt werden. Der Verdienst von Minijobberinnen und Minijobbern ist stets steuerpflichtig. Die Lohnsteuer kann pauschal mit zwei Prozent oder nach den individuellen Lohnsteuermerkmalen erhoben werden.
A19: In der folgenden Tabelle "Minijob_4_Beitragsberechnung" (drei Spalten) werden Ihre Angaben ausgewertet und die Beiträge für Minijob 4 berechnet.
A20: Abgabenart und Beitragsgruppe | B20: Höhe der Abgaben in Prozent | C20: Beträge in Euro
A21: zur Krankenversicherung (Beitragsgruppe 6000) | B21: =Beitragssätze!C5*100 -> 13 | C21: =C49 -> 0
A22: voller Beitrag zur Rentenversicherung (Beitragsgruppe 0100) | B22: =Beitragssätze!C6*100 -> 18.6 | C22: =C50 -> 0
A23: zur Rentenversicherung (Beitragsgruppe 0500) | B23: =Beitragssätze!C7*100 -> 15 | C23: =C51 -> 0
A24: Umlage 1 (Beitragsgruppe U1) | B24: =Beitragssätze!C8*100 -> 1.1 | C24: =C52 -> 0
A25: Umlage 2 (Beitragsgruppe U2) | B25: =Beitragssätze!C9*100 -> 0.22 | C25: =C53 -> 0
A26: Insolvenzgeldumlage (Beitragsgruppe INSO) | B26: =Beitragssätze!C10*100 -> 0.15 | C26: =C54 -> 0
A27: einheitliche Pauschsteuer (Beitragsgruppe ST) | B27: =Beitragssätze!C11*100 -> 2 | C27: =C55 -> 0
A28: Summe der Gesamtabgaben: | C28: =C56 -> 0
A29: Arbeitnehmeranteil bei Zahlung des vollen Beitrages zur Rentenversicherung (vom Verdienst einzubehalten): | C29: =C57 -> 0
A30: Der nachfolgende Bereich zeigt die Druckansicht für die Beitragsberechnung von Minijob 4.
A31: =Beitragssätze!A30 -> Minijob-Rechner (Excel) Version 1.2 barrierefrei (Stand 5. Mai 2025)
A32: Monatsabrechnung
A33: 1. Allgemeine Angaben
A35: Monat: | B35: =IF('Minijob 1'!B38:D38="","",'Minijob 1'!B38:D38)
A37: Name: | B37: =IF(B7="","",B7)
A39: Geburtsdatum: | B39: =IF(B8="","",B8)
A41: Versicherungsnummer: | B41: =IF(B9="","",B9)
A43: Betriebsnummer: | B43: =IF(B4="","",B4)
A45: monatlicher Verdienst: | B45: =B10 -> 0
A46: 2. Beitragsberechnung
A47: =Beitragssätze!A2 -> Der gewählte Zeitraum, für den die Berechnung gültig ist: ab Januar 2025
A48: Abgabenart | B48: Höhe der Abgaben in Prozent | C48: Beträge in Euro
A49: zur Krankenversicherung (Beitragsgruppe 6000) | B49: =Beitragssätze!C5*100 -> 13 | C49: =ROUND(D66,2) -> 0 | D49: =IF(B13="X",TRUE,FALSE) -> FALSE
A50: voller Beitrag zur Rentenversicherung (Beitragsgruppe 0100) | B50: =Beitragssätze!C6*100 -> 18.6 | C50: =ROUND(D68,2) -> 0 | D50: =IF(B14="X",TRUE,FALSE) -> FALSE
A51: zur Rentenversicherung (Beitragsgruppe 0500) | B51: =Beitragssätze!C7*100 -> 15 | C51: =ROUND(D67,2) -> 0 | D51: =IF(B15="X",TRUE,FALSE) -> FALSE
A52: Umlage 1 (Beitragsgruppe U1) | B52: =Beitragssätze!C8*100 -> 1.1 | C52: =ROUND(D69,2) -> 0 | D52: =IF(B16="X",TRUE,FALSE) -> FALSE
A53: Umlage 2 (Beitragsgruppe U2) | B53: =Beitragssätze!C9*100 -> 0.22 | C53: =ROUND(D71,2) -> 0 | D53: =FALSE -> FALSE
A54: Insolvenzgeldumlage (Beitragsgruppe INSO) | B54: =Beitragssätze!C10*100 -> 0.15 | C54: =ROUND(D72,2) -> 0 | D54: =IF(B17="X",TRUE,FALSE) -> FALSE
A55: einheitliche Pauschsteuer (Beitragsgruppe ST) | B55: =Beitragssätze!C11*100 -> 2 | C55: =TRUNC(D70,2) -> 0 | D55: =IF(B18="X",TRUE,FALSE) -> FALSE
A56: Summe der Gesamtabgaben: | C56: =SUM(C49:C55) -> 0 | D56: =IF(B19="X",TRUE,FALSE) -> FALSE
A57: Arbeitnehmeranteil bei Zahlung des vollen Beitrages zur Rentenversicherung (vom Verdienst einzubehalten): | C57: =IF(D63=FALSE,0,D63) -> 0
A58: Minijob-Zentrale, 45115 Essen • Service-Center: 0355 2902-70799 • Fax: 0201 384-979797 • minijob-zentrale.de
D63: =IF(D50,0,(IF(D43,(IF(AND(D43,D51=TRUE,D43<D73),IF(D50,0,D43*D74)+(D73-D43)*Beitragssätze!C6,D43*D74)),IF(B45,(IF(AND(B45,D51=TRUE,B45<D73),IF(D50,0,(ROUND(D73*Beitragssätze!C6,2))-(ROUND(B45*Beitragssätze!C7,2))),B45*D74)))))) -> FALSE
D66: =IF(D43,IF(D49,0,D43*Beitragssätze!C5),IF(D49,0,B45*Beitragssätze!C5)) -> 0
D67: =IF(D50,IF(D43,D43*Beitragssätze!C7,B45*Beitragssätze!C7)) -> FALSE
D68: =IF(D43,(IF(D50=TRUE,0,D43*Beitragssätze!C7+C57)),IF(D50=TRUE,0,IF(B45=0,0,B45*Beitragssätze!C7+C57))) -> 0
D69: =IF(D43,IF(D52,0,D43*Beitragssätze!C8),IF(D52,0,B45*Beitragssätze!C8)) -> 0
D70: =IF(D43,IF(D55,0,D43*Beitragssätze!C11),IF(D55,0,B45*Beitragssätze!C11)) -> 0
D71: =IF(D43,IF(D53,0,D43*Beitragssätze!C9),IF(D53,0,B45*Beitragssätze!C9)) -> 0
D72: =IF(D43,IF(D54,0,D43*Beitragssätze!C10),IF(D54,0,B45*Beitragssätze!C10)) -> 0
D73: =Beitragssätze!B14 -> 175
D74: =Beitragssätze!B15 -> 0.036

Sheet Minijob 5
A1: Das Tabellenblatt "Minijob 5" enthält drei untereinander angeordnete Tabellen. Die ersten beiden Tabellen werden für die Berechnung benötigt. Unter der Beitragsberechnung folgt eine Druckansicht.
A2: In der folgenden Tabelle "Minijob_5_Grunddaten" (zwei Spalten) werden grundsätzliche Angaben für die Berechnung und den fünften Beschäftigten erfragt. Die Daten werden in Spalte B hinterlegt.
A3: Abfrage der Grunddaten zur Berechnung | B3: Ihre Angaben
A4: Ihre Betriebsnummer | B4: =IF('Minijob 1'!B7="","",'Minijob 1'!B7)
A5: Von Minijob 1 wird der Zeitraum der gültigen Beitragssätze übernommen. | B5: ='Minijob 1'!B8 -> ab Januar 2025
A6: Von Minijob 1 wird Monat und Jahr der aktuellen Berechnung übernommen. | B6: =IF('Minijob 1'!B9="","",'Minijob 1'!B9)
A7: Geben Sie bitte den Namen für Minijob 5 an.
A8: Hier können Sie das Geburtsdatum für Minijob 5 angeben.
A9: Hier können Sie die Sozialversicherungsnummer für Minijob 5 angeben.
A10: Geben Sie bitte den monatlichen Verdienst für Minijob 5 an. Das ist das vereinbarte Bruttoentgelt, also der Betrag vor Abzug von eventuell einbehaltenen Steuern und des Beitragsanteils der Minijobberin oder des Minijobbers bei Rentenversicherungspflicht. Minijobber und Minijobberinnen dürfen durchschnittlich im Monat nicht mehr als bis zur jeweils gültigen Minijob-Verdienstgrenze verdienen. Sofern der Verdienst monatlich schwankt oder Sonderzahlungen wie z. B. Weihnachts- oder Urlaubsgeld anfallen, geben Sie hier bitte den durchschnittlichen Monatsverdienst ein. | B10: 0
A11: In der folgenden Tabelle "Minijob_5_Beitragsrechtliches" (zwei Spalten) werden beitragsrelevante Aussagen aufgestellt, welche in Spalte B mit einem X bestätigt werden können, sofern diese zutreffend sind. (ähnlich einer Checkbox)
A12: beitragsrelevante Aussagen | B12: Aussage trifft zu
A13: Die beschäftigte Person ist nicht gesetzlich krankenversichert. Bitte ankreuzen, wenn die Minijobberin oder der Minijobber nicht gesetzlich krankenversichert ist. Das ist der Fall, wenn eine private Krankenversicherung vorliegt oder kein Krankenversicherungsschutz besteht. | D13: X
A14: Die beschäftigte Person hat die Befreiung von der Rentenversicherungspflicht beantragt oder ist versicherungsfrei. Minijobberinnen und Minijobber sind vor dem Erreichen der Regelaltersgrenze versicherungspflichtig in der Rentenversicherung. Sie können jedoch die Befreiung von der Rentenversicherungspflicht beantragen. Nach dem Erreichen der Regelaltersgrenze sind sie versicherungsfrei. In diesen Fällen zahlt nur die Arbeitgeberin oder der Arbeitgeber 15 Prozent des monatlichen Verdienstes.
A15: Die Mindestbeitragsbemessungsgrundlage muss beachtet werden. Bitte ankreuzen, wenn der monatliche Verdienst der Minijobberin oder des Minijobbers (auch mit mehreren Minijobs zusammen) unter 175 Euro liegt und keine rentenversicherungspflichtige Hauptbeschäftigung ausgeübt wird. Für rentenversicherungspflichtige Minijobberinnen und Minijobber wird bei der Berechnung des Rentenversicherungsbeitrags mindestens ein Verdienst von 175 Euro zugrunde gelegt. Der Beitrag des Arbeitgebers oder der Arbeitgeberin beträgt auch in einem solchen Fall 15 Prozent des tatsächlichen Verdienstes. Die Minijobberin oder der Minijobber übernimmt die Differenz zum vollen Pflichtbeitrag.
A16: Für meinen Betrieb besteht keine Umlagepflicht zum Ausgleichsverfahren U1. Am Ausgleichsverfahren der Arbeitgeberaufwendungen im Krankheitsfall U1 nehmen alle Unternehmen teil, die regelmäßig nicht mehr als 30 Arbeitnehmerinnen oder Arbeitnehmer beschäftigen. Alle Informationen zur Umlagepflicht finden Sie auf der Internetseite der Arbeitgeberversicherung der KBS. Link: https://www.arbeitgeberversicherung.de Dort finden Sie auch den Rechner Umlagepflicht, mit dem Sie schnell und einfach feststellen, ob Ihr Unternehmen am Ausgleichsverfahren teilnimmt. (Menü => Rechner) | B16: =IF('Minijob 1'!B19="","",'Minijob 1'!B19)
A17: Ich bin von der Abführung der Insolvenzgeldumlage befreit. Die Insolvenzgeldumlage sichert Arbeitnehmerinnen und Arbeitnehmern im Fall einer Insolvenz ihres Arbeitgebers finanziell ab. Arbeitgeberinnen und Arbeitgeber, die Arbeitnehmer im Inland beschäftigen, sind zur Zahlung der Insolvenzgeldumlage verpflichtet. Welche Arbeitgeberinnen und Arbeitgeber von der Zahlung der Insolvenzgeldumlage ausgenommen sind, können Sie auf unserer Internetseite nachlesen. Link: https://www.minijob-zentrale.de =>Für Gewerbetreibende => Abgaben & Steuern | B17: =IF('Minijob 1'!B20="","",'Minijob 1'!B20)
A18: Anstelle der einheitlichen Pauschsteuer soll die individuelle Einkommensteuer abgeführt werden. Der Verdienst von Minijobberinnen und Minijobbern ist stets steuerpflichtig. Die Lohnsteuer kann pauschal mit zwei Prozent oder nach den individuellen Lohnsteuermerkmalen erhoben werden.
A19: In der folgenden Tabelle "Minijob_5_Beitragsberechnung" (drei Spalten) werden Ihre Angaben ausgewertet und die Beiträge für Minijob 5 berechnet.
A20: Abgabenart und Beitragsgruppe | B20: Höhe der Abgaben in Prozent | C20: Beträge in Euro
A21: zur Krankenversicherung (Beitragsgruppe 6000) | B21: =Beitragssätze!C5*100 -> 13 | C21: =C49 -> 0
A22: voller Beitrag zur Rentenversicherung (Beitragsgruppe 0100) | B22: =Beitragssätze!C6*100 -> 18.6 | C22: =C50 -> 0
A23: zur Rentenversicherung (Beitragsgruppe 0500) | B23: =Beitragssätze!C7*100 -> 15 | C23: =C51 -> 0
A24: Umlage 1 (Beitragsgruppe U1) | B24: =Beitragssätze!C8*100 -> 1.1 | C24: =C52 -> 0
A25: Umlage 2 (Beitragsgruppe U2) | B25: =Beitragssätze!C9*100 -> 0.22 | C25: =C53 -> 0
A26: Insolvenzgeldumlage (Beitragsgruppe INSO) | B26: =Beitragssätze!C10*100 -> 0.15 | C26: =C54 -> 0
A27: einheitliche Pauschsteuer (Beitragsgruppe ST) | B27: =Beitragssätze!C11*100 -> 2 | C27: =C55 -> 0
A28: Summe der Gesamtabgaben: | C28: =C56 -> 0
A29: Arbeitnehmeranteil bei Zahlung des vollen Beitrages zur Rentenversicherung (vom Verdienst einzubehalten): | C29: =C57 -> 0
A30: Der nachfolgende Bereich zeigt die Druckansicht für die Beitragsberechnung von Minijob 5.
A31: =Beitragssätze!A30 -> Minijob-Rechner (Excel) Version 1.2 barrierefrei (Stand 5. Mai 2025)
A32: Monatsabrechnung
A33: 1. Allgemeine Angaben
A35: Monat: | B35: =IF('Minijob 1'!B38:D38="","",'Minijob 1'!B38:D38)
A37: Name: | B37: =IF(B7="","",B7)
A39: Geburtsdatum:
A41: Versicherungsnummer: | B41: =IF(B9="","",B9)
A43: Betriebsnummer: | B43: =IF(B4="","",B4)
A45: monatlicher Verdienst: | B45: =B10 -> 0
A46: 2. Beitragsberechnung
A47: =Beitragssätze!A2 -> Der gewählte Zeitraum, für den die Berechnung gültig ist: ab Januar 2025
A48: Abgabenart | B48: Höhe der Abgaben in Prozent | C48: Beträge in Euro
A49: zur Krankenversicherung (Beitragsgruppe 6000) | B49: =Beitragssätze!C5*100 -> 13 | C49: =ROUND(D66,2) -> 0 | D49: =IF(B13="X",TRUE,FALSE) -> FALSE
A50: voller Beitrag zur Rentenversicherung (Beitragsgruppe 0100) | B50: =Beitragssätze!C6*100 -> 18.6 | C50: =ROUND(D68,2) -> 0 | D50: =IF(B14="X",TRUE,FALSE) -> FALSE
A51: zur Rentenversicherung (Beitragsgruppe 0500) | B51: =Beitragssätze!C7*100 -> 15 | C51: =ROUND(D67,2) -> 0 | D51: =IF(B15="X",TRUE,FALSE) -> FALSE
A52: Umlage 1 (Beitragsgruppe U1) | B52: =Beitragssätze!C8*100 -> 1.1 | C52: =ROUND(D69,2) -> 0 | D52: =IF(B16="X",TRUE,FALSE) -> FALSE
A53: Umlage 2 (Beitragsgruppe U2) | B53: =Beitragssätze!C9*100 -> 0.22 | C53: =ROUND(D71,2) -> 0 | D53: =FALSE -> FALSE
A54: Insolvenzgeldumlage (Beitragsgruppe INSO) | B54: =Beitragssätze!C10*100 -> 0.15 | C54: =ROUND(D72,2) -> 0 | D54: =IF(B17="X",TRUE,FALSE) -> FALSE
A55: einheitliche Pauschsteuer (Beitragsgruppe ST) | B55: =Beitragssätze!C11*100 -> 2 | C55: =TRUNC(D70,2) -> 0 | D55: =IF(B18="X",TRUE,FALSE) -> FALSE
A56: Summe der Gesamtabgaben: | C56: =SUM(C49:C55) -> 0 | D56: =IF(B19="X",TRUE,FALSE) -> FALSE
A57: Arbeitnehmeranteil bei Zahlung des vollen Beitrages zur Rentenversicherung (vom Verdienst einzubehalten): | C57: =IF(D63=FALSE,0,D63) -> 0
A58: Minijob-Zentrale, 45115 Essen • Service-Center: 0355 2902-70799 • Fax: 0201 384-979797 • minijob-zentrale.de
D63: =IF(D50,0,(IF(D43,(IF(AND(D43,D51=TRUE,D43<D73),IF(D50,0,D43*D74)+(D73-D43)*Beitragssätze!C6,D43*D74)),IF(B45,(IF(AND(B45,D51=TRUE,B45<D73),IF(D50,0,(ROUND(D73*Beitragssätze!C6,2))-(ROUND(B45*Beitragssätze!C7,2))),B45*D74)))))) -> FALSE
D66: =IF(D43,IF(D49,0,D43*Beitragssätze!C5),IF(D49,0,B45*Beitragssätze!C5)) -> 0
D67: =IF(D50,IF(D43,D43*Beitragssätze!C7,B45*Beitragssätze!C7)) -> FALSE
D68: =IF(D43,(IF(D50=TRUE,0,D43*Beitragssätze!C7+C57)),IF(D50=TRUE,0,IF(B45=0,0,B45*Beitragssätze!C7+C57))) -> 0
D69: =IF(D43,IF(D52,0,D43*Beitragssätze!C8),IF(D52,0,B45*Beitragssätze!C8)) -> 0
D70: =IF(D43,IF(D55,0,D43*Beitragssätze!C11),IF(D55,0,B45*Beitragssätze!C11)) -> 0
D71: =IF(D43,IF(D53,0,D43*Beitragssätze!C9),IF(D53,0,B45*Beitragssätze!C9)) -> 0
D72: =IF(D43,IF(D54,0,D43*Beitragssätze!C10),IF(D54,0,B45*Beitragssätze!C10)) -> 0
D73: =Beitragssätze!B14 -> 175
D74: =Beitragssätze!B15 -> 0.036

Sheet Minijob 6
A1: Das Tabellenblatt "Minijob 6" enthält drei untereinander angeordnete Tabellen. Die ersten beiden Tabellen werden für die Berechnung benötigt. Unter der Beitragsberechnung folgt eine Druckansicht.
A2: In der folgenden Tabelle "Minijob_6_Grunddaten" (zwei Spalten) werden grundsätzliche Angaben für die Berechnung und den sechsten Beschäftigten erfragt. Die Daten werden in Spalte B hinterlegt.
A3: Abfrage der Grunddaten zur Berechnung | B3: Ihre Angaben
A4: Ihre Betriebsnummer | B4: =IF('Minijob 1'!B7="","",'Minijob 1'!B7)
A5: Von Minijob 1 wird der Zeitraum der gültigen Beitragssätze übernommen. | B5: ='Minijob 1'!B8 -> ab Januar 2025
A6: Von Minijob 1 wird Monat und Jahr der aktuellen Berechnung übernommen. | B6: =IF('Minijob 1'!B9="","",'Minijob 1'!B9)
A7: Geben Sie bitte den Namen für Minijob 6 an.
A8: Hier können Sie das Geburtsdatum für Minijob 6 angeben.
A9: Hier können Sie die Sozialversicherungsnummer für Minijob 6 angeben.
A10: Geben Sie bitte den monatlichen Verdienst für Minijob 6 an. Das ist das vereinbarte Bruttoentgelt, also der Betrag vor Abzug von eventuell einbehaltenen Steuern und des Beitragsanteils der Minijobberin oder des Minijobbers bei Rentenversicherungspflicht. Minijobber und Minijobberinnen dürfen durchschnittlich im Monat nicht mehr als bis zur jeweils gültigen Minijob-Verdienstgrenze verdienen. Sofern der Verdienst monatlich schwankt oder Sonderzahlungen wie z. B. Weihnachts- oder Urlaubsgeld anfallen, geben Sie hier bitte den durchschnittlichen Monatsverdienst ein. | B10: 0
A11: In der folgenden Tabelle "Minijob_6_Beitragsrechtliches" (zwei Spalten) werden beitragsrelevante Aussagen aufgestellt, welche in Spalte B mit einem X bestätigt werden können, sofern diese zutreffend sind. (ähnlich einer Checkbox)
A12: beitragsrelevante Aussagen | B12: Aussage trifft zu
A13: Die beschäftigte Person ist nicht gesetzlich krankenversichert. Bitte ankreuzen, wenn die Minijobberin oder der Minijobber nicht gesetzlich krankenversichert ist. Das ist der Fall, wenn eine private Krankenversicherung vorliegt oder kein Krankenversicherungsschutz besteht. | D13: X
A14: Die beschäftigte Person hat die Befreiung von der Rentenversicherungspflicht beantragt oder ist versicherungsfrei. Minijobberinnen und Minijobber sind vor dem Erreichen der Regelaltersgrenze versicherungspflichtig in der Rentenversicherung. Sie können jedoch die Befreiung von der Rentenversicherungspflicht beantragen. Nach dem Erreichen der Regelaltersgrenze sind sie versicherungsfrei. In diesen Fällen zahlt nur die Arbeitgeberin oder der Arbeitgeber 15 Prozent des monatlichen Verdienstes.
A15: Die Mindestbeitragsbemessungsgrundlage muss beachtet werden. Bitte ankreuzen, wenn der monatliche Verdienst der Minijobberin oder des Minijobbers (auch mit mehreren Minijobs zusammen) unter 175 Euro liegt und keine rentenversicherungspflichtige Hauptbeschäftigung ausgeübt wird. Für rentenversicherungspflichtige Minijobberinnen und Minijobber wird bei der Berechnung des Rentenversicherungsbeitrags mindestens ein Verdienst von 175 Euro zugrunde gelegt. Der Beitrag des Arbeitgebers oder der Arbeitgeberin beträgt auch in einem solchen Fall 15 Prozent des tatsächlichen Verdienstes. Die Minijobberin oder der Minijobber übernimmt die Differenz zum vollen Pflichtbeitrag.
A16: Für meinen Betrieb besteht keine Umlagepflicht zum Ausgleichsverfahren U1. Am Ausgleichsverfahren der Arbeitgeberaufwendungen im Krankheitsfall U1 nehmen alle Unternehmen teil, die regelmäßig nicht mehr als 30 Arbeitnehmerinnen oder Arbeitnehmer beschäftigen. Alle Informationen zur Umlagepflicht finden Sie auf der Internetseite der Arbeitgeberversicherung der KBS. Link: https://www.arbeitgeberversicherung.de Dort finden Sie auch den Rechner Umlagepflicht, mit dem Sie schnell und einfach feststellen, ob Ihr Unternehmen am Ausgleichsverfahren teilnimmt. (Menü => Rechner) | B16: =IF('Minijob 1'!B19="","",'Minijob 1'!B19)
A17: Ich bin von der Abführung der Insolvenzgeldumlage befreit. Die Insolvenzgeldumlage sichert Arbeitnehmerinnen und Arbeitnehmern im Fall einer Insolvenz ihres Arbeitgebers finanziell ab. Arbeitgeberinnen und Arbeitgeber, die Arbeitnehmer im Inland beschäftigen, sind zur Zahlung der Insolvenzgeldumlage verpflichtet. Welche Arbeitgeberinnen und Arbeitgeber von der Zahlung der Insolvenzgeldumlage ausgenommen sind, können Sie auf unserer Internetseite nachlesen. Link: https://www.minijob-zentrale.de =>Für Gewerbetreibende => Abgaben & Steuern | B17: =IF('Minijob 1'!B20="","",'Minijob 1'!B20)
A18: Anstelle der einheitlichen Pauschsteuer soll die individuelle Einkommensteuer abgeführt werden. Der Verdienst von Minijobberinnen und Minijobbern ist stets steuerpflichtig. Die Lohnsteuer kann pauschal mit zwei Prozent oder nach den individuellen Lohnsteuermerkmalen erhoben werden.
A19: In der folgenden Tabelle "Minijob_6_Beitragsberechnung" (drei Spalten) werden Ihre Angaben ausgewertet und die Beiträge für Minijob 6 berechnet.
A20: Abgabenart und Beitragsgruppe | B20: Höhe der Abgaben in Prozent | C20: Beträge in Euro
A21: zur Krankenversicherung (Beitragsgruppe 6000) | B21: =Beitragssätze!C5*100 -> 13 | C21: =C49 -> 0
A22: voller Beitrag zur Rentenversicherung (Beitragsgruppe 0100) | B22: =Beitragssätze!C6*100 -> 18.6 | C22: =C50 -> 0
A23: zur Rentenversicherung (Beitragsgruppe 0500) | B23: =Beitragssätze!C7*100 -> 15 | C23: =C51 -> 0
A24: Umlage 1 (Beitragsgruppe U1) | B24: =Beitragssätze!C8*100 -> 1.1 | C24: =C52 -> 0
A25: Umlage 2 (Beitragsgruppe U2) | B25: =Beitragssätze!C9*100 -> 0.22 | C25: =C53 -> 0
A26: Insolvenzgeldumlage (Beitragsgruppe INSO) | B26: =Beitragssätze!C10*100 -> 0.15 | C26: =C54 -> 0
A27: einheitliche Pauschsteuer (Beitragsgruppe ST) | B27: =Beitragssätze!C11*100 -> 2 | C27: =C55 -> 0
A28: Summe der Gesamtabgaben: | C28: =C56 -> 0
A29: Arbeitnehmeranteil bei Zahlung des vollen Beitrages zur Rentenversicherung (vom Verdienst einzubehalten): | C29: =C57 -> 0
A30: Der nachfolgende Bereich zeigt die Druckansicht für die Beitragsberechnung von Minijob 6.
A31: =Beitragssätze!A30 -> Minijob-Rechner (Excel) Version 1.2 barrierefrei (Stand 5. Mai 2025)
A32: Monatsabrechnung
A33: 1. Allgemeine Angaben
A35: Monat: | B35: =IF('Minijob 1'!B38:D38="","",'Minijob 1'!B38:D38)
A37: Name: | B37: =IF(B7="","",B7)
A39: Geburtsdatum: | B39: =IF(B8="","",B8)
A41: Versicherungsnummer: | B41: =IF(B9="","",B9)
A43: Betriebsnummer: | B43: =IF(B4="","",B4)
A45: monatlicher Verdienst: | B45: =B10 -> 0
A46: 2. Beitragsberechnung
A47: =Beitragssätze!A2 -> Der gewählte Zeitraum, für den die Berechnung gültig ist: ab Januar 2025
A48: Abgabenart | B48: Höhe der Abgaben in Prozent | C48: Beträge in Euro
A49: zur Krankenversicherung (Beitragsgruppe 6000) | B49: =Beitragssätze!C5*100 -> 13 | C49: =ROUND(D66,2) -> 0 | D49: =IF(B13="X",TRUE,FALSE) -> FALSE
A50: voller Beitrag zur Rentenversicherung (Beitragsgruppe 0100) | B50: =Beitragssätze!C6*100 -> 18.6 | C50: =ROUND(D68,2) -> 0 | D50: =IF(B14="X",TRUE,FALSE) -> FALSE
A51: zur Rentenversicherung (Beitragsgruppe 0500) | B51: =Beitragssätze!C7*100 -> 15 | C51: =ROUND(D67,2) -> 0 | D51: =IF(B15="X",TRUE,FALSE) -> FALSE
A52: Umlage 1 (Beitragsgruppe U1) | B52: =Beitragssätze!C8*100 -> 1.1 | C52: =ROUND(D69,2) -> 0 | D52: =IF(B16="X",TRUE,FALSE) -> FALSE
A53: Umlage 2 (Beitragsgruppe U2) | B53: =Beitragssätze!C9*100 -> 0.22 | C53: =ROUND(D71,2) -> 0 | D53: =FALSE -> FALSE
A54: Insolvenzgeldumlage (Beitragsgruppe INSO) | B54: =Beitragssätze!C10*100 -> 0.15 | C54: =ROUND(D72,2) -> 0 | D54: =IF(B17="X",TRUE,FALSE) -> FALSE
A55: einheitliche Pauschsteuer (Beitragsgruppe ST) | B55: =Beitragssätze!C11*100 -> 2 | C55: =TRUNC(D70,2) -> 0 | D55: =IF(B18="X",TRUE,FALSE) -> FALSE
A56: Summe der Gesamtabgaben: | C56: =SUM(C49:C55) -> 0 | D56: =IF(B19="X",TRUE,FALSE) -> FALSE
A57: Arbeitnehmeranteil bei Zahlung des vollen Beitrages zur Rentenversicherung (vom Verdienst einzubehalten): | C57: =IF(D63=FALSE,0,D63) -> 0
A58: Minijob-Zentrale, 45115 Essen • Service-Center: 0355 2902-70799 • Fax: 0201 384-979797 • minijob-zentrale.de
D63: =IF(D50,0,(IF(D43,(IF(AND(D43,D51=TRUE,D43<D73),IF(D50,0,D43*D74)+(D73-D43)*Beitragssätze!C6,D43*D74)),IF(B45,(IF(AND(B45,D51=TRUE,B45<D73),IF(D50,0,(ROUND(D73*Beitragssätze!C6,2))-(ROUND(B45*Beitragssätze!C7,2))),B45*D74)))))) -> FALSE
D66: =IF(D43,IF(D49,0,D43*Beitragssätze!C5),IF(D49,0,B45*Beitragssätze!C5)) -> 0
D67: =IF(D50,IF(D43,D43*Beitragssätze!C7,B45*Beitragssätze!C7)) -> FALSE
D68: =IF(D43,(IF(D50=TRUE,0,D43*Beitragssätze!C7+C57)),IF(D50=TRUE,0,IF(B45=0,0,B45*Beitragssätze!C7+C57))) -> 0
D69: =IF(D43,IF(D52,0,D43*Beitragssätze!C8),IF(D52,0,B45*Beitragssätze!C8)) -> 0
D70: =IF(D43,IF(D55,0,D43*Beitragssätze!C11),IF(D55,0,B45*Beitragssätze!C11)) -> 0
D71: =IF(D43,IF(D53,0,D43*Beitragssätze!C9),IF(D53,0,B45*Beitragssätze!C9)) -> 0
D72: =IF(D43,IF(D54,0,D43*Beitragssätze!C10),IF(D54,0,B45*Beitragssätze!C10)) -> 0
D73: =Beitragssätze!B14 -> 175
D74: =Beitragssätze!B15 -> 0.036

Sheet Minijob 7
A1: Das Tabellenblatt "Minijob 7" enthält drei untereinander angeordnete Tabellen. Die ersten beiden Tabellen werden für die Berechnung benötigt. Unter der Beitragsberechnung folgt eine Druckansicht.
A2: In der folgenden Tabelle "Minijob_7_Grunddaten" (zwei Spalten) werden grundsätzliche Angaben für die Berechnung und den siebten Beschäftigten erfragt. Die Daten werden in Spalte B hinterlegt.
A3: Abfrage der Grunddaten zur Berechnung | B3: Ihre Angaben
A4: Ihre Betriebsnummer | B4: =IF('Minijob 1'!B7="","",'Minijob 1'!B7)
A5: Von Minijob 1 wird der Zeitraum der gültigen Beitragssätze übernommen. | B5: ='Minijob 1'!B8 -> ab Januar 2025
A6: Von Minijob 1 wird Monat und Jahr der aktuellen Berechnung übernommen. | B6: =IF('Minijob 1'!B9="","",'Minijob 1'!B9)
A7: Geben Sie bitte den Namen für Minijob 7 an.
A8: Hier können Sie das Geburtsdatum für Minijob 7 angeben.
A9: Hier können Sie die Sozialversicherungsnummer für Minijob 7 angeben.
A10: Geben Sie bitte den monatlichen Verdienst für Minijob 7 an. Das ist das vereinbarte Bruttoentgelt, also der Betrag vor Abzug von eventuell einbehaltenen Steuern und des Beitragsanteils der Minijobberin oder des Minijobbers bei Rentenversicherungspflicht. Minijobber und Minijobberinnen dürfen durchschnittlich im Monat nicht mehr als bis zur jeweils gültigen Minijob-Verdienstgrenze verdienen. Sofern der Verdienst monatlich schwankt oder Sonderzahlungen wie z. B. Weihnachts- oder Urlaubsgeld anfallen, geben Sie hier bitte den durchschnittlichen Monatsverdienst ein. | B10: 0
A11: In der folgenden Tabelle "Minijob_7_Beitragsrechtliches" (zwei Spalten) werden beitragsrelevante Aussagen aufgestellt, welche in Spalte B mit einem X bestätigt werden können, sofern diese zutreffend sind. (ähnlich einer Checkbox)
A12: beitragsrelevante Aussagen | B12: Aussage trifft zu
A13: Die beschäftigte Person ist nicht gesetzlich krankenversichert. Bitte ankreuzen, wenn die Minijobberin oder der Minijobber nicht gesetzlich krankenversichert ist. Das ist der Fall, wenn eine private Krankenversicherung vorliegt oder kein Krankenversicherungsschutz besteht. | D13: X
A14: Die beschäftigte Person hat die Befreiung von der Rentenversicherungspflicht beantragt oder ist versicherungsfrei. Minijobberinnen und Minijobber sind vor dem Erreichen der Regelaltersgrenze versicherungspflichtig in der Rentenversicherung. Sie können jedoch die Befreiung von der Rentenversicherungspflicht beantragen. Nach dem Erreichen der Regelaltersgrenze sind sie versicherungsfrei. In diesen Fällen zahlt nur die Arbeitgeberin oder der Arbeitgeber 15 Prozent des monatlichen Verdienstes.
A15: Die Mindestbeitragsbemessungsgrundlage muss beachtet werden. Bitte ankreuzen, wenn der monatliche Verdienst der Minijobberin oder des Minijobbers (auch mit mehreren Minijobs zusammen) unter 175 Euro liegt und keine rentenversicherungspflichtige Hauptbeschäftigung ausgeübt wird. Für rentenversicherungspflichtige Minijobberinnen und Minijobber wird bei der Berechnung des Rentenversicherungsbeitrags mindestens ein Verdienst von 175 Euro zugrunde gelegt. Der Beitrag des Arbeitgebers oder der Arbeitgeberin beträgt auch in einem solchen Fall 15 Prozent des tatsächlichen Verdienstes. Die Minijobberin oder der Minijobber übernimmt die Differenz zum vollen Pflichtbeitrag.
A16: Für meinen Betrieb besteht keine Umlagepflicht zum Ausgleichsverfahren U1. Am Ausgleichsverfahren der Arbeitgeberaufwendungen im Krankheitsfall U1 nehmen alle Unternehmen teil, die regelmäßig nicht mehr als 30 Arbeitnehmerinnen oder Arbeitnehmer beschäftigen. Alle Informationen zur Umlagepflicht finden Sie auf der Internetseite der Arbeitgeberversicherung der KBS. Link: https://www.arbeitgeberversicherung.de Dort finden Sie auch den Rechner Umlagepflicht, mit dem Sie schnell und einfach feststellen, ob Ihr Unternehmen am Ausgleichsverfahren teilnimmt. (Menü => Rechner) | B16: =IF('Minijob 1'!B19="","",'Minijob 1'!B19)
A17: Ich bin von der Abführung der Insolvenzgeldumlage befreit. Die Insolvenzgeldumlage sichert Arbeitnehmerinnen und Arbeitnehmern im Fall einer Insolvenz ihres Arbeitgebers finanziell ab. Arbeitgeberinnen und Arbeitgeber, die Arbeitnehmer im Inland beschäftigen, sind zur Zahlung der Insolvenzgeldumlage verpflichtet. Welche Arbeitgeberinnen und Arbeitgeber von der Zahlung der Insolvenzgeldumlage ausgenommen sind, können Sie auf unserer Internetseite nachlesen. Link: https://www.minijob-zentrale.de =>Für Gewerbetreibende => Abgaben & Steuern | B17: =IF('Minijob 1'!B20="","",'Minijob 1'!B20)
A18: Anstelle der einheitlichen Pauschsteuer soll die individuelle Einkommensteuer abgeführt werden. Der Verdienst von Minijobberinnen und Minijobbern ist stets steuerpflichtig. Die Lohnsteuer kann pauschal mit zwei Prozent oder nach den individuellen Lohnsteuermerkmalen erhoben werden.
A19: In der folgenden Tabelle "Minijob_7_Beitragsberechnung" (drei Spalten) werden Ihre Angaben ausgewertet und die Beiträge für Minijob 7 berechnet.
A20: Abgabenart und Beitragsgruppe | B20: Höhe der Abgaben in Prozent | C20: Beträge in Euro
A21: zur Krankenversicherung (Beitragsgruppe 6000) | B21: =Beitragssätze!C5*100 -> 13 | C21: =C49 -> 0
A22: voller Beitrag zur Rentenversicherung (Beitragsgruppe 0100) | B22: =Beitragssätze!C6*100 -> 18.6 | C22: =C50 -> 0
A23: zur Rentenversicherung (Beitragsgruppe 0500) | B23: =Beitragssätze!C7*100 -> 15 | C23: =C51 -> 0
A24: Umlage 1 (Beitragsgruppe U1) | B24: =Beitragssätze!C8*100 -> 1.1 | C24: =C52 -> 0
A25: Umlage 2 (Beitragsgruppe U2) | B25: =Beitragssätze!C9*100 -> 0.22 | C25: =C53 -> 0
A26: Insolvenzgeldumlage (Beitragsgruppe INSO) | B26: =Beitragssätze!C10*100 -> 0.15 | C26: =C54 -> 0
A27: einheitliche Pauschsteuer (Beitragsgruppe ST) | B27: =Beitragssätze!C11*100 -> 2 | C27: =C55 -> 0
A28: Summe der Gesamtabgaben: | C28: =C56 -> 0
A29: Arbeitnehmeranteil bei Zahlung des vollen Beitrages zur Rentenversicherung (vom Verdienst einzubehalten): | C29: =C57 -> 0
A30: Der nachfolgende Bereich zeigt die Druckansicht für die Beitragsberechnung von Minijob 7.
A31: =Beitragssätze!A30 -> Minijob-Rechner (Excel) Version 1.2 barrierefrei (Stand 5. Mai 2025)
A32: Monatsabrechnung
A33: 1. Allgemeine Angaben
A35: Monat: | B35: =IF('Minijob 1'!$B$38:$D$38="","",'Minijob 1'!$B$38:$D$38)
A37: Name: | B37: =IF(B7="","",B7)
A39: Geburtsdatum: | B39: =IF(B8="","",B8)
A41: Versicherungsnummer: | B41: =IF(B9="","",B9)
A43: Betriebsnummer: | B43: =IF(B4="","",B4)
A45: monatlicher Verdienst: | B45: =B10 -> 0
A46: 2. Beitragsberechnung
A47: =Beitragssätze!A2 -> Der gewählte Zeitraum, für den die Berechnung gültig ist: ab Januar 2025
A48: Abgabenart | B48: Höhe der Abgaben in Prozent | C48: Beträge in Euro
A49: zur Krankenversicherung (Beitragsgruppe 6000) | B49: =Beitragssätze!C5*100 -> 13 | C49: =ROUND(D66,2) -> 0 | D49: =IF(B13="X",TRUE,FALSE) -> FALSE
A50: voller Beitrag zur Rentenversicherung (Beitragsgruppe 0100) | B50: =Beitragssätze!C6*100 -> 18.6 | C50: =ROUND(D68,2) -> 0 | D50: =IF(B14="X",TRUE,FALSE) -> FALSE
A51: zur Rentenversicherung (Beitragsgruppe 0500) | B51: =Beitragssätze!C7*100 -> 15 | C51: =ROUND(D67,2) -> 0 | D51: =IF(B15="X",TRUE,FALSE) -> FALSE
A52: Umlage 1 (Beitragsgruppe U1) | B52: =Beitragssätze!C8*100 -> 1.1 | C52: =ROUND(D69,2) -> 0 | D52: =IF(B16="X",TRUE,FALSE) -> FALSE
A53: Umlage 2 (Beitragsgruppe U2) | B53: =Beitragssätze!C9*100 -> 0.22 | C53: =ROUND(D71,2) -> 0 | D53: =FALSE -> FALSE
A54: Insolvenzgeldumlage (Beitragsgruppe INSO) | B54: =Beitragssätze!C10*100 -> 0.15 | C54: =ROUND(D72,2) -> 0 | D54: =IF(B17="X",TRUE,FALSE) -> FALSE
A55: einheitliche Pauschsteuer (Beitragsgruppe ST) | B55: =Beitragssätze!C11*100 -> 2 | C55: =TRUNC(D70,2) -> 0 | D55: =IF(B18="X",TRUE,FALSE) -> FALSE
A56: Summe der Gesamtabgaben: | C56: =SUM(C49:C55) -> 0 | D56: =IF(B19="X",TRUE,FALSE) -> FALSE
A57: Arbeitnehmeranteil bei Zahlung des vollen Beitrages zur Rentenversicherung (vom Verdienst einzubehalten): | C57: =IF(D63=FALSE,0,D63) -> 0
A58: Minijob-Zentrale, 45115 Essen • Service-Center: 0355 2902-70799 • Fax: 0201 384-979797 • minijob-zentrale.de
D63: =IF(D50,0,(IF(D43,(IF(AND(D43,D51=TRUE,D43<D73),IF(D50,0,D43*D74)+(D73-D43)*Beitragssätze!C6,D43*D74)),IF(B45,(IF(AND(B45,D51=TRUE,B45<D73),IF(D50,0,(ROUND(D73*Beitragssätze!C6,2))-(ROUND(B45*Beitragssätze!C7,2))),B45*D74)))))) -> FALSE
D66: =IF(D43,IF(D49,0,D43*Beitragssätze!C5),IF(D49,0,B45*Beitragssätze!C5)) -> 0
D67: =IF(D50,IF(D43,D43*Beitragssätze!C7,B45*Beitragssätze!C7)) -> FALSE
D68: =IF(D43,(IF(D50=TRUE,0,D43*Beitragssätze!C7+C57)),IF(D50=TRUE,0,IF(B45=0,0,B45*Beitragssätze!C7+C57))) -> 0
D69: =IF(D43,IF(D52,0,D43*Beitragssätze!C8),IF(D52,0,B45*Beitragssätze!C8)) -> 0
D70: =IF(D43,IF(D55,0,D43*Beitragssätze!C11),IF(D55,0,B45*Beitragssätze!C11)) -> 0
D71: =IF(D43,IF(D53,0,D43*Beitragssätze!C9),IF(D53,0,B45*Beitragssätze!C9)) -> 0
D72: =IF(D43,IF(D54,0,D43*Beitragssätze!C10),IF(D54,0,B45*Beitragssätze!C10)) -> 0
D73: =Beitragssätze!B14 -> 175
D74: =Beitragssätze!B15 -> 0.036

Sheet Minijob 8
A1: Das Tabellenblatt "Minijob 8" enthält drei untereinander angeordnete Tabellen. Die ersten beiden Tabellen werden für die Berechnung benötigt. Unter der Beitragsberechnung folgt eine Druckansicht.
A2: In der folgenden Tabelle "Minijob_8_Grunddaten" (zwei Spalten) werden grundsätzliche Angaben für die Berechnung und den achten Beschäftigten erfragt. Die Daten werden in Spalte B hinterlegt.
A3: Abfrage der Grunddaten zur Berechnung | B3: Ihre Angaben
A4: Ihre Betriebsnummer | B4: =IF('Minijob 1'!B7="","",'Minijob 1'!B7)
A5: Von Minijob 1 wird der Zeitraum der gültigen Beitragssätze übernommen. | B5: ='Minijob 1'!B8 -> ab Januar 2025
A6: Von Minijob 1 wird Monat und Jahr der aktuellen Berechnung übernommen. | B6: =IF('Minijob 1'!B9="","",'Minijob 1'!B9)
A7: Geben Sie bitte den Namen für Minijob 8 an.
A8: Hier können Sie das Geburtsdatum für Minijob 8 angeben.
A9: Hier können Sie die Sozialversicherungsnummer für Minijob 8 angeben.
A10: Geben Sie bitte den monatlichen Verdienst für Minijob 8 an. Das ist das vereinbarte Bruttoentgelt, also der Betrag vor Abzug von eventuell einbehaltenen Steuern und des Beitragsanteils der Minijobberin oder des Minijobbers bei Rentenversicherungspflicht. Minijobber und Minijobberinnen dürfen durchschnittlich im Monat nicht mehr als bis zur jeweils gültigen Minijob-Verdienstgrenze verdienen. Sofern der Verdienst monatlich schwankt oder Sonderzahlungen wie z. B. Weihnachts- oder Urlaubsgeld anfallen, geben Sie hier bitte den durchschnittlichen Monatsverdienst ein. | B10: 0
A11: In der folgenden Tabelle "Minijob_8_Beitragsrechtliches" (zwei Spalten) werden beitragsrelevante Aussagen aufgestellt, welche in Spalte B mit einem X bestätigt werden können, sofern diese zutreffend sind. (ähnlich einer Checkbox)
A12: beitragsrelevante Aussagen | B12: Aussage trifft zu
A13: Die beschäftigte Person ist nicht gesetzlich krankenversichert. Bitte ankreuzen, wenn die Minijobberin oder der Minijobber nicht gesetzlich krankenversichert ist. Das ist der Fall, wenn eine private Krankenversicherung vorliegt oder kein Krankenversicherungsschutz besteht. | D13: X
A14: Die beschäftigte Person hat die Befreiung von der Rentenversicherungspflicht beantragt oder ist versicherungsfrei. Minijobberinnen und Minijobber sind vor dem Erreichen der Regelaltersgrenze versicherungspflichtig in der Rentenversicherung. Sie können jedoch die Befreiung von der Rentenversicherungspflicht beantragen. Nach dem Erreichen der Regelaltersgrenze sind sie versicherungsfrei. In diesen Fällen zahlt nur die Arbeitgeberin oder der Arbeitgeber 15 Prozent des monatlichen Verdienstes.
A15: Die Mindestbeitragsbemessungsgrundlage muss beachtet werden. Bitte ankreuzen, wenn der monatliche Verdienst der Minijobberin oder des Minijobbers (auch mit mehreren Minijobs zusammen) unter 175 Euro liegt und keine rentenversicherungspflichtige Hauptbeschäftigung ausgeübt wird. Für rentenversicherungspflichtige Minijobberinnen und Minijobber wird bei der Berechnung des Rentenversicherungsbeitrags mindestens ein Verdienst von 175 Euro zugrunde gelegt. Der Beitrag des Arbeitgebers oder der Arbeitgeberin beträgt auch in einem solchen Fall 15 Prozent des tatsächlichen Verdienstes. Die Minijobberin oder der Minijobber übernimmt die Differenz zum vollen Pflichtbeitrag.
A16: Für meinen Betrieb besteht keine Umlagepflicht zum Ausgleichsverfahren U1. Am Ausgleichsverfahren der Arbeitgeberaufwendungen im Krankheitsfall U1 nehmen alle Unternehmen teil, die regelmäßig nicht mehr als 30 Arbeitnehmerinnen oder Arbeitnehmer beschäftigen. Alle Informationen zur Umlagepflicht finden Sie auf der Internetseite der Arbeitgeberversicherung der KBS. Link: https://www.arbeitgeberversicherung.de Dort finden Sie auch den Rechner Umlagepflicht, mit dem Sie schnell und einfach feststellen, ob Ihr Unternehmen am Ausgleichsverfahren teilnimmt. (Menü => Rechner) | B16: =IF('Minijob 1'!B19="","",'Minijob 1'!B19)
A17: Ich bin von der Abführung der Insolvenzgeldumlage befreit. Die Insolvenzgeldumlage sichert Arbeitnehmerinnen und Arbeitnehmern im Fall einer Insolvenz ihres Arbeitgebers finanziell ab. Arbeitgeberinnen und Arbeitgeber, die Arbeitnehmer im Inland beschäftigen, sind zur Zahlung der Insolvenzgeldumlage verpflichtet. Welche Arbeitgeberinnen und Arbeitgeber von der Zahlung der Insolvenzgeldumlage ausgenommen sind, können Sie auf unserer Internetseite nachlesen. Link: https://www.minijob-zentrale.de =>Für Gewerbetreibende => Abgaben & Steuern | B17: =IF('Minijob 1'!B20="","",'Minijob 1'!B20)
A18: Anstelle der einheitlichen Pauschsteuer soll die individuelle Einkommensteuer abgeführt werden. Der Verdienst von Minijobberinnen und Minijobbern ist stets steuerpflichtig. Die Lohnsteuer kann pauschal mit zwei Prozent oder nach den individuellen Lohnsteuermerkmalen erhoben werden.
A19: In der folgenden Tabelle "Minijob_8_Beitragsberechnung" (drei Spalten) werden Ihre Angaben ausgewertet und die Beiträge für Minijob 8 berechnet.
A20: Abgabenart und Beitragsgruppe | B20: Höhe der Abgaben in Prozent | C20: Beträge in Euro
A21: zur Krankenversicherung (Beitragsgruppe 6000) | B21: =Beitragssätze!C5*100 -> 13 | C21: =C49 -> 0
A22: voller Beitrag zur Rentenversicherung (Beitragsgruppe 0100) | B22: =Beitragssätze!C6*100 -> 18.6 | C22: =C50 -> 0
A23: zur Rentenversicherung (Beitragsgruppe 0500) | B23: =Beitragssätze!C7*100 -> 15 | C23: =C51 -> 0
A24: Umlage 1 (Beitragsgruppe U1) | B24: =Beitragssätze!C8*100 -> 1.1 | C24: =C52 -> 0
A25: Umlage 2 (Beitragsgruppe U2) | B25: =Beitragssätze!C9*100 -> 0.22 | C25: =C53 -> 0
A26: Insolvenzgeldumlage (Beitragsgruppe INSO) | B26: =Beitragssätze!C10*100 -> 0.15 | C26: =C54 -> 0
A27: einheitliche Pauschsteuer (Beitragsgruppe ST) | B27: =Beitragssätze!C11*100 -> 2 | C27: =C55 -> 0
A28: Summe der Gesamtabgaben: | C28: =C56 -> 0
A29: Arbeitnehmeranteil bei Zahlung des vollen Beitrages zur Rentenversicherung (vom Verdienst einzubehalten): | C29: =C57 -> 0
A30: Der nachfolgende Bereich zeigt die Druckansicht für die Beitragsberechnung von Minijob 8.
A31: =Beitragssätze!A30 -> Minijob-Rechner (Excel) Version 1.2 barrierefrei (Stand 5. Mai 2025)
A32: Monatsabrechnung
A33: 1. Allgemeine Angaben
A35: Monat: | B35: =IF('Minijob 1'!$B$38:$D$38="","",'Minijob 1'!$B$38:$D$38)
A37: Name: | B37: =IF(B7="","",B7)
A39: Geburtsdatum: | B39: =IF(B8="","",B8)
A41: Versicherungsnummer: | B41: =IF(B9="","",B9)
A43: Betriebsnummer: | B43: =IF(B4="","",B4)
A45: monatlicher Verdienst: | B45: =B10 -> 0
A46: 2. Beitragsberechnung
A47: =Beitragssätze!A2 -> Der gewählte Zeitraum, für den die Berechnung gültig ist: ab Januar 2025
A48: Abgabenart | B48: Höhe der Abgaben in Prozent | C48: Beträge in Euro
A49: zur Krankenversicherung (Beitragsgruppe 6000) | B49: =Beitragssätze!C5*100 -> 13 | C49: =ROUND(D66,2) -> 0 | D49: =IF(B13="X",TRUE,FALSE) -> FALSE
A50: voller Beitrag zur Rentenversicherung (Beitragsgruppe 0100) | B50: =Beitragssätze!C6*100 -> 18.6 | C50: =ROUND(D68,2) -> 0 | D50: =IF(B14="X",TRUE,FALSE) -> FALSE
A51: zur Rentenversicherung (Beitragsgruppe 0500) | B51: =Beitragssätze!C7*100 -> 15 | C51: =ROUND(D67,2) -> 0 | D51: =IF(B15="X",TRUE,FALSE) -> FALSE
A52: Umlage 1 (Beitragsgruppe U1) | B52: =Beitragssätze!C8*100 -> 1.1 | C52: =ROUND(D69,2) -> 0 | D52: =IF(B16="X",TRUE,FALSE) -> FALSE
A53: Umlage 2 (Beitragsgruppe U2) | B53: =Beitragssätze!C9*100 -> 0.22 | C53: =ROUND(D71,2) -> 0 | D53: =FALSE -> FALSE
A54: Insolvenzgeldumlage (Beitragsgruppe INSO) | B54: =Beitragssätze!C10*100 -> 0.15 | C54: =ROUND(D72,2) -> 0 | D54: =IF(B17="X",TRUE,FALSE) -> FALSE
A55: einheitliche Pauschsteuer (Beitragsgruppe ST) | B55: =Beitragssätze!C11*100 -> 2 | C55: =TRUNC(D70,2) -> 0 | D55: =IF(B18="X",TRUE,FALSE) -> FALSE
A56: Summe der Gesamtabgaben: | C56: =SUM(C49:C55) -> 0 | D56: =IF(B19="X",TRUE,FALSE) -> FALSE
A57: Arbeitnehmeranteil bei Zahlung des vollen Beitrages zur Rentenversicherung (vom Verdienst einzubehalten): | C57: =IF(D63=FALSE,0,D63) -> 0
A58: Minijob-Zentrale, 45115 Essen • Service-Center: 0355 2902-70799 • Fax: 0201 384-979797 • minijob-zentrale.de
D63: =IF(D50,0,(IF(D43,(IF(AND(D43,D51=TRUE,D43<D73),IF(D50,0,D43*D74)+(D73-D43)*Beitragssätze!C6,D43*D74)),IF(B45,(IF(AND(B45,D51=TRUE,B45<D73),IF(D50,0,(ROUND(D73*Beitragssätze!C6,2))-(ROUND(B45*Beitragssätze!C7,2))),B45*D74)))))) -> FALSE
D66: =IF(D43,IF(D49,0,D43*Beitragssätze!C5),IF(D49,0,B45*Beitragssätze!C5)) -> 0
D67: =IF(D50,IF(D43,D43*Beitragssätze!C7,B45*Beitragssätze!C7)) -> FALSE
D68: =IF(D43,(IF(D50=TRUE,0,D43*Beitragssätze!C7+C57)),IF(D50=TRUE,0,IF(B45=0,0,B45*Beitragssätze!C7+C57))) -> 0
D69: =IF(D43,IF(D52,0,D43*Beitragssätze!C8),IF(D52,0,B45*Beitragssätze!C8)) -> 0
D70: =IF(D43,IF(D55,0,D43*Beitragssätze!C11),IF(D55,0,B45*Beitragssätze!C11)) -> 0
D71: =IF(D43,IF(D53,0,D43*Beitragssätze!C9),IF(D53,0,B45*Beitragssätze!C9)) -> 0
D72: =IF(D43,IF(D54,0,D43*Beitragssätze!C10),IF(D54,0,B45*Beitragssätze!C10)) -> 0
D73: =Beitragssätze!B14 -> 175
D74: =Beitragssätze!B15 -> 0.036

Sheet Minijob 9
A1: Das Tabellenblatt "Minijob 9" enthält drei untereinander angeordnete Tabellen. Die ersten beiden Tabellen werden für die Berechnung benötigt. Unter der Beitragsberechnung folgt eine Druckansicht.
A2: In der folgenden Tabelle "Minijob_9_Grunddaten" (zwei Spalten) werden grundsätzliche Angaben für die Berechnung und den neunten Beschäftigten erfragt. Die Daten werden in Spalte B hinterlegt.
A3: Abfrage der Grunddaten zur Berechnung | B3: Ihre Angaben
A4: Ihre Betriebsnummer | B4: =IF('Minijob 1'!B7="","",'Minijob 1'!B7)
A5: Von Minijob 1 wird der Zeitraum der gültigen Beitragssätze übernommen. | B5: ='Minijob 1'!B8 -> ab Januar 2025
A6: Von Minijob 1 wird Monat und Jahr der aktuellen Berechnung übernommen. | B6: =IF('Minijob 1'!B9="","",'Minijob 1'!B9)
A7: Geben Sie bitte den Namen für Minijob 9 an.
A8: Hier können Sie das Geburtsdatum für Minijob 9 angeben.
A9: Hier können Sie die Sozialversicherungsnummer für Minijob 9 angeben.
A10: Geben Sie bitte den monatlichen Verdienst für Minijob 9 an. Das ist das vereinbarte Bruttoentgelt, also der Betrag vor Abzug von eventuell einbehaltenen Steuern und des Beitragsanteils der Minijobberin oder des Minijobbers bei Rentenversicherungspflicht. Minijobber und Minijobberinnen dürfen durchschnittlich im Monat nicht mehr als bis zur jeweils gültigen Minijob-Verdienstgrenze verdienen. Sofern der Verdienst monatlich schwankt oder Sonderzahlungen wie z. B. Weihnachts- oder Urlaubsgeld anfallen, geben Sie hier bitte den durchschnittlichen Monatsverdienst ein. | B10: 0
A11: In der folgenden Tabelle "Minijob_9_Beitragsrechtliches" (zwei Spalten) werden beitragsrelevante Aussagen aufgestellt, welche in Spalte B mit einem X bestätigt werden können, sofern diese zutreffend sind. (ähnlich einer Checkbox)
A12: beitragsrelevante Aussagen | B12: Aussage trifft zu
A13: Die beschäftigte Person ist nicht gesetzlich krankenversichert. Bitte ankreuzen, wenn die Minijobberin oder der Minijobber nicht gesetzlich krankenversichert ist. Das ist der Fall, wenn eine private Krankenversicherung vorliegt oder kein Krankenversicherungsschutz besteht. | D13: X
A14: Die beschäftigte Person hat die Befreiung von der Rentenversicherungspflicht beantragt oder ist versicherungsfrei. Minijobberinnen und Minijobber sind vor dem Erreichen der Regelaltersgrenze versicherungspflichtig in der Rentenversicherung. Sie können jedoch die Befreiung von der Rentenversicherungspflicht beantragen. Nach dem Erreichen der Regelaltersgrenze sind sie versicherungsfrei. In diesen Fällen zahlt nur die Arbeitgeberin oder der Arbeitgeber 15 Prozent des monatlichen Verdienstes.
A15: Die Mindestbeitragsbemessungsgrundlage muss beachtet werden. Bitte ankreuzen, wenn der monatliche Verdienst der Minijobberin oder des Minijobbers (auch mit mehreren Minijobs zusammen) unter 175 Euro liegt und keine rentenversicherungspflichtige Hauptbeschäftigung ausgeübt wird. Für rentenversicherungspflichtige Minijobberinnen und Minijobber wird bei der Berechnung des Rentenversicherungsbeitrags mindestens ein Verdienst von 175 Euro zugrunde gelegt. Der Beitrag des Arbeitgebers oder der Arbeitgeberin beträgt auch in einem solchen Fall 15 Prozent des tatsächlichen Verdienstes. Die Minijobberin oder der Minijobber übernimmt die Differenz zum vollen Pflichtbeitrag.
A16: Für meinen Betrieb besteht keine Umlagepflicht zum Ausgleichsverfahren U1. Am Ausgleichsverfahren der Arbeitgeberaufwendungen im Krankheitsfall U1 nehmen alle Unternehmen teil, die regelmäßig nicht mehr als 30 Arbeitnehmerinnen oder Arbeitnehmer beschäftigen. Alle Informationen zur Umlagepflicht finden Sie auf der Internetseite der Arbeitgeberversicherung der KBS. Link: https://www.arbeitgeberversicherung.de Dort finden Sie auch den Rechner Umlagepflicht, mit dem Sie schnell und einfach feststellen, ob Ihr Unternehmen am Ausgleichsverfahren teilnimmt. (Menü => Rechner) | B16: =IF('Minijob 1'!B19="","",'Minijob 1'!B19)
A17: Ich bin von der Abführung der Insolvenzgeldumlage befreit. Die Insolvenzgeldumlage sichert Arbeitnehmerinnen und Arbeitnehmern im Fall einer Insolvenz ihres Arbeitgebers finanziell ab. Arbeitgeberinnen und Arbeitgeber, die Arbeitnehmer im Inland beschäftigen, sind zur Zahlung der Insolvenzgeldumlage verpflichtet. Welche Arbeitgeberinnen und Arbeitgeber von der Zahlung der Insolvenzgeldumlage ausgenommen sind, können Sie auf unserer Internetseite nachlesen. Link: https://www.minijob-zentrale.de =>Für Gewerbetreibende => Abgaben & Steuern | B17: =IF('Minijob 1'!B20="","",'Minijob 1'!B20)
A18: Anstelle der einheitlichen Pauschsteuer soll die individuelle Einkommensteuer abgeführt werden. Der Verdienst von Minijobberinnen und Minijobbern ist stets steuerpflichtig. Die Lohnsteuer kann pauschal mit zwei Prozent oder nach den individuellen Lohnsteuermerkmalen erhoben werden.
A19: In der folgenden Tabelle "Minijob_9_Beitragsberechnung" (drei Spalten) werden Ihre Angaben ausgewertet und die Beiträge für Minijob 9 berechnet.
A20: Abgabenart und Beitragsgruppe | B20: Höhe der Abgaben in Prozent | C20: Beträge in Euro
A21: zur Krankenversicherung (Beitragsgruppe 6000) | B21: =Beitragssätze!C5*100 -> 13 | C21: =C49 -> 0
A22: voller Beitrag zur Rentenversicherung (Beitragsgruppe 0100) | B22: =Beitragssätze!C6*100 -> 18.6 | C22: =C50 -> 0
A23: zur Rentenversicherung (Beitragsgruppe 0500) | B23: =Beitragssätze!C7*100 -> 15 | C23: =C51 -> 0
A24: Umlage 1 (Beitragsgruppe U1) | B24: =Beitragssätze!C8*100 -> 1.1 | C24: =C52 -> 0
A25: Umlage 2 (Beitragsgruppe U2) | B25: =Beitragssätze!C9*100 -> 0.22 | C25: =C53 -> 0
A26: Insolvenzgeldumlage (Beitragsgruppe INSO) | B26: =Beitragssätze!C10*100 -> 0.15 | C26: =C54 -> 0
A27: einheitliche Pauschsteuer (Beitragsgruppe ST) | B27: =Beitragssätze!C11*100 -> 2 | C27: =C55 -> 0
A28: Summe der Gesamtabgaben: | C28: =C56 -> 0
A29: Arbeitnehmeranteil bei Zahlung des vollen Beitrages zur Rentenversicherung (vom Verdienst einzubehalten): | C29: =C57 -> 0
A30: Der nachfolgende Bereich zeigt die Druckansicht für die Beitragsberechnung von Minijob 9.
A31: =Beitragssätze!A30 -> Minijob-Rechner (Excel) Version 1.2 barrierefrei (Stand 5. Mai 2025)
A32: Monatsabrechnung
A33: 1. Allgemeine Angaben
A35: Monat: | B35: =IF('Minijob 1'!$B$38:$D$38="","",'Minijob 1'!$B$38:$D$38)
A37: Name: | B37: =IF(B7="","",B7)
A39: Geburtsdatum: | B39: =IF(B8="","",B8)
A41: Versicherungsnummer: | B41: =IF(B9="","",B9)
A43: Betriebsnummer: | B43: =IF(B4="","",B4)
A45: monatlicher Verdienst: | B45: =B10 -> 0
A46: 2. Beitragsberechnung
A47: =Beitragssätze!A2 -> Der gewählte Zeitraum, für den die Berechnung gültig ist: ab Januar 2025
A48: Abgabenart | B48: Höhe der Abgaben in Prozent | C48: Beträge in Euro
A49: zur Krankenversicherung (Beitragsgruppe 6000) | B49: =Beitragssätze!C5*100 -> 13 | C49: =ROUND(D66,2) -> 0 | D49: =IF(B13="X",TRUE,FALSE) -> FALSE
A50: voller Beitrag zur Rentenversicherung (Beitragsgruppe 0100) | B50: =Beitragssätze!C6*100 -> 18.6 | C50: =ROUND(D68,2) -> 0 | D50: =IF(B14="X",TRUE,FALSE) -> FALSE
A51: zur Rentenversicherung (Beitragsgruppe 0500) | B51: =Beitragssätze!C7*100 -> 15 | C51: =ROUND(D67,2) -> 0 | D51: =IF(B15="X",TRUE,FALSE) -> FALSE
A52: Umlage 1 (Beitragsgruppe U1) | B52: =Beitragssätze!C8*100 -> 1.1 | C52: =ROUND(D69,2) -> 0 | D52: =IF(B16="X",TRUE,FALSE) -> FALSE
A53: Umlage 2 (Beitragsgruppe U2) | B53: =Beitragssätze!C9*100 -> 0.22 | C53: =ROUND(D71,2) -> 0 | D53: =FALSE -> FALSE
A54: Insolvenzgeldumlage (Beitragsgruppe INSO) | B54: =Beitragssätze!C10*100 -> 0.15 | C54: =ROUND(D72,2) -> 0 | D54: =IF(B17="X",TRUE,FALSE) -> FALSE
A55: einheitliche Pauschsteuer (Beitragsgruppe ST) | B55: =Beitragssätze!C11*100 -> 2 | C55: =TRUNC(D70,2) -> 0 | D55: =IF(B18="X",TRUE,FALSE) -> FALSE
A56: Summe der Gesamtabgaben: | C56: =SUM(C49:C55) -> 0 | D56: =IF(B19="X",TRUE,FALSE) -> FALSE
A57: Arbeitnehmeranteil bei Zahlung des vollen Beitrages zur Rentenversicherung (vom Verdienst einzubehalten): | C57: =IF(D63=FALSE,0,D63) -> 0
A58: Minijob-Zentrale, 45115 Essen • Service-Center: 0355 2902-70799 • Fax: 0201 384-979797 • minijob-zentrale.de
D63: =IF(D50,0,(IF(D43,(IF(AND(D43,D51=TRUE,D43<D73),IF(D50,0,D43*D74)+(D73-D43)*Beitragssätze!C6,D43*D74)),IF(B45,(IF(AND(B45,D51=TRUE,B45<D73),IF(D50,0,(ROUND(D73*Beitragssätze!C6,2))-(ROUND(B45*Beitragssätze!C7,2))),B45*D74)))))) -> FALSE
D66: =IF(D43,IF(D49,0,D43*Beitragssätze!C5),IF(D49,0,B45*Beitragssätze!C5)) -> 0
D67: =IF(D50,IF(D43,D43*Beitragssätze!C7,B45*Beitragssätze!C7)) -> FALSE
D68: =IF(D43,(IF(D50=TRUE,0,D43*Beitragssätze!C7+C57)),IF(D50=TRUE,0,IF(B45=0,0,B45*Beitragssätze!C7+C57))) -> 0
D69: =IF(D43,IF(D52,0,D43*Beitragssätze!C8),IF(D52,0,B45*Beitragssätze!C8)) -> 0
D70: =IF(D43,IF(D55,0,D43*Beitragssätze!C11),IF(D55,0,B45*Beitragssätze!C11)) -> 0
D71: =IF(D43,IF(D53,0,D43*Beitragssätze!C9),IF(D53,0,B45*Beitragssätze!C9)) -> 0
D72: =IF(D43,IF(D54,0,D43*Beitragssätze!C10),IF(D54,0,B45*Beitragssätze!C10)) -> 0
D73: =Beitragssätze!B14 -> 175
D74: =Beitragssätze!B15 -> 0.036

Sheet Minijob 10
A1: Das Tabellenblatt "Minijob 10" enthält drei untereinander angeordnete Tabellen. Die ersten beiden Tabellen werden für die Berechnung benötigt. Unter der Beitragsberechnung folgt eine Druckansicht.
A2: In der folgenden Tabelle "Minijob_10_Grunddaten" (zwei Spalten) werden grundsätzliche Angaben für die Berechnung und den zehnten Beschäftigten erfragt. Die Daten werden in Spalte B hinterlegt.
A3: Abfrage der Grunddaten zur Berechnung | B3: Ihre Angaben
A4: Ihre Betriebsnummer | B4: =IF('Minijob 1'!B7="","",'Minijob 1'!B7)
A5: Von Minijob 1 wird der Zeitraum der gültigen Beitragssätze übernommen. | B5: ='Minijob 1'!B8 -> ab Januar 2025
A6: Von Minijob 1 wird Monat und Jahr der aktuellen Berechnung übernommen. | B6: =IF('Minijob 1'!B9="","",'Minijob 1'!B9)
A7: Geben Sie bitte den Namen für Minijob 10 an.
A8: Hier können Sie das Geburtsdatum für Minijob 10 angeben.
A9: Hier können Sie die Sozialversicherungsnummer für Minijob 10 angeben.
A10: Geben Sie bitte den monatlichen Verdienst für Minijob 10 an. Das ist das vereinbarte Bruttoentgelt, also der Betrag vor Abzug von eventuell einbehaltenen Steuern und des Beitragsanteils der Minijobberin oder des Minijobbers bei Rentenversicherungspflicht. Minijobber und Minijobberinnen dürfen durchschnittlich im Monat nicht mehr als bis zur jeweils gültigen Minijob-Verdienstgrenze verdienen. Sofern der Verdienst monatlich schwankt oder Sonderzahlungen wie z. B. Weihnachts- oder Urlaubsgeld anfallen, geben Sie hier bitte den durchschnittlichen Monatsverdienst ein. | B10: 0
A11: In der folgenden Tabelle "Minijob_10_Beitragsrechtliches" (zwei Spalten) werden beitragsrelevante Aussagen aufgestellt, welche in Spalte B mit einem X bestätigt werden können, sofern diese zutreffend sind. (ähnlich einer Checkbox)
A12: beitragsrelevante Aussagen | B12: Aussage trifft zu
A13: Die beschäftigte Person ist nicht gesetzlich krankenversichert. Bitte ankreuzen, wenn die Minijobberin oder der Minijobber nicht gesetzlich krankenversichert ist. Das ist der Fall, wenn eine private Krankenversicherung vorliegt oder kein Krankenversicherungsschutz besteht. | D13: X
A14: Die beschäftigte Person hat die Befreiung von der Rentenversicherungspflicht beantragt oder ist versicherungsfrei. Minijobberinnen und Minijobber sind vor dem Erreichen der Regelaltersgrenze versicherungspflichtig in der Rentenversicherung. Sie können jedoch die Befreiung von der Rentenversicherungspflicht beantragen. Nach dem Erreichen der Regelaltersgrenze sind sie versicherungsfrei. In diesen Fällen zahlt nur die Arbeitgeberin oder der Arbeitgeber 15 Prozent des monatlichen Verdienstes.
A15: Die Mindestbeitragsbemessungsgrundlage muss beachtet werden. Bitte ankreuzen, wenn der monatliche Verdienst der Minijobberin oder des Minijobbers (auch mit mehreren Minijobs zusammen) unter 175 Euro liegt und keine rentenversicherungspflichtige Hauptbeschäftigung ausgeübt wird. Für rentenversicherungspflichtige Minijobberinnen und Minijobber wird bei der Berechnung des Rentenversicherungsbeitrags mindestens ein Verdienst von 175 Euro zugrunde gelegt. Der Beitrag des Arbeitgebers oder der Arbeitgeberin beträgt auch in einem solchen Fall 15 Prozent des tatsächlichen Verdienstes. Die Minijobberin oder der Minijobber übernimmt die Differenz zum vollen Pflichtbeitrag.
A16: Für meinen Betrieb besteht keine Umlagepflicht zum Ausgleichsverfahren U1. Am Ausgleichsverfahren der Arbeitgeberaufwendungen im Krankheitsfall U1 nehmen alle Unternehmen teil, die regelmäßig nicht mehr als 30 Arbeitnehmerinnen oder Arbeitnehmer beschäftigen. Alle Informationen zur Umlagepflicht finden Sie auf der Internetseite der Arbeitgeberversicherung der KBS. Link: https://www.arbeitgeberversicherung.de Dort finden Sie auch den Rechner Umlagepflicht, mit dem Sie schnell und einfach feststellen, ob Ihr Unternehmen am Ausgleichsverfahren teilnimmt. (Menü => Rechner) | B16: =IF('Minijob 1'!B19="","",'Minijob 1'!B19)
A17: Ich bin von der Abführung der Insolvenzgeldumlage befreit. Die Insolvenzgeldumlage sichert Arbeitnehmerinnen und Arbeitnehmern im Fall einer Insolvenz ihres Arbeitgebers finanziell ab. Arbeitgeberinnen und Arbeitgeber, die Arbeitnehmer im Inland beschäftigen, sind zur Zahlung der Insolvenzgeldumlage verpflichtet. Welche Arbeitgeberinnen und Arbeitgeber von der Zahlung der Insolvenzgeldumlage ausgenommen sind, können Sie auf unserer Internetseite nachlesen. Link: https://www.minijob-zentrale.de =>Für Gewerbetreibende => Abgaben & Steuern | B17: =IF('Minijob 1'!B20="","",'Minijob 1'!B20)
A18: Anstelle der einheitlichen Pauschsteuer soll die individuelle Einkommensteuer abgeführt werden. Der Verdienst von Minijobberinnen und Minijobbern ist stets steuerpflichtig. Die Lohnsteuer kann pauschal mit zwei Prozent oder nach den individuellen Lohnsteuermerkmalen erhoben werden.
A19: In der folgenden Tabelle "Minijob_10_Beitragsberechnung" (drei Spalten) werden Ihre Angaben ausgewertet und die Beiträge für Minijob 10 berechnet.
A20: Abgabenart und Beitragsgruppe | B20: Höhe der Abgaben in Prozent | C20: Beträge in Euro
A21: zur Krankenversicherung (Beitragsgruppe 6000) | B21: =Beitragssätze!C5*100 -> 13 | C21: =C49 -> 0
A22: voller Beitrag zur Rentenversicherung (Beitragsgruppe 0100) | B22: =Beitragssätze!C6*100 -> 18.6 | C22: =C50 -> 0
A23: zur Rentenversicherung (Beitragsgruppe 0500) | B23: =Beitragssätze!C7*100 -> 15 | C23: =C51 -> 0
A24: Umlage 1 (Beitragsgruppe U1) | B24: =Beitragssätze!C8*100 -> 1.1 | C24: =C52 -> 0
A25: Umlage 2 (Beitragsgruppe U2) | B25: =Beitragssätze!C9*100 -> 0.22 | C25: =C53 -> 0
A26: Insolvenzgeldumlage (Beitragsgruppe INSO) | B26: =Beitragssätze!C10*100 -> 0.15 | C26: =C54 -> 0
A27: einheitliche Pauschsteuer (Beitragsgruppe ST) | B27: =Beitragssätze!C11*100 -> 2 | C27: =C55 -> 0
A28: Summe der Gesamtabgaben: | C28: =C56 -> 0
A29: Arbeitnehmeranteil bei Zahlung des vollen Beitrages zur Rentenversicherung (vom Verdienst einzubehalten): | C29: =C57 -> 0
A30: Der nachfolgende Bereich zeigt die Druckansicht für die Beitragsberechnung von Minijob 10.
A31: =Beitragssätze!A30 -> Minijob-Rechner (Excel) Version 1.2 barrierefrei (Stand 5. Mai 2025)
A32: Monatsabrechnung
A33: 1. Allgemeine Angaben
A35: Monat: | B35: =IF('Minijob 1'!$B$38:$D$38="","",'Minijob 1'!$B$38:$D$38)
A37: Name: | B37: =IF(B7="","",B7)
A39: Geburtsdatum: | B39: =IF(B8="","",B8)
A41: Versicherungsnummer: | B41: =IF(B9="","",B9)
A43: Betriebsnummer: | B43: =IF(B4="","",B4)
A45: monatlicher Verdienst: | B45: =B10 -> 0
A46: 2. Beitragsberechnung
A47: =Beitragssätze!A2 -> Der gewählte Zeitraum, für den die Berechnung gültig ist: ab Januar 2025
A48: Abgabenart | B48: Höhe der Abgaben in Prozent | C48: Beträge in Euro
A49: zur Krankenversicherung (Beitragsgruppe 6000) | B49: =Beitragssätze!C5*100 -> 13 | C49: =ROUND(D66,2) -> 0 | D49: =IF(B13="X",TRUE,FALSE) -> FALSE
A50: voller Beitrag zur Rentenversicherung (Beitragsgruppe 0100) | B50: =Beitragssätze!C6*100 -> 18.6 | C50: =ROUND(D68,2) -> 0 | D50: =IF(B14="X",TRUE,FALSE) -> FALSE
A51: zur Rentenversicherung (Beitragsgruppe 0500) | B51: =Beitragssätze!C7*100 -> 15 | C51: =ROUND(D67,2) -> 0 | D51: =IF(B15="X",TRUE,FALSE) -> FALSE
A52: Umlage 1 (Beitragsgruppe U1) | B52: =Beitragssätze!C8*100 -> 1.1 | C52: =ROUND(D69,2) -> 0 | D52: =IF(B16="X",TRUE,FALSE) -> FALSE
A53: Umlage 2 (Beitragsgruppe U2) | B53: =Beitragssätze!C9*100 -> 0.22 | C53: =ROUND(D71,2) -> 0 | D53: =FALSE -> FALSE
A54: Insolvenzgeldumlage (Beitragsgruppe INSO) | B54: =Beitragssätze!C10*100 -> 0.15 | C54: =ROUND(D72,2) -> 0 | D54: =IF(B17="X",TRUE,FALSE) -> FALSE
A55: einheitliche Pauschsteuer (Beitragsgruppe ST) | B55: =Beitragssätze!C11*100 -> 2 | C55: =TRUNC(D70,2) -> 0 | D55: =IF(B18="X",TRUE,FALSE) -> FALSE
A56: Summe der Gesamtabgaben: | C56: =SUM(C49:C55) -> 0 | D56: =IF(B19="X",TRUE,FALSE) -> FALSE
A57: Arbeitnehmeranteil bei Zahlung des vollen Beitrages zur Rentenversicherung (vom Verdienst einzubehalten): | C57: =IF(D63=FALSE,0,D63) -> 0
A58: Minijob-Zentrale, 45115 Essen • Service-Center: 0355 2902-70799 • Fax: 0201 384-979797 • minijob-zentrale.de
D63: =IF(D50,0,(IF(D43,(IF(AND(D43,D51=TRUE,D43<D73),IF(D50,0,D43*D74)+(D73-D43)*Beitragssätze!C6,D43*D74)),IF(B45,(IF(AND(B45,D51=TRUE,B45<D73),IF(D50,0,(ROUND(D73*Beitragssätze!C6,2))-(ROUND(B45*Beitragssätze!C7,2))),B45*D74)))))) -> FALSE
D66: =IF(D43,IF(D49,0,D43*Beitragssätze!C5),IF(D49,0,B45*Beitragssätze!C5)) -> 0
D67: =IF(D50,IF(D43,D43*Beitragssätze!C7,B45*Beitragssätze!C7)) -> FALSE
D68: =IF(D43,(IF(D50=TRUE,0,D43*Beitragssätze!C7+C57)),IF(D50=TRUE,0,IF(B45=0,0,B45*Beitragssätze!C7+C57))) -> 0
D69: =IF(D43,IF(D52,0,D43*Beitragssätze!C8),IF(D52,0,B45*Beitragssätze!C8)) -> 0
D70: =IF(D43,IF(D55,0,D43*Beitragssätze!C11),IF(D55,0,B45*Beitragssätze!C11)) -> 0
D71: =IF(D43,IF(D53,0,D43*Beitragssätze!C9),IF(D53,0,B45*Beitragssätze!C9)) -> 0
D72: =IF(D43,IF(D54,0,D43*Beitragssätze!C10),IF(D54,0,B45*Beitragssätze!C10)) -> 0
D73: =Beitragssätze!B14 -> 175
D74: =Beitragssätze!B15 -> 0.036

Sheet Gesamt Abgabenberechnung
A1: Das Tabellenblatt "Gesamt Abgabenberechnung" enthält die aufsummierte Abgabenberechnung aller eingetragenen Beschäftigten in der Druckansicht. Es enthält zwei Tabellen.
A2: =Beitragssätze!A30 -> Minijob-Rechner (Excel) Version 1.2 barrierefrei (Stand 5. Mai 2025)
A3: Gesamtabgabenberechnung
A4: (basierend auf den erfassten Daten)
A5: Monat: | B5: =IF('Minijob 1'!B38="","",'Minijob 1'!B38)
A6: Betriebsnummer: | B6: =IF('Minijob 1'!B7="","",'Minijob 1'!B7)
A7: =Beitragssätze!A2 -> Der gewählte Zeitraum, für den die Berechnung gültig ist: ab Januar 2025
A8: (Die nachstehend aufgeführten monatlichen Gesamtabgaben können Sie in den Beitragsnachweis übernehmen.)
A9: Abgabenart | B9: Höhe der Abgaben in Prozent | C9: Beträge in Euro
A10: zur Krankenversicherung (Beitragsgruppe 6000) | B10: =Beitragssätze!C5*100 -> 13 | C10: ='Minijob 1'!C52+'Minijob 2'!C49+'Minijob 3'!C49+'Minijob 4'!C49+'Minijob 5'!C49+'Minijob 6'!C49+'Minijob 7'!C49+'Minijob 8'!C49+'Minijob 9'!C49+'Minijob 10'!C49 -> 0
A11: voller Beitrag zur Rentenversicherung (Beitragsgruppe 0100) | B11: =Beitragssätze!C6*100 -> 18.6 | C11: ='Minijob 1'!C53+'Minijob 2'!C50+'Minijob 3'!C50+'Minijob 4'!C50+'Minijob 5'!C50+'Minijob 6'!C50+'Minijob 7'!C50+'Minijob 8'!C50+'Minijob 9'!C50+'Minijob 10'!C50 -> 0
A12: zur Rentenversicherung (Beitragsgruppe 0500) | B12: =Beitragssätze!C7*100 -> 15 | C12: ='Minijob 1'!C54+'Minijob 2'!C51+'Minijob 3'!C51+'Minijob 4'!C51+'Minijob 5'!C51+'Minijob 6'!C51+'Minijob 7'!C51+'Minijob 8'!C51+'Minijob 9'!C51+'Minijob 10'!C51 -> 0
A13: Umlage 1 (Beitragsgruppe U1) | B13: =Beitragssätze!C8*100 -> 1.1 | C13: ='Minijob 1'!C55+'Minijob 2'!C52+'Minijob 3'!C52+'Minijob 4'!C52+'Minijob 5'!C52+'Minijob 6'!C52+'Minijob 7'!C52+'Minijob 8'!C52+'Minijob 9'!C52+'Minijob 10'!C52 -> 0
A14: Umlage 2 (Beitragsgruppe U2) | B14: =Beitragssätze!C9*100 -> 0.22 | C14: ='Minijob 1'!C56+'Minijob 2'!C53+'Minijob 3'!C53+'Minijob 4'!C53+'Minijob 5'!C53+'Minijob 6'!C53+'Minijob 7'!C53+'Minijob 8'!C53+'Minijob 9'!C53+'Minijob 10'!C53 -> 0
A15: Insolvenzgeldumlage (Beitragsgruppe INSO) | B15: =Beitragssätze!C10*100 -> 0.15 | C15: ='Minijob 1'!C57+'Minijob 2'!C54+'Minijob 3'!C54+'Minijob 4'!C54+'Minijob 5'!C54+'Minijob 6'!C54+'Minijob 7'!C54+'Minijob 8'!C54+'Minijob 9'!C54+'Minijob 10'!C54 -> 0
A16: einheitliche Pauschsteuer (Beitragsgruppe ST) | B16: =Beitragssätze!C11*100 -> 2 | C16: ='Minijob 1'!C58+'Minijob 2'!C55+'Minijob 3'!C55+'Minijob 4'!C55+'Minijob 5'!C55+'Minijob 6'!C55+'Minijob 7'!C55+'Minijob 8'!C55+'Minijob 9'!C55+'Minijob 10'!C55 -> 0
A17: Summe der Gesamtabgaben: | C17: =SUM(C10:C16) -> 0
A18: Arbeitnehmeranteil bei Zahlung des vollen Beitrages zur Rentenversicherung: | C18: ='Minijob 1'!C60+'Minijob 2'!C57+'Minijob 3'!C57+'Minijob 4'!C57+'Minijob 5'!C57+'Minijob 6'!C57+'Minijob 7'!C57+'Minijob 8'!C57+'Minijob 9'!C57+'Minijob 10'!C57 -> 0
A19: (Der Arbeitnehmeranteil bei Zahlung des vollen Beitrages zur Rentenversicherungvom ist vom Verdienst einzubehalten.)
A20: darauf entfallen für:
A21: Minijob | B21: Name | C21: Beiträge in Euro
A22: Minijob 1 | B22: =IF('Minijob 1'!B10="","",'Minijob 1'!B10) | C22: ='Minijob 1'!C59 -> 0
A23: Minijob 2 | B23: =IF('Minijob 2'!B7="","",'Minijob 2'!B7) | C23: ='Minijob 2'!$C$56 -> 0
A24: Minijob 3 | B24: =IF('Minijob 3'!B7="","",'Minijob 3'!B7) | C24: ='Minijob 3'!C56 -> 0
A25: Minijob 4 | B25: =IF('Minijob 4'!B7="","",'Minijob 4'!B7) | C25: ='Minijob 4'!$C$56 -> 0
A26: Minijob 5 | B26: =IF('Minijob 5'!B7="","",'Minijob 5'!B7) | C26: ='Minijob 5'!C56 -> 0
A27: Minijob 6 | B27: =IF('Minijob 6'!B7="","",'Minijob 6'!B7) | C27: ='Minijob 6'!$C$56 -> 0
A28: Minijob 7 | B28: =IF('Minijob 7'!B7="","",'Minijob 7'!B7) | C28: ='Minijob 7'!$C$56 -> 0
A29: Minijob 8 | B29: =IF('Minijob 8'!B7="","",'Minijob 8'!B7) | C29: ='Minijob 8'!C56 -> 0
A30: Minijob 9 | B30: =IF('Minijob 9'!B7="","",'Minijob 9'!B7) | C30: ='Minijob 9'!C56 -> 0
A31: Minijob 10 | B31: =IF('Minijob 10'!B7="","",'Minijob 10'!B7) | C31: ='Minijob 10'!C56 -> 0
A32: Gesamtbetrag: | C32: =SUM(C22:C31) -> 0
A33: Minijob-Zentrale, 45115 Essen • Service-Center: 0355 2902-70799 • Fax: 0201 384-979797 • minijob-zentrale.de

Sheet Beitragssätze
A1: Hier werden die Grunddaten für Beitragsberechnungen innerhalb des Minijob-Rechners vorgehalten. Die Auswahl des zu nutzenden Beitragszeitraumes erfolgt im Tabellenblatt Minijob 1.
A2: ="Der gewählte Zeitraum, für den die Berechnung gültig ist: "&'Minijob 1'!B8 -> Der gewählte Zeitraum, für den die Berechnung gültig ist: ab Januar 2025
A3: In Tabelle "Beitragssätze_zum_Zeitraum" werden die Abgaben des gewählten Zeitraumes detailiert dargestellt. (drei Spalten)
A4: Abgabenart | B4: Beitragsgruppen | C4: Höhe der Abgaben in Prozent
A5: zur Krankenversicherung | B5: 6000 | C5: =VALUE(VLOOKUP('Minijob 1'!B8,A18:B28,2,0)) -> 0.13
A6: voller Beitrag zur Rentenversicherung | B6: 0100 | C6: =VALUE(VLOOKUP('Minijob 1'!B8,A18:C28,3,0)) -> 0.186
A7: zur Rentenversicherung | B7: 0500 | C7: =VALUE(VLOOKUP('Minijob 1'!B8,A18:D28,4,0)) -> 0.15
A8: Umlage 1 | B8: U 1 | C8: =VALUE(VLOOKUP('Minijob 1'!B8,A18:E28,5,0)) -> 0.011
A9: Umlage 2 | B9: U 2 | C9: =VALUE(VLOOKUP('Minijob 1'!B8,A18:F28,6,0)) -> 0.0022
A10: Insolvenzgeldumlage | B10: INSO | C10: =VALUE(VLOOKUP('Minijob 1'!B8,A18:G28,7,0)) -> 0.0015
A11: einheitliche Pauschsteuer | B11: ST | C11: =VALUE(VLOOKUP('Minijob 1'!B8,A18:H28,8,0)) -> 0.02
A12: In Tabelle "Sonstige_Kennzahlen" werden weitere Werte zur Beitragsberechnung vorgehalten. (zwei Spalten)
A13: Sonstige Kennzahlen | B13: Wert
A14: Mindestbeitragsbemessungsgrundlage RV | B14: 175
A15: Eigenanteil AN zur RV | B15: =VALUE(C6-C7) -> 0.036
A16: In Tabelle "Auswahl_Zeitraum" werden die Beitragssätze der auswählbaren Zeiträume vorgehalten. (acht Spalten)
A17: Zeitraum \ Beitragsgruppen | B17: 6000 | C17: 0100 | D17: 0500 | E17: U 1 | F17: U 2 | G17: INSO | H17: ST
A18: ab Januar 2025 | B18: 0.13 | C18: 0.186 | D18: 0.15 | E18: 0.011 | F18: 0.0022 | G18: 0.0015 | H18: 0.02
A19: Januar bis Dezember 2024 | B19: 0.13 | C19: 0.186 | D19: 0.15 | E19: 0.011 | F19: 0.0024 | G19: 0.0006 | H19: 0.02
A20: Januar bis Dezember 2023 | B20: 0.13 | C20: 0.186 | D20: 0.15 | E20: 0.011 | F20: 0.0024 | G20: 0.0006 | H20: 0.02
A21: Januar bis Dezember 2022 | B21: 0.13 | C21: 0.186 | D21: 0.15 | E21: 0.009 | F21: 0.0029 | G21: 0.0009 | H21: 0.02
A22: Januar bis Dezember 2021 | B22: 0.13 | C22: 0.186 | D22: 0.15 | E22: 0.01 | F22: 0.0039 | G22: 0.0012 | H22: 0.02
A23: Oktober bis Dezember 2020 | B23: 0.13 | C23: 0.186 | D23: 0.15 | E23: 0.01 | F23: 0.0039 | G23: 0.0006 | H23: 0.02
A24: Januar bis September 2020 | B24: 0.13 | C24: 0.186 | D24: 0.15 | E24: 0.009 | F24: 0.0019 | G24: 0.0006 | H24: 0.02
A25: Juni bis Dezember 2019 | B25: 0.13 | C25: 0.186 | D25: 0.15 | E25: 0.009 | F25: 0.0019 | G25: 0.0006 | H25: 0.02
A26: Januar bis Mai 2019 | B26: 0.13 | C26: 0.186 | D26: 0.15 | E26: 0.009 | F26: 0.0024 | G26: 0.0006 | H26: 0.02
A27: Januar bis Dezember 2018 | B27: 0.13 | C27: 0.186 | D27: 0.15 | E27: 0.009 | F27: 0.0024 | G27: 0.0006 | H27: 0.02
A28: leer | B28: 0 | C28: 0 | D28: 0 | E28: 0 | F28: 0 | G28: 0 | H28: 0
A29: MJZ 01/2025
A30: Minijob-Rechner (Excel) Version 1.2 barrierefrei (Stand 5. Mai 2025)
