Workbook
Name Note: '[1]PA-54-Sommer'!$C$42:$D$47

Sheet Prüfungsrechner
B2: Berechnungsschema Abschlussprüfung Kaufmann / Kauffrau für Büromanagement
B4: Hinweis:
B5: Bitte in die gelben Felder die erzielten Punkte eingeben
G6: Bestehensregelung | L6: Ergänzungsprüfung
G7: Teil 1 und 2 | H7: Teil 2
A8: Teil | B8: Gewich- tung | C8: Prüfungsbereiche | D8: Punkt- eingabe (ganzzahlig) | E8: Note | F8: gewichtete Punkte | G8: Gesamtergebnis mindestens ausreichend | H8: Ergebnis mindestens ausreichend | I8: Mindestens zwei Bereiche mit mindestens ausreichend | J8: In keinem Bereich ungenügend | L8: Benötigte Mindest- punktzahl | M8: Gegen- probe | N8: erreichte Punktzahl der mdl. Prüfung
A9: 1 | B9: 0.25 | C9: Informationstechn. Büromana. | E9: =IF(D9="","",VLOOKUP(D9,Hilfstabelle!$A$3:$D$8,3)) | F9: =D9*B9 -> 0
A10: 2 | B10: 0.3 | C10: Kundenbeziehungsprozesse | E10: =IF(D10="","",VLOOKUP(D10,Hilfstabelle!$A$3:$D$8,3)) | F10: =D10*B10 -> 0 | I10: =IF(D10<50,"nicht ausreichend","") -> nicht ausreichend | J10: =IF(D10<30,"ungenügend","") -> ungenügend | K10: =IF(AND(I15=P2,D10<25),"durchgefallen","") | L10: =IF(OR($I$15=Hilfstabelle!$P$3,$J$15=Hilfstabelle!$P$3),"",IF(AND($I$15=Hilfstabelle!$P$2,$J$15=Hilfstabelle!$P$2),($E$21*3)-(D10*2),IF(D10<50,(VLOOKUP(D10,Hilfstabelle!$A$3:$D$8,4)*3)-(D10*2),""))) | M10: =IF(L10="","",(D10*2+L10)/3)
B11: 0.1 | C11: Wirtschafts- u. Sozialkunde | E11: =IF(D11="","",VLOOKUP(D11,Hilfstabelle!$A$3:$D$8,3)) | F11: =D11*B11 -> 0 | I11: =IF(D11<50,"nicht ausreichend","") -> nicht ausreichend | J11: =IF(D11<30,"ungenügend","") -> ungenügend | K11: =IF(D11<25,"durchgefallen","") -> durchgefallen | L11: =IF(OR($I$15=Hilfstabelle!$P$3,$J$15=Hilfstabelle!$P$3),"",IF(AND($I$15=Hilfstabelle!$P$2,$J$15=Hilfstabelle!$P$2),($E$21*3)-(D11*2),IF(D11<50,(VLOOKUP(D11,Hilfstabelle!$A$3:$D$8,4)*3)-(D11*2),""))) | M11: =IF(L11="","",(D11*2+L11)/3)
B12: 0.35 | C12: Wahlqualifikation | E12: =IF(D12="","",VLOOKUP(D12,Hilfstabelle!$A$3:$D$8,3)) | F12: =D12*B12 -> 0 | I12: =IF(D12<50,"nicht ausreichend","") -> nicht ausreichend | J12: =IF(D12<30,"ungenügend","") -> ungenügend | K12: =IF(D12<25,"durchgefallen","") -> durchgefallen
F13: Summe | G13: =ROUND(SUM($F$9:$F$12),0) -> 0 | H13: =ROUND((SUM($F$10:$F$12)*100/75),0) -> 0
F14: Note | G14: =IF(G13="","",VLOOKUP(G13,Hilfstabelle!$A$3:$D$8,3)) -> 6 | H14: =IF(H13="","",VLOOKUP(H13,Hilfstabelle!$A$3:$D$8,3)) -> 6
G15: =IF(G13>=50,Hilfstabelle!$P$1,Hilfstabelle!$P$2) -> û | H15: =IF(H13>=50,Hilfstabelle!$P$1,Hilfstabelle!$P$2) -> û | I15: =IF(COUNTIF(I10:I12,"nicht ausreichend")=2,Hilfstabelle!$P$2,IF(COUNTIF(I10:I12,"nicht ausreichend")=3,Hilfstabelle!$P$3,Hilfstabelle!$P$1)) ->  | J15: =IF(J12="ungenügend",Hilfstabelle!$P$3,IF(COUNTIF(J10:J12,"ungenügend")>=1,IF(COUNTIF(K10:K12,"durchgefallen")>=1,Hilfstabelle!$P$3,Hilfstabelle!$P$2),Hilfstabelle!$P$1)) ->  | L15: =IF(COUNTIF(G15:J15,Hilfstabelle!$P$1)=4,"BESTANDEN",IF(COUNTIF(G15:J15,Hilfstabelle!$P$3)>=1,"NICHT BESTANDEN",IF(COUNT(L10:L11)>0,"Ergänzungsprüfung",IF(AND(G15=Hilfstabelle!$P$2,H15=Hilfstabelle!$P$1,I15=Hilfstabelle!$P$1,J15=Hilfstabelle!$P$1),"Nicht bestanden",IF(AND(H15=Hilfstabelle!$P$2,I15=Hilfstabelle!$P$1,J15=Hilfstabelle!$P$1),"Nicht bestanden","prüfen"))))) -> NICHT BESTANDEN
I16: =IF(I15=Hilfstabelle!$P$3,"durchgefallen","") -> durchgefallen | J16: =IF(J15=Hilfstabelle!$P$3,"durchgefallen","") -> durchgefallen
B19: Notenschlüssel | G19: Nebenrechnung: Ergänzungsprüfung
B20: 0 | C20: ungenügend (6) | G20: Gewichtung | H20: Punkteingaben | I20: Ergebnisse
B21: 30 | C21: mangelhaft (5) | G21: 2 | I21: Schriftl. Prüfungsbereich
B22: 50 | C22: ausreichend (4) | G22: 1 | I22: Mdl. Egänzungsprüfung
B23: 67 | C23: befriedigend (3) | G23: Summe | H23: =(G21*H21)+H22 -> 0 | I23: Zwischenergebnis
B24: 81 | C24: gut (2) | F24: Divisor | G24: =SUM(G21:G22) -> 3 | H24: =ROUND(H23/G24,0) -> 0 | I24: Punkteingabe in Spalte D
B25: 92 | C25: sehr gut (1)
B51: © BIBB Bundesinstitut für Berufsbildung (Hg.): Kaufmann/Kauffrau für Büromanagement. Umsetzungshilfen und Praxistipps. Bielefeld 2014. ISBN: 978-3-7639-5138-3

Sheet Fallbeispiele
B2: Berechnungsschema Abschlußprüfung Kaufmann / Kauffrau für Büromanagement
G4: Bestehensregelung | L4: Ergänzungsprüfung
G5: Teil 1 und 2 | H5: Teil 2
A6: Teil | B6: Gewich- tung | C6: Prüfungsbereiche | D6: Punkt- eingabe (ganzzahlig) | E6: Note | F6: gewichtete Punkte | G6: Gesamtergebnis mindestens ausreichend | H6: Ergebnis mindestens ausreichend | I6: Mindestens zwei Bereiche mit mindestens ausreichend | J6: In keinem Bereich ungenügend | L6: Benötigte Mindest- punktzahl | M6: Gegen- probe | N6: erreichte Punktzahl der mdl. Prüfung
A7: 1 | B7: 0.25 | C7: Informationstechn. Büromana. | D7: 45 | E7: =IF(D7="","",VLOOKUP(D7,Hilfstabelle!$A$3:$D$8,3)) -> 5 | F7: =D7*B7 -> 11.25
A8: 2 | B8: 0.3 | C8: Kundenbeziehungsprozesse | D8: 40 | E8: =IF(D8="","",VLOOKUP(D8,Hilfstabelle!$A$3:$D$8,3)) -> 5 | F8: =D8*B8 -> 12 | I8: =IF(D8<50,"nicht ausreichend","") -> nicht ausreichend | J8: =IF(D8<30,"ungenügend","") | K8: =IF(AND(I13=P2,D8<25),"durchgefallen","") | L8: =IF(OR($I$13=Hilfstabelle!$P$3,$J$13=Hilfstabelle!$P$3),"",IF(AND($I$13=Hilfstabelle!$P$2,$J$13=Hilfstabelle!$P$2),($E$18*3)-(D8*2),IF(D8<50,(VLOOKUP(D8,Hilfstabelle!$A$3:$D$8,4)*3)-(D8*2),""))) -> 70 | M8: =IF(L8="","",(D8*2+L8)/3) -> 50
B9: 0.1 | C9: Wirtschafts- u. Sozialkunde | D9: 50 | E9: =IF(D9="","",VLOOKUP(D9,Hilfstabelle!$A$3:$D$8,3)) -> 4 | F9: =D9*B9 -> 5 | I9: =IF(D9<50,"nicht ausreichend","") | J9: =IF(D9<30,"ungenügend","") | K9: =IF(D9<25,"durchgefallen","") | L9: =IF(OR($I$13=Hilfstabelle!$P$3,$J$13=Hilfstabelle!$P$3),"",IF(AND($I$13=Hilfstabelle!$P$2,$J$13=Hilfstabelle!$P$2),($E$18*3)-(D9*2),IF(D9<50,(VLOOKUP(D9,Hilfstabelle!$A$3:$D$8,4)*3)-(D9*2),""))) | M9: =IF(L9="","",(D9*2+L9)/3)
B10: 0.35 | C10: Wahlqualifikation | D10: 50 | E10: =IF(D10="","",VLOOKUP(D10,Hilfstabelle!$A$3:$D$8,3)) -> 4 | F10: =D10*B10 -> 17.5 | I10: =IF(D10<50,"nicht ausreichend","") | J10: =IF(D10<30,"ungenügend","") | K10: =IF(D10<25,"durchgefallen","")
F11: Summe | G11: =ROUND(SUM($F$7:$F$10),0) -> 46 | H11: =ROUND((SUM($F$8:$F$10)*100/75),0) -> 46
F12: Note | G12: =IF(G11="","",VLOOKUP(G11,Hilfstabelle!$A$3:$D$8,3)) -> 5 | H12: =IF(H11="","",VLOOKUP(H11,Hilfstabelle!$A$3:$D$8,3)) -> 5
G13: =IF(G11>=50,Hilfstabelle!$P$1,Hilfstabelle!$P$2) -> û | H13: =IF(H11>=50,Hilfstabelle!$P$1,Hilfstabelle!$P$2) -> û | I13: =IF(COUNTIF(I8:I10,"nicht ausreichend")=2,Hilfstabelle!$P$2,IF(COUNTIF(I8:I10,"nicht ausreichend")=3,Hilfstabelle!$P$3,Hilfstabelle!$P$1)) -> ü | J13: =IF(J10="ungenügend",Hilfstabelle!$P$3,IF(COUNTIF(J8:J10,"ungenügend")>=1,IF(COUNTIF(K8:K10,"durchgefallen")>=1,Hilfstabelle!$P$3,Hilfstabelle!$P$2),Hilfstabelle!$P$1)) -> ü | L13: =IF(COUNTIF(G13:J13,Hilfstabelle!$P$1)=4,"BESTANDEN",IF(COUNTIF(G13:J13,Hilfstabelle!$P$3)>=1,"NICHT BESTANDEN",IF(COUNT(L8:L9)>0,"Ergänzungsprüfung",IF(AND(G13=Hilfstabelle!$P$2,H13=Hilfstabelle!$P$1,I13=Hilfstabelle!$P$1,J13=Hilfstabelle!$P$1),"Nicht bestanden",IF(AND(H13=Hilfstabelle!$P$2,I13=Hilfstabelle!$P$1,J13=Hilfstabelle!$P$1),"Nicht bestanden","prüfen"))))) -> Ergänzungsprüfung
I14: =IF(I13=Hilfstabelle!$P$3,"durchgefallen","") | J14: =IF(J13=Hilfstabelle!$P$3,"durchgefallen","")
B16: Notenschlüssel | G16: Nebenrechnung: Ergänzungsprüfung
B17: 0 | C17: ungenügend (6) | G17: Gewichtung | H17: Punkteingaben | I17: Ergebnisse
B18: 30 | C18: mangelhaft (5) | G18: 2 | I18: Schriftl. Prüfungsbereich
B19: 50 | C19: ausreichend (4) | G19: 1 | I19: Mdl. Egänzungsprüfung
B20: 67 | C20: befriedigend (3) | G20: Summe | H20: =(G18*H18)+H19 -> 0 | I20: Zwischenergebnis
B21: 81 | C21: gut (2) | F21: Divisor | G21: =SUM(G18:G19) -> 3 | H21: =ROUND(H20/G21,0) -> 0 | I21: Punkteingabe in Spalte D
B22: 92 | C22: sehr gut (1)

Sheet Hilfstabelle
A1: Notenschlüssel | M1: Sonderzeichen für die Beurteilung | P1: ü
A2: Punkte | B2: Note | C2: Noten in Ziffern | D2: Beginn nächste Note | P2: û
A3: 0 | B3: ungenügend (6) | C3: 6 | D3: 30 | P3: 
A4: 30 | B4: mangelhaft (5) | C4: 5 | D4: 50
A5: 50 | B5: ausreichend (4) | C5: 4 | D5: 67
A6: 67 | B6: befriedigend (3) | C6: 3 | D6: 81
A7: 81 | B7: gut (2) | C7: 2 | D7: 92
A8: 92 | B8: sehr gut (1) | C8: 1 | D8: 100
B14: Der Blattschutz der Arbeitsblätter ist ohne Passwort und kann jederzeit entfernt werden!
